Workbook

Sheet Respondent 1
B1: De Haagse Hogeschool
B5: Quick scan co-creatie in het hoger onderwijs
B8: Aan de slag
B9: Wat goed dat jullie je co-creatieproject een boost willen geven door een tussentijdse monitoring van de samenwerking. Het invullen van deze Quick Scan
B10: kan jullie daarbij ondersteunen. De Quick Scan is een praktische tool gebaseerd op een gevalideerde vragenlijst (De Hei, & Audenaerde, submitted) om
B11: co-creatieprocessen te optimaliseren. Co-creatie is een samenwerkingsproces waarbij studenten, docenten en partijen buiten de hogeschool/universiteit
B12: met elkaar werken om innovatieve producten, processen of kennis te ontwikkelen.
B13: Download alsjeblieft eerst deze file voordat je hem met de groep gaat invullen!
B14: Jij en de andere deelnemers vullen de vragenlijst elk in op een eigen tabblad. Je spreekt vooraf af wie welk tabblad invult. Dit kun je doen tijdens een
B15: bijeenkomst of tussen twee bijeenkomsten in. Bij het invullen van de Quick Scan, houd dan in gedachten hoe jullie groep functioneert en hoe je denkt dat
B16: de groepsleden het groepsproces ervaren. De resultaten van de groep vind je op het tabblad “eindscore”. Daar kun je ook lezen hoe je die resultaten
B17: kunt interpreteren en wat een volgende stap is.
... B28: 4 = geheel eens
E33: Antwoord | G33: Eindscore: | H33: Individueel
B34: Positieve wederzijdse afhankelijkheid | H34: abs. | I34: gemidd.
C35: 1. Voor informatie en advies zijn we van elkaar afhankelijk. | O35: =IF(OR(E35<1, E35>4), "Alleen de antwoordmogelijkheden 1, 2, 3 of 4 zijn mogelijk.","") -> Alleen de antwoordmogelijkheden 1, 2, 3 of 4 zijn mogelijk.
C36: 2. Als mijn groepsleden hun taken succesvol uitvoeren, heeft dat een positieve invloed op het werk van de groep. | G36: =B34 -> Positieve wederzijdse afhankelijkheid | H36: =SUM(E35:E38) -> 0 | I36: =H36/4 -> 0 | O36: =IF(OR(E36<1, E36>4), "Alleen de antwoordmogelijkheden 1, 2, 3 of 4 zijn mogelijk.","") -> Alleen de antwoordmogelijkheden 1, 2, 3 of 4 zijn mogelijk.
C37: 3. In onze groep hebben we elkaar nodig om aan onze doelen te werken. | G37: =B40 -> Individuele verantwoordelijkheid | H37: =E41+K42+L42+M42+N42+E43 -> 0 | I37: =H37/3 -> 0 | O37: =IF(OR(E37<1, E37>4), "Alleen de antwoordmogelijkheden 1, 2, 3 of 4 zijn mogelijk.","") -> Alleen de antwoordmogelijkheden 1, 2, 3 of 4 zijn mogelijk.
C38: 4. In onze groep zijn we afhankelijk van elkaar om succesvol te kunnen zijn. | G38: =B45 -> Interactie | H38: =SUM(E46:E48) -> 0 | I38: =H38/3 -> 0 | O38: =IF(OR(E38<1, E38>4), "Alleen de antwoordmogelijkheden 1, 2, 3 of 4 zijn mogelijk.","") -> Alleen de antwoordmogelijkheden 1, 2, 3 of 4 zijn mogelijk.
G39: =B50 -> Groepsevaluatie | H39: =SUM(E51:E53) -> 0 | I39: =H39/3 -> 0
B40: Individuele verantwoordelijkheid | G40: =B55 -> Gedeelde mentale modellen | H40: =SUM(E56:E60) -> 0 | I40: =H40/5 -> 0
C41: 1. In onze groep draagt iedereen evenveel bij aan het project. | G41: =B62 -> Een veilige en ondersteunende omgeving | H41: =SUM(E63:E71) -> 0 | I41: =H41/9 -> 0 | O41: =IF(OR(E41<1, E41>4), "Alleen de antwoordmogelijkheden 1, 2, 3 of 4 zijn mogelijk.","") -> Alleen de antwoordmogelijkheden 1, 2, 3 of 4 zijn mogelijk.
C42: 2. In onze groep is er tenminste een groepslid dat meestal het werk aan anderen overlaat. | G42: =B73 -> Creatieve community | H42: =SUM(E74:E80) -> 0 | I42: =H42/7 -> 0 | K42: =IF(E42=4,1,0) -> 0 | L42: =IF(E42=3,2,0) -> 0 | M42: =IF(E42=2,3,0) -> 0 | N42: =IF(E42=1,4,0) -> 0 | O42: =IF(OR(E42<1, E42>4), "Alleen de antwoordmogelijkheden 1, 2, 3 of 4 zijn mogelijk.","") -> Alleen de antwoordmogelijkheden 1, 2, 3 of 4 zijn mogelijk.
C43: 3. Iedereen in de groep wil graag bijdragen aan het project. | G43: Totaal | H43: =SUM(H36:H42) -> 0 | I43: =SUM(I36:I42)/7 -> 0 | O43: =IF(OR(E43<1, E43>4), "Alleen de antwoordmogelijkheden 1, 2, 3 of 4 zijn mogelijk.","") -> Alleen de antwoordmogelijkheden 1, 2, 3 of 4 zijn mogelijk.
B45: Interactie
C46: 1. In onze groep is er ruimte voor de mening van elk groepslid. | O46: =IF(OR(E46<1, E46>4), "Alleen de antwoordmogelijkheden 1, 2, 3 of 4 zijn mogelijk.","") -> Alleen de antwoordmogelijkheden 1, 2, 3 of 4 zijn mogelijk.
C47: 2. Problemen en lastige onderwerpen worden besproken en niet vermeden in onze gesprekken. | O47: =IF(OR(E47<1, E47>4), "Alleen de antwoordmogelijkheden 1, 2, 3 of 4 zijn mogelijk.","") -> Alleen de antwoordmogelijkheden 1, 2, 3 of 4 zijn mogelijk.
C48: 3. In het werken met deze groep worden mijn unieke kennis, vaardigheden en talenten gewaardeerd en gebruikt. | O48: =IF(OR(E48<1, E48>4), "Alleen de antwoordmogelijkheden 1, 2, 3 of 4 zijn mogelijk.","") -> Alleen de antwoordmogelijkheden 1, 2, 3 of 4 zijn mogelijk.
B50: Groepsevaluatie
C51: 1. We nemen regelmatig de tijd om uit te zoeken hoe we het groepsproces kunnen verbeteren. | O51: =IF(OR(E51<1, E51>4), "Alleen de antwoordmogelijkheden 1, 2, 3 of 4 zijn mogelijk.","") -> Alleen de antwoordmogelijkheden 1, 2, 3 of 4 zijn mogelijk.
C52: 2. In deze groep is er telkens iemand die ervoor zorgt dat we even de tijd nemen om te reflecteren op het groepsproces. | O52: =IF(OR(E52<1, E52>4), "Alleen de antwoordmogelijkheden 1, 2, 3 of 4 zijn mogelijk.","") -> Alleen de antwoordmogelijkheden 1, 2, 3 of 4 zijn mogelijk.
C53: 3. We zijn het er als groep over eens dat het belangrijk is om het groepsproces te evalueren. | O53: =IF(OR(E53<1, E53>4), "Alleen de antwoordmogelijkheden 1, 2, 3 of 4 zijn mogelijk.","") -> Alleen de antwoordmogelijkheden 1, 2, 3 of 4 zijn mogelijk.
B55: Gedeelde mentale modellen
C56: 1. Vanaf het begin was het duidelijk wat we als groep wilden bereiken. | O56: =IF(OR(E56<1, E56>4), "Alleen de antwoordmogelijkheden 1, 2, 3 of 4 zijn mogelijk.","") -> Alleen de antwoordmogelijkheden 1, 2, 3 of 4 zijn mogelijk.
C57: 2. Groepsleden begrijpen wat van hen verwacht wordt in hun rol als groepslid. | O57: =IF(OR(E57<1, E57>4), "Alleen de antwoordmogelijkheden 1, 2, 3 of 4 zijn mogelijk.","") -> Alleen de antwoordmogelijkheden 1, 2, 3 of 4 zijn mogelijk.
C58: 3. Kort na de start had de groep een gezamenlijk idee over welke taak we moesten volbrengen. | O58: =IF(OR(E58<1, E58>4), "Alleen de antwoordmogelijkheden 1, 2, 3 of 4 zijn mogelijk.","") -> Alleen de antwoordmogelijkheden 1, 2, 3 of 4 zijn mogelijk.
C59: 4. Kort na de start had de groep een gezamenlijk idee over hoe we die taak zouden gaan uitvoeren. | O59: =IF(OR(E59<1, E59>4), "Alleen de antwoordmogelijkheden 1, 2, 3 of 4 zijn mogelijk.","") -> Alleen de antwoordmogelijkheden 1, 2, 3 of 4 zijn mogelijk.
C60: 5. De groepsleden zijn gericht op het bereiken van de doelen die we gezamenlijk hebben. | O60: =IF(OR(E60<1, E60>4), "Alleen de antwoordmogelijkheden 1, 2, 3 of 4 zijn mogelijk.","") -> Alleen de antwoordmogelijkheden 1, 2, 3 of 4 zijn mogelijk.
B62: Een veilige en ondersteunende omgeving
C63: 1. Het voelt veilig om successen te delen in deze groep. | O63: =IF(OR(E63<1, E63>4), "Alleen de antwoordmogelijkheden 1, 2, 3 of 4 zijn mogelijk.","") -> Alleen de antwoordmogelijkheden 1, 2, 3 of 4 zijn mogelijk.
...

Sheet Respondent 2
B1: De Haagse Hogeschool
B5: Quick scan co-creatie in het hoger onderwijs
B8: Aan de slag
B9: Wat goed dat jullie je co-creatieproject een boost willen geven door een tussentijdse monitoring van de samenwerking. Het invullen van deze Quick Scan
B10: kan jullie daarbij ondersteunen. De Quick Scan is een praktische tool gebaseerd op een gevalideerde vragenlijst (De Hei, & Audenaerde, submitted) om
B11: co-creatieprocessen te optimaliseren. Co-creatie is een samenwerkingsproces waarbij studenten, docenten en partijen buiten de hogeschool/universiteit
B12: met elkaar werken om innovatieve producten, processen of kennis te ontwikkelen.
B13: Download alsjeblieft eerst deze file voordat je hem met de groep gaat invullen!
B14: Jij en de andere deelnemers vullen de vragenlijst elk in op een eigen tabblad. Je spreekt vooraf af wie welk tabblad invult. Dit kun je doen tijdens een
B15: bijeenkomst of tussen twee bijeenkomsten in. Bij het invullen van de Quick Scan, houd dan in gedachten hoe jullie groep functioneert en hoe je denkt dat
B16: de groepsleden het groepsproces ervaren. De resultaten van de groep vind je op het tabblad “eindscore”. Daar kun je ook lezen hoe je die resultaten
B17: kunt interpreteren en wat een volgende stap is.
... B28: 4 = geheel eens
E33: Antwoord | G33: Eindscore: | H33: Individueel
B34: Positieve wederzijdse afhankelijkheid | H34: abs. | I34: gemidd.
C35: 1. Voor informatie en advies zijn we van elkaar afhankelijk. | O35: =IF(OR(E35<1, E35>4), "Alleen de antwoordmogelijkheden 1, 2, 3 of 4 zijn mogelijk.","") -> Alleen de antwoordmogelijkheden 1, 2, 3 of 4 zijn mogelijk.
C36: 2. Als mijn groepsleden hun taken succesvol uitvoeren, heeft dat een positieve invloed op het werk van de groep. | G36: =B34 -> Positieve wederzijdse afhankelijkheid | H36: =SUM(E35:E38) -> 0 | I36: =H36/4 -> 0 | O36: =IF(OR(E36<1, E36>4), "Alleen de antwoordmogelijkheden 1, 2, 3 of 4 zijn mogelijk.","") -> Alleen de antwoordmogelijkheden 1, 2, 3 of 4 zijn mogelijk.
C37: 3. In onze groep hebben we elkaar nodig om aan onze doelen te werken. | G37: =B40 -> Individuele verantwoordelijkheid | H37: =E41+K42+L42+M42+N42+E43 -> 0 | I37: =H37/3 -> 0 | O37: =IF(OR(E37<1, E37>4), "Alleen de antwoordmogelijkheden 1, 2, 3 of 4 zijn mogelijk.","") -> Alleen de antwoordmogelijkheden 1, 2, 3 of 4 zijn mogelijk.
C38: 4. In onze groep zijn we afhankelijk van elkaar om succesvol te kunnen zijn. | G38: =B45 -> Interactie | H38: =SUM(E46:E48) -> 0 | I38: =H38/3 -> 0 | O38: =IF(OR(E38<1, E38>4), "Alleen de antwoordmogelijkheden 1, 2, 3 of 4 zijn mogelijk.","") -> Alleen de antwoordmogelijkheden 1, 2, 3 of 4 zijn mogelijk.
G39: =B50 -> Groepsevaluatie | H39: =SUM(E51:E53) -> 0 | I39: =H39/3 -> 0
B40: Individuele verantwoordelijkheid | G40: =B55 -> Gedeelde mentale modellen | H40: =SUM(E56:E60) -> 0 | I40: =H40/5 -> 0
C41: 1. In onze groep draagt iedereen evenveel bij aan het project. | G41: =B62 -> Een veilige en ondersteunende omgeving | H41: =SUM(E63:E71) -> 0 | I41: =H41/9 -> 0 | O41: =IF(OR(E41<1, E41>4), "Alleen de antwoordmogelijkheden 1, 2, 3 of 4 zijn mogelijk.","") -> Alleen de antwoordmogelijkheden 1, 2, 3 of 4 zijn mogelijk.
C42: 2. In onze groep is er tenminste een groepslid dat meestal het werk aan anderen overlaat. | G42: =B73 -> Creatieve community | H42: =SUM(E74:E80) -> 0 | I42: =H42/7 -> 0 | K42: =IF(E42=4,1,0) -> 0 | L42: =IF(E42=3,2,0) -> 0 | M42: =IF(E42=2,3,0) -> 0 | N42: =IF(E42=1,4,0) -> 0 | O42: =IF(OR(E42<1, E42>4), "Alleen de antwoordmogelijkheden 1, 2, 3 of 4 zijn mogelijk.","") -> Alleen de antwoordmogelijkheden 1, 2, 3 of 4 zijn mogelijk.
C43: 3. Iedereen in de groep wil graag bijdragen aan het project. | G43: Totaal | H43: =SUM(H36:H42) -> 0 | I43: =SUM(I36:I42)/7 -> 0 | O43: =IF(OR(E43<1, E43>4), "Alleen de antwoordmogelijkheden 1, 2, 3 of 4 zijn mogelijk.","") -> Alleen de antwoordmogelijkheden 1, 2, 3 of 4 zijn mogelijk.
B45: Interactie
C46: 1. In onze groep is er ruimte voor de mening van elk groepslid. | O46: =IF(OR(E46<1, E46>4), "Alleen de antwoordmogelijkheden 1, 2, 3 of 4 zijn mogelijk.","") -> Alleen de antwoordmogelijkheden 1, 2, 3 of 4 zijn mogelijk.
C47: 2. Problemen en lastige onderwerpen worden besproken en niet vermeden in onze gesprekken. | O47: =IF(OR(E47<1, E47>4), "Alleen de antwoordmogelijkheden 1, 2, 3 of 4 zijn mogelijk.","") -> Alleen de antwoordmogelijkheden 1, 2, 3 of 4 zijn mogelijk.
C48: 3. In het werken met deze groep worden mijn unieke kennis, vaardigheden en talenten gewaardeerd en gebruikt. | O48: =IF(OR(E48<1, E48>4), "Alleen de antwoordmogelijkheden 1, 2, 3 of 4 zijn mogelijk.","") -> Alleen de antwoordmogelijkheden 1, 2, 3 of 4 zijn mogelijk.
B50: Groepsevaluatie
C51: 1. We nemen regelmatig de tijd om uit te zoeken hoe we het groepsproces kunnen verbeteren. | O51: =IF(OR(E51<1, E51>4), "Alleen de antwoordmogelijkheden 1, 2, 3 of 4 zijn mogelijk.","") -> Alleen de antwoordmogelijkheden 1, 2, 3 of 4 zijn mogelijk.
C52: 2. In deze groep is er telkens iemand die ervoor zorgt dat we even de tijd nemen om te reflecteren op het groepsproces. | O52: =IF(OR(E52<1, E52>4), "Alleen de antwoordmogelijkheden 1, 2, 3 of 4 zijn mogelijk.","") -> Alleen de antwoordmogelijkheden 1, 2, 3 of 4 zijn mogelijk.
C53: 3. We zijn het er als groep over eens dat het belangrijk is om het groepsproces te evalueren. | O53: =IF(OR(E53<1, E53>4), "Alleen de antwoordmogelijkheden 1, 2, 3 of 4 zijn mogelijk.","") -> Alleen de antwoordmogelijkheden 1, 2, 3 of 4 zijn mogelijk.
B55: Gedeelde mentale modellen
C56: 1. Vanaf het begin was het duidelijk wat we als groep wilden bereiken. | O56: =IF(OR(E56<1, E56>4), "Alleen de antwoordmogelijkheden 1, 2, 3 of 4 zijn mogelijk.","") -> Alleen de antwoordmogelijkheden 1, 2, 3 of 4 zijn mogelijk.
C57: 2. Groepsleden begrijpen wat van hen verwacht wordt in hun rol als groepslid. | O57: =IF(OR(E57<1, E57>4), "Alleen de antwoordmogelijkheden 1, 2, 3 of 4 zijn mogelijk.","") -> Alleen de antwoordmogelijkheden 1, 2, 3 of 4 zijn mogelijk.
C58: 3. Kort na de start had de groep een gezamenlijk idee over welke taak we moesten volbrengen. | O58: =IF(OR(E58<1, E58>4), "Alleen de antwoordmogelijkheden 1, 2, 3 of 4 zijn mogelijk.","") -> Alleen de antwoordmogelijkheden 1, 2, 3 of 4 zijn mogelijk.
C59: 4. Kort na de start had de groep een gezamenlijk idee over hoe we die taak zouden gaan uitvoeren. | O59: =IF(OR(E59<1, E59>4), "Alleen de antwoordmogelijkheden 1, 2, 3 of 4 zijn mogelijk.","") -> Alleen de antwoordmogelijkheden 1, 2, 3 of 4 zijn mogelijk.
C60: 5. De groepsleden zijn gericht op het bereiken van de doelen die we gezamenlijk hebben. | O60: =IF(OR(E60<1, E60>4), "Alleen de antwoordmogelijkheden 1, 2, 3 of 4 zijn mogelijk.","") -> Alleen de antwoordmogelijkheden 1, 2, 3 of 4 zijn mogelijk.
B62: Een veilige en ondersteunende omgeving
C63: 1. Het voelt veilig om successen te delen in deze groep. | O63: =IF(OR(E63<1, E63>4), "Alleen de antwoordmogelijkheden 1, 2, 3 of 4 zijn mogelijk.","") -> Alleen de antwoordmogelijkheden 1, 2, 3 of 4 zijn mogelijk.
...

Sheet Respondent 3
B1: De Haagse Hogeschool
B5: Quick scan co-creatie in het hoger onderwijs
B8: Aan de slag
B9: Wat goed dat jullie je co-creatieproject een boost willen geven door een tussentijdse monitoring van de samenwerking. Het invullen van deze Quick Scan
B10: kan jullie daarbij ondersteunen. De Quick Scan is een praktische tool gebaseerd op een gevalideerde vragenlijst (De Hei, & Audenaerde, submitted) om
B11: co-creatieprocessen te optimaliseren. Co-creatie is een samenwerkingsproces waarbij studenten, docenten en partijen buiten de hogeschool/universiteit
B12: met elkaar werken om innovatieve producten, processen of kennis te ontwikkelen.
B13: Download alsjeblieft eerst deze file voordat je hem met de groep gaat invullen!
B14: Jij en de andere deelnemers vullen de vragenlijst elk in op een eigen tabblad. Je spreekt vooraf af wie welk tabblad invult. Dit kun je doen tijdens een
B15: bijeenkomst of tussen twee bijeenkomsten in. Bij het invullen van de Quick Scan, houd dan in gedachten hoe jullie groep functioneert en hoe je denkt dat
B16: de groepsleden het groepsproces ervaren. De resultaten van de groep vind je op het tabblad “eindscore”. Daar kun je ook lezen hoe je die resultaten
B17: kunt interpreteren en wat een volgende stap is.
... B28: 4 = geheel eens
E33: Antwoord | G33: Eindscore: | H33: Individueel
B34: Positieve wederzijdse afhankelijkheid | H34: abs. | I34: gemidd.
C35: 1. Voor informatie en advies zijn we van elkaar afhankelijk. | O35: =IF(OR(E35<1, E35>4), "Alleen de antwoordmogelijkheden 1, 2, 3 of 4 zijn mogelijk.","") -> Alleen de antwoordmogelijkheden 1, 2, 3 of 4 zijn mogelijk.
C36: 2. Als mijn groepsleden hun taken succesvol uitvoeren, heeft dat een positieve invloed op het werk van de groep. | G36: =B34 -> Positieve wederzijdse afhankelijkheid | H36: =SUM(E35:E38) -> 0 | I36: =H36/4 -> 0 | O36: =IF(OR(E36<1, E36>4), "Alleen de antwoordmogelijkheden 1, 2, 3 of 4 zijn mogelijk.","") -> Alleen de antwoordmogelijkheden 1, 2, 3 of 4 zijn mogelijk.
C37: 3. In onze groep hebben we elkaar nodig om aan onze doelen te werken. | G37: =B40 -> Individuele verantwoordelijkheid | H37: =E41+K42+L42+M42+N42+E43 -> 0 | I37: =H37/3 -> 0 | O37: =IF(OR(E37<1, E37>4), "Alleen de antwoordmogelijkheden 1, 2, 3 of 4 zijn mogelijk.","") -> Alleen de antwoordmogelijkheden 1, 2, 3 of 4 zijn mogelijk.
C38: 4. In onze groep zijn we afhankelijk van elkaar om succesvol te kunnen zijn. | G38: =B45 -> Interactie | H38: =SUM(E46:E48) -> 0 | I38: =H38/3 -> 0 | O38: =IF(OR(E38<1, E38>4), "Alleen de antwoordmogelijkheden 1, 2, 3 of 4 zijn mogelijk.","") -> Alleen de antwoordmogelijkheden 1, 2, 3 of 4 zijn mogelijk.
G39: =B50 -> Groepsevaluatie | H39: =SUM(E51:E53) -> 0 | I39: =H39/3 -> 0
B40: Individuele verantwoordelijkheid | G40: =B55 -> Gedeelde mentale modellen | H40: =SUM(E56:E60) -> 0 | I40: =H40/5 -> 0
C41: 1. In onze groep draagt iedereen evenveel bij aan het project. | G41: =B62 -> Een veilige en ondersteunende omgeving | H41: =SUM(E63:E71) -> 0 | I41: =H41/9 -> 0 | O41: =IF(OR(E41<1, E41>4), "Alleen de antwoordmogelijkheden 1, 2, 3 of 4 zijn mogelijk.","") -> Alleen de antwoordmogelijkheden 1, 2, 3 of 4 zijn mogelijk.
C42: 2. In onze groep is er tenminste een groepslid dat meestal het werk aan anderen overlaat. | G42: =B73 -> Creatieve community | H42: =SUM(E74:E80) -> 0 | I42: =H42/7 -> 0 | K42: =IF(E42=4,1,0) -> 0 | L42: =IF(E42=3,2,0) -> 0 | M42: =IF(E42=2,3,0) -> 0 | N42: =IF(E42=1,4,0) -> 0 | O42: =IF(OR(E42<1, E42>4), "Alleen de antwoordmogelijkheden 1, 2, 3 of 4 zijn mogelijk.","") -> Alleen de antwoordmogelijkheden 1, 2, 3 of 4 zijn mogelijk.
C43: 3. Iedereen in de groep wil graag bijdragen aan het project. | G43: Totaal | H43: =SUM(H36:H42) -> 0 | I43: =SUM(I36:I42)/7 -> 0 | O43: =IF(OR(E43<1, E43>4), "Alleen de antwoordmogelijkheden 1, 2, 3 of 4 zijn mogelijk.","") -> Alleen de antwoordmogelijkheden 1, 2, 3 of 4 zijn mogelijk.
B45: Interactie
C46: 1. In onze groep is er ruimte voor de mening van elk groepslid. | O46: =IF(OR(E46<1, E46>4), "Alleen de antwoordmogelijkheden 1, 2, 3 of 4 zijn mogelijk.","") -> Alleen de antwoordmogelijkheden 1, 2, 3 of 4 zijn mogelijk.
C47: 2. Problemen en lastige onderwerpen worden besproken en niet vermeden in onze gesprekken. | O47: =IF(OR(E47<1, E47>4), "Alleen de antwoordmogelijkheden 1, 2, 3 of 4 zijn mogelijk.","") -> Alleen de antwoordmogelijkheden 1, 2, 3 of 4 zijn mogelijk.
C48: 3. In het werken met deze groep worden mijn unieke kennis, vaardigheden en talenten gewaardeerd en gebruikt. | O48: =IF(OR(E48<1, E48>4), "Alleen de antwoordmogelijkheden 1, 2, 3 of 4 zijn mogelijk.","") -> Alleen de antwoordmogelijkheden 1, 2, 3 of 4 zijn mogelijk.
B50: Groepsevaluatie
C51: 1. We nemen regelmatig de tijd om uit te zoeken hoe we het groepsproces kunnen verbeteren. | O51: =IF(OR(E51<1, E51>4), "Alleen de antwoordmogelijkheden 1, 2, 3 of 4 zijn mogelijk.","") -> Alleen de antwoordmogelijkheden 1, 2, 3 of 4 zijn mogelijk.
C52: 2. In deze groep is er telkens iemand die ervoor zorgt dat we even de tijd nemen om te reflecteren op het groepsproces. | O52: =IF(OR(E52<1, E52>4), "Alleen de antwoordmogelijkheden 1, 2, 3 of 4 zijn mogelijk.","") -> Alleen de antwoordmogelijkheden 1, 2, 3 of 4 zijn mogelijk.
C53: 3. We zijn het er als groep over eens dat het belangrijk is om het groepsproces te evalueren. | O53: =IF(OR(E53<1, E53>4), "Alleen de antwoordmogelijkheden 1, 2, 3 of 4 zijn mogelijk.","") -> Alleen de antwoordmogelijkheden 1, 2, 3 of 4 zijn mogelijk.
B55: Gedeelde mentale modellen
C56: 1. Vanaf het begin was het duidelijk wat we als groep wilden bereiken. | O56: =IF(OR(E56<1, E56>4), "Alleen de antwoordmogelijkheden 1, 2, 3 of 4 zijn mogelijk.","") -> Alleen de antwoordmogelijkheden 1, 2, 3 of 4 zijn mogelijk.
C57: 2. Groepsleden begrijpen wat van hen verwacht wordt in hun rol als groepslid. | O57: =IF(OR(E57<1, E57>4), "Alleen de antwoordmogelijkheden 1, 2, 3 of 4 zijn mogelijk.","") -> Alleen de antwoordmogelijkheden 1, 2, 3 of 4 zijn mogelijk.
C58: 3. Kort na de start had de groep een gezamenlijk idee over welke taak we moesten volbrengen. | O58: =IF(OR(E58<1, E58>4), "Alleen de antwoordmogelijkheden 1, 2, 3 of 4 zijn mogelijk.","") -> Alleen de antwoordmogelijkheden 1, 2, 3 of 4 zijn mogelijk.
C59: 4. Kort na de start had de groep een gezamenlijk idee over hoe we die taak zouden gaan uitvoeren. | O59: =IF(OR(E59<1, E59>4), "Alleen de antwoordmogelijkheden 1, 2, 3 of 4 zijn mogelijk.","") -> Alleen de antwoordmogelijkheden 1, 2, 3 of 4 zijn mogelijk.
C60: 5. De groepsleden zijn gericht op het bereiken van de doelen die we gezamenlijk hebben. | O60: =IF(OR(E60<1, E60>4), "Alleen de antwoordmogelijkheden 1, 2, 3 of 4 zijn mogelijk.","") -> Alleen de antwoordmogelijkheden 1, 2, 3 of 4 zijn mogelijk.
B62: Een veilige en ondersteunende omgeving
C63: 1. Het voelt veilig om successen te delen in deze groep. | O63: =IF(OR(E63<1, E63>4), "Alleen de antwoordmogelijkheden 1, 2, 3 of 4 zijn mogelijk.","") -> Alleen de antwoordmogelijkheden 1, 2, 3 of 4 zijn mogelijk.
...

Sheet Respondent 4
B1: De Haagse Hogeschool
B5: Quick scan co-creatie in het hoger onderwijs
B8: Aan de slag
B9: Wat goed dat jullie je co-creatieproject een boost willen geven door een tussentijdse monitoring van de samenwerking. Het invullen van deze Quick Scan
B10: kan jullie daarbij ondersteunen. De Quick Scan is een praktische tool gebaseerd op een gevalideerde vragenlijst (De Hei, & Audenaerde, submitted) om
B11: co-creatieprocessen te optimaliseren. Co-creatie is een samenwerkingsproces waarbij studenten, docenten en partijen buiten de hogeschool/universiteit
B12: met elkaar werken om innovatieve producten, processen of kennis te ontwikkelen.
B13: Download alsjeblieft eerst deze file voordat je hem met de groep gaat invullen!
B14: Jij en de andere deelnemers vullen de vragenlijst elk in op een eigen tabblad. Je spreekt vooraf af wie welk tabblad invult. Dit kun je doen tijdens een
B15: bijeenkomst of tussen twee bijeenkomsten in. Bij het invullen van de Quick Scan, houd dan in gedachten hoe jullie groep functioneert en hoe je denkt dat
B16: de groepsleden het groepsproces ervaren. De resultaten van de groep vind je op het tabblad “eindscore”. Daar kun je ook lezen hoe je die resultaten
B17: kunt interpreteren en wat een volgende stap is.
... B28: 4 = geheel eens
E33: Antwoord | G33: Eindscore: | H33: Individueel
B34: Positieve wederzijdse afhankelijkheid | H34: abs. | I34: gemidd.
C35: 1. Voor informatie en advies zijn we van elkaar afhankelijk. | O35: =IF(OR(E35<1, E35>4), "Alleen de antwoordmogelijkheden 1, 2, 3 of 4 zijn mogelijk.","") -> Alleen de antwoordmogelijkheden 1, 2, 3 of 4 zijn mogelijk.
C36: 2. Als mijn groepsleden hun taken succesvol uitvoeren, heeft dat een positieve invloed op het werk van de groep. | G36: =B34 -> Positieve wederzijdse afhankelijkheid | H36: =SUM(E35:E38) -> 0 | I36: =H36/4 -> 0 | O36: =IF(OR(E36<1, E36>4), "Alleen de antwoordmogelijkheden 1, 2, 3 of 4 zijn mogelijk.","") -> Alleen de antwoordmogelijkheden 1, 2, 3 of 4 zijn mogelijk.
C37: 3. In onze groep hebben we elkaar nodig om aan onze doelen te werken. | G37: =B40 -> Individuele verantwoordelijkheid | H37: =E41+K42+L42+M42+N42+E43 -> 0 | I37: =H37/3 -> 0 | O37: =IF(OR(E37<1, E37>4), "Alleen de antwoordmogelijkheden 1, 2, 3 of 4 zijn mogelijk.","") -> Alleen de antwoordmogelijkheden 1, 2, 3 of 4 zijn mogelijk.
C38: 4. In onze groep zijn we afhankelijk van elkaar om succesvol te kunnen zijn. | G38: =B45 -> Interactie | H38: =SUM(E46:E48) -> 0 | I38: =H38/3 -> 0 | O38: =IF(OR(E38<1, E38>4), "Alleen de antwoordmogelijkheden 1, 2, 3 of 4 zijn mogelijk.","") -> Alleen de antwoordmogelijkheden 1, 2, 3 of 4 zijn mogelijk.
G39: =B50 -> Groepsevaluatie | H39: =SUM(E51:E53) -> 0 | I39: =H39/3 -> 0
B40: Individuele verantwoordelijkheid | G40: =B55 -> Gedeelde mentale modellen | H40: =SUM(E56:E60) -> 0 | I40: =H40/5 -> 0
C41: 1. In onze groep draagt iedereen evenveel bij aan het project. | G41: =B62 -> Een veilige en ondersteunende omgeving | H41: =SUM(E63:E71) -> 0 | I41: =H41/9 -> 0 | O41: =IF(OR(E41<1, E41>4), "Alleen de antwoordmogelijkheden 1, 2, 3 of 4 zijn mogelijk.","") -> Alleen de antwoordmogelijkheden 1, 2, 3 of 4 zijn mogelijk.
C42: 2. In onze groep is er tenminste een groepslid dat meestal het werk aan anderen overlaat. | G42: =B73 -> Creatieve community | H42: =SUM(E74:E80) -> 0 | I42: =H42/7 -> 0 | K42: =IF(E42=4,1,0) -> 0 | L42: =IF(E42=3,2,0) -> 0 | M42: =IF(E42=2,3,0) -> 0 | N42: =IF(E42=1,4,0) -> 0 | O42: =IF(OR(E42<1, E42>4), "Alleen de antwoordmogelijkheden 1, 2, 3 of 4 zijn mogelijk.","") -> Alleen de antwoordmogelijkheden 1, 2, 3 of 4 zijn mogelijk.
C43: 3. Iedereen in de groep wil graag bijdragen aan het project. | G43: Totaal | H43: =SUM(H36:H42) -> 0 | I43: =SUM(I36:I42)/7 -> 0 | O43: =IF(OR(E43<1, E43>4), "Alleen de antwoordmogelijkheden 1, 2, 3 of 4 zijn mogelijk.","") -> Alleen de antwoordmogelijkheden 1, 2, 3 of 4 zijn mogelijk.
B45: Interactie
C46: 1. In onze groep is er ruimte voor de mening van elk groepslid. | O46: =IF(OR(E46<1, E46>4), "Alleen de antwoordmogelijkheden 1, 2, 3 of 4 zijn mogelijk.","") -> Alleen de antwoordmogelijkheden 1, 2, 3 of 4 zijn mogelijk.
C47: 2. Problemen en lastige onderwerpen worden besproken en niet vermeden in onze gesprekken. | O47: =IF(OR(E47<1, E47>4), "Alleen de antwoordmogelijkheden 1, 2, 3 of 4 zijn mogelijk.","") -> Alleen de antwoordmogelijkheden 1, 2, 3 of 4 zijn mogelijk.
C48: 3. In het werken met deze groep worden mijn unieke kennis, vaardigheden en talenten gewaardeerd en gebruikt. | O48: =IF(OR(E48<1, E48>4), "Alleen de antwoordmogelijkheden 1, 2, 3 of 4 zijn mogelijk.","") -> Alleen de antwoordmogelijkheden 1, 2, 3 of 4 zijn mogelijk.
B50: Groepsevaluatie
C51: 1. We nemen regelmatig de tijd om uit te zoeken hoe we het groepsproces kunnen verbeteren. | O51: =IF(OR(E51<1, E51>4), "Alleen de antwoordmogelijkheden 1, 2, 3 of 4 zijn mogelijk.","") -> Alleen de antwoordmogelijkheden 1, 2, 3 of 4 zijn mogelijk.
C52: 2. In deze groep is er telkens iemand die ervoor zorgt dat we even de tijd nemen om te reflecteren op het groepsproces. | O52: =IF(OR(E52<1, E52>4), "Alleen de antwoordmogelijkheden 1, 2, 3 of 4 zijn mogelijk.","") -> Alleen de antwoordmogelijkheden 1, 2, 3 of 4 zijn mogelijk.
C53: 3. We zijn het er als groep over eens dat het belangrijk is om het groepsproces te evalueren. | O53: =IF(OR(E53<1, E53>4), "Alleen de antwoordmogelijkheden 1, 2, 3 of 4 zijn mogelijk.","") -> Alleen de antwoordmogelijkheden 1, 2, 3 of 4 zijn mogelijk.
B55: Gedeelde mentale modellen
C56: 1. Vanaf het begin was het duidelijk wat we als groep wilden bereiken. | O56: =IF(OR(E56<1, E56>4), "Alleen de antwoordmogelijkheden 1, 2, 3 of 4 zijn mogelijk.","") -> Alleen de antwoordmogelijkheden 1, 2, 3 of 4 zijn mogelijk.
C57: 2. Groepsleden begrijpen wat van hen verwacht wordt in hun rol als groepslid. | O57: =IF(OR(E57<1, E57>4), "Alleen de antwoordmogelijkheden 1, 2, 3 of 4 zijn mogelijk.","") -> Alleen de antwoordmogelijkheden 1, 2, 3 of 4 zijn mogelijk.
C58: 3. Kort na de start had de groep een gezamenlijk idee over welke taak we moesten volbrengen. | O58: =IF(OR(E58<1, E58>4), "Alleen de antwoordmogelijkheden 1, 2, 3 of 4 zijn mogelijk.","") -> Alleen de antwoordmogelijkheden 1, 2, 3 of 4 zijn mogelijk.
C59: 4. Kort na de start had de groep een gezamenlijk idee over hoe we die taak zouden gaan uitvoeren. | O59: =IF(OR(E59<1, E59>4), "Alleen de antwoordmogelijkheden 1, 2, 3 of 4 zijn mogelijk.","") -> Alleen de antwoordmogelijkheden 1, 2, 3 of 4 zijn mogelijk.
C60: 5. De groepsleden zijn gericht op het bereiken van de doelen die we gezamenlijk hebben. | O60: =IF(OR(E60<1, E60>4), "Alleen de antwoordmogelijkheden 1, 2, 3 of 4 zijn mogelijk.","") -> Alleen de antwoordmogelijkheden 1, 2, 3 of 4 zijn mogelijk.
B62: Een veilige en ondersteunende omgeving
C63: 1. Het voelt veilig om successen te delen in deze groep. | O63: =IF(OR(E63<1, E63>4), "Alleen de antwoordmogelijkheden 1, 2, 3 of 4 zijn mogelijk.","") -> Alleen de antwoordmogelijkheden 1, 2, 3 of 4 zijn mogelijk.
...

Sheet Respondent 5
B1: De Haagse Hogeschool
B5: Quick scan co-creatie in het hoger onderwijs
B8: Aan de slag
B9: Wat goed dat jullie je co-creatieproject een boost willen geven door een tussentijdse monitoring van de samenwerking. Het invullen van deze Quick Scan
B10: kan jullie daarbij ondersteunen. De Quick Scan is een praktische tool gebaseerd op een gevalideerde vragenlijst (De Hei, & Audenaerde, submitted) om
B11: co-creatieprocessen te optimaliseren. Co-creatie is een samenwerkingsproces waarbij studenten, docenten en partijen buiten de hogeschool/universiteit
B12: met elkaar werken om innovatieve producten, processen of kennis te ontwikkelen.
B13: Download alsjeblieft eerst deze file voordat je hem met de groep gaat invullen!
B14: Jij en de andere deelnemers vullen de vragenlijst elk in op een eigen tabblad. Je spreekt vooraf af wie welk tabblad invult. Dit kun je doen tijdens een
B15: bijeenkomst of tussen twee bijeenkomsten in. Bij het invullen van de Quick Scan, houd dan in gedachten hoe jullie groep functioneert en hoe je denkt dat
B16: de groepsleden het groepsproces ervaren. De resultaten van de groep vind je op het tabblad “eindscore”. Daar kun je ook lezen hoe je die resultaten
B17: kunt interpreteren en wat een volgende stap is.
... B28: 4 = geheel eens
E33: Antwoord | G33: Eindscore: | H33: Individueel
B34: Positieve wederzijdse afhankelijkheid | H34: abs. | I34: gemidd.
C35: 1. Voor informatie en advies zijn we van elkaar afhankelijk. | O35: =IF(OR(E35<1, E35>4), "Alleen de antwoordmogelijkheden 1, 2, 3 of 4 zijn mogelijk.","") -> Alleen de antwoordmogelijkheden 1, 2, 3 of 4 zijn mogelijk.
C36: 2. Als mijn groepsleden hun taken succesvol uitvoeren, heeft dat een positieve invloed op het werk van de groep. | G36: =B34 -> Positieve wederzijdse afhankelijkheid | H36: =SUM(E35:E38) -> 0 | I36: =H36/4 -> 0 | O36: =IF(OR(E36<1, E36>4), "Alleen de antwoordmogelijkheden 1, 2, 3 of 4 zijn mogelijk.","") -> Alleen de antwoordmogelijkheden 1, 2, 3 of 4 zijn mogelijk.
C37: 3. In onze groep hebben we elkaar nodig om aan onze doelen te werken. | G37: =B40 -> Individuele verantwoordelijkheid | H37: =E41+K42+L42+M42+N42+E43 -> 0 | I37: =H37/3 -> 0 | O37: =IF(OR(E37<1, E37>4), "Alleen de antwoordmogelijkheden 1, 2, 3 of 4 zijn mogelijk.","") -> Alleen de antwoordmogelijkheden 1, 2, 3 of 4 zijn mogelijk.
C38: 4. In onze groep zijn we afhankelijk van elkaar om succesvol te kunnen zijn. | G38: =B45 -> Interactie | H38: =SUM(E46:E48) -> 0 | I38: =H38/3 -> 0 | O38: =IF(OR(E38<1, E38>4), "Alleen de antwoordmogelijkheden 1, 2, 3 of 4 zijn mogelijk.","") -> Alleen de antwoordmogelijkheden 1, 2, 3 of 4 zijn mogelijk.
G39: =B50 -> Groepsevaluatie | H39: =SUM(E51:E53) -> 0 | I39: =H39/3 -> 0
B40: Individuele verantwoordelijkheid | G40: =B55 -> Gedeelde mentale modellen | H40: =SUM(E56:E60) -> 0 | I40: =H40/5 -> 0
C41: 1. In onze groep draagt iedereen evenveel bij aan het project. | G41: =B62 -> Een veilige en ondersteunende omgeving | H41: =SUM(E63:E71) -> 0 | I41: =H41/9 -> 0 | O41: =IF(OR(E41<1, E41>4), "Alleen de antwoordmogelijkheden 1, 2, 3 of 4 zijn mogelijk.","") -> Alleen de antwoordmogelijkheden 1, 2, 3 of 4 zijn mogelijk.
C42: 2. In onze groep is er tenminste een groepslid dat meestal het werk aan anderen overlaat. | G42: =B73 -> Creatieve community | H42: =SUM(E74:E80) -> 0 | I42: =H42/7 -> 0 | K42: =IF(E42=4,1,0) -> 0 | L42: =IF(E42=3,2,0) -> 0 | M42: =IF(E42=2,3,0) -> 0 | N42: =IF(E42=1,4,0) -> 0 | O42: =IF(OR(E42<1, E42>4), "Alleen de antwoordmogelijkheden 1, 2, 3 of 4 zijn mogelijk.","") -> Alleen de antwoordmogelijkheden 1, 2, 3 of 4 zijn mogelijk.
C43: 3. Iedereen in de groep wil graag bijdragen aan het project. | G43: Totaal | H43: =SUM(H36:H42) -> 0 | I43: =SUM(I36:I42)/7 -> 0 | O43: =IF(OR(E43<1, E43>4), "Alleen de antwoordmogelijkheden 1, 2, 3 of 4 zijn mogelijk.","") -> Alleen de antwoordmogelijkheden 1, 2, 3 of 4 zijn mogelijk.
B45: Interactie
C46: 1. In onze groep is er ruimte voor de mening van elk groepslid. | O46: =IF(OR(E46<1, E46>4), "Alleen de antwoordmogelijkheden 1, 2, 3 of 4 zijn mogelijk.","") -> Alleen de antwoordmogelijkheden 1, 2, 3 of 4 zijn mogelijk.
C47: 2. Problemen en lastige onderwerpen worden besproken en niet vermeden in onze gesprekken. | O47: =IF(OR(E47<1, E47>4), "Alleen de antwoordmogelijkheden 1, 2, 3 of 4 zijn mogelijk.","") -> Alleen de antwoordmogelijkheden 1, 2, 3 of 4 zijn mogelijk.
C48: 3. In het werken met deze groep worden mijn unieke kennis, vaardigheden en talenten gewaardeerd en gebruikt. | O48: =IF(OR(E48<1, E48>4), "Alleen de antwoordmogelijkheden 1, 2, 3 of 4 zijn mogelijk.","") -> Alleen de antwoordmogelijkheden 1, 2, 3 of 4 zijn mogelijk.
B50: Groepsevaluatie
C51: 1. We nemen regelmatig de tijd om uit te zoeken hoe we het groepsproces kunnen verbeteren. | O51: =IF(OR(E51<1, E51>4), "Alleen de antwoordmogelijkheden 1, 2, 3 of 4 zijn mogelijk.","") -> Alleen de antwoordmogelijkheden 1, 2, 3 of 4 zijn mogelijk.
C52: 2. In deze groep is er telkens iemand die ervoor zorgt dat we even de tijd nemen om te reflecteren op het groepsproces. | O52: =IF(OR(E52<1, E52>4), "Alleen de antwoordmogelijkheden 1, 2, 3 of 4 zijn mogelijk.","") -> Alleen de antwoordmogelijkheden 1, 2, 3 of 4 zijn mogelijk.
C53: 3. We zijn het er als groep over eens dat het belangrijk is om het groepsproces te evalueren. | O53: =IF(OR(E53<1, E53>4), "Alleen de antwoordmogelijkheden 1, 2, 3 of 4 zijn mogelijk.","") -> Alleen de antwoordmogelijkheden 1, 2, 3 of 4 zijn mogelijk.
B55: Gedeelde mentale modellen
C56: 1. Vanaf het begin was het duidelijk wat we als groep wilden bereiken. | O56: =IF(OR(E56<1, E56>4), "Alleen de antwoordmogelijkheden 1, 2, 3 of 4 zijn mogelijk.","") -> Alleen de antwoordmogelijkheden 1, 2, 3 of 4 zijn mogelijk.
C57: 2. Groepsleden begrijpen wat van hen verwacht wordt in hun rol als groepslid. | O57: =IF(OR(E57<1, E57>4), "Alleen de antwoordmogelijkheden 1, 2, 3 of 4 zijn mogelijk.","") -> Alleen de antwoordmogelijkheden 1, 2, 3 of 4 zijn mogelijk.
C58: 3. Kort na de start had de groep een gezamenlijk idee over welke taak we moesten volbrengen. | O58: =IF(OR(E58<1, E58>4), "Alleen de antwoordmogelijkheden 1, 2, 3 of 4 zijn mogelijk.","") -> Alleen de antwoordmogelijkheden 1, 2, 3 of 4 zijn mogelijk.
C59: 4. Kort na de start had de groep een gezamenlijk idee over hoe we die taak zouden gaan uitvoeren. | O59: =IF(OR(E59<1, E59>4), "Alleen de antwoordmogelijkheden 1, 2, 3 of 4 zijn mogelijk.","") -> Alleen de antwoordmogelijkheden 1, 2, 3 of 4 zijn mogelijk.
C60: 5. De groepsleden zijn gericht op het bereiken van de doelen die we gezamenlijk hebben. | O60: =IF(OR(E60<1, E60>4), "Alleen de antwoordmogelijkheden 1, 2, 3 of 4 zijn mogelijk.","") -> Alleen de antwoordmogelijkheden 1, 2, 3 of 4 zijn mogelijk.
B62: Een veilige en ondersteunende omgeving
C63: 1. Het voelt veilig om successen te delen in deze groep. | O63: =IF(OR(E63<1, E63>4), "Alleen de antwoordmogelijkheden 1, 2, 3 of 4 zijn mogelijk.","") -> Alleen de antwoordmogelijkheden 1, 2, 3 of 4 zijn mogelijk.
...

Sheet Respondent 6
B1: De Haagse Hogeschool
B5: Quick scan co-creatie in het hoger onderwijs
B8: Aan de slag
B9: Wat goed dat jullie je co-creatieproject een boost willen geven door een tussentijdse monitoring van de samenwerking. Het invullen van deze Quick Scan
B10: kan jullie daarbij ondersteunen. De Quick Scan is een praktische tool gebaseerd op een gevalideerde vragenlijst (De Hei, & Audenaerde, submitted) om
B11: co-creatieprocessen te optimaliseren. Co-creatie is een samenwerkingsproces waarbij studenten, docenten en partijen buiten de hogeschool/universiteit
B12: met elkaar werken om innovatieve producten, processen of kennis te ontwikkelen.
B13: Download alsjeblieft eerst deze file voordat je hem met de groep gaat invullen!
B14: Jij en de andere deelnemers vullen de vragenlijst elk in op een eigen tabblad. Je spreekt vooraf af wie welk tabblad invult. Dit kun je doen tijdens een
B15: bijeenkomst of tussen twee bijeenkomsten in. Bij het invullen van de Quick Scan, houd dan in gedachten hoe jullie groep functioneert en hoe je denkt dat
B16: de groepsleden het groepsproces ervaren. De resultaten van de groep vind je op het tabblad “eindscore”. Daar kun je ook lezen hoe je die resultaten
B17: kunt interpreteren en wat een volgende stap is.
... B28: 4 = geheel eens
E33: Antwoord | G33: Eindscore: | H33: Individueel
B34: Positieve wederzijdse afhankelijkheid | H34: abs. | I34: gemidd.
C35: 1. Voor informatie en advies zijn we van elkaar afhankelijk. | O35: =IF(OR(E35<1, E35>4), "Alleen de antwoordmogelijkheden 1, 2, 3 of 4 zijn mogelijk.","") -> Alleen de antwoordmogelijkheden 1, 2, 3 of 4 zijn mogelijk.
C36: 2. Als mijn groepsleden hun taken succesvol uitvoeren, heeft dat een positieve invloed op het werk van de groep. | G36: =B34 -> Positieve wederzijdse afhankelijkheid | H36: =SUM(E35:E38) -> 0 | I36: =H36/4 -> 0 | O36: =IF(OR(E36<1, E36>4), "Alleen de antwoordmogelijkheden 1, 2, 3 of 4 zijn mogelijk.","") -> Alleen de antwoordmogelijkheden 1, 2, 3 of 4 zijn mogelijk.
C37: 3. In onze groep hebben we elkaar nodig om aan onze doelen te werken. | G37: =B40 -> Individuele verantwoordelijkheid | H37: =E41+K42+L42+M42+N42+E43 -> 0 | I37: =H37/3 -> 0 | O37: =IF(OR(E37<1, E37>4), "Alleen de antwoordmogelijkheden 1, 2, 3 of 4 zijn mogelijk.","") -> Alleen de antwoordmogelijkheden 1, 2, 3 of 4 zijn mogelijk.
C38: 4. In onze groep zijn we afhankelijk van elkaar om succesvol te kunnen zijn. | G38: =B45 -> Interactie | H38: =SUM(E46:E48) -> 0 | I38: =H38/3 -> 0 | O38: =IF(OR(E38<1, E38>4), "Alleen de antwoordmogelijkheden 1, 2, 3 of 4 zijn mogelijk.","") -> Alleen de antwoordmogelijkheden 1, 2, 3 of 4 zijn mogelijk.
G39: =B50 -> Groepsevaluatie | H39: =SUM(E51:E53) -> 0 | I39: =H39/3 -> 0
B40: Individuele verantwoordelijkheid | G40: =B55 -> Gedeelde mentale modellen | H40: =SUM(E56:E60) -> 0 | I40: =H40/5 -> 0
C41: 1. In onze groep draagt iedereen evenveel bij aan het project. | G41: =B62 -> Een veilige en ondersteunende omgeving | H41: =SUM(E63:E71) -> 0 | I41: =H41/9 -> 0 | O41: =IF(OR(E41<1, E41>4), "Alleen de antwoordmogelijkheden 1, 2, 3 of 4 zijn mogelijk.","") -> Alleen de antwoordmogelijkheden 1, 2, 3 of 4 zijn mogelijk.
C42: 2. In onze groep is er tenminste een groepslid dat meestal het werk aan anderen overlaat. | G42: =B73 -> Creatieve community | H42: =SUM(E74:E80) -> 0 | I42: =H42/7 -> 0 | K42: =IF(E42=4,1,0) -> 0 | L42: =IF(E42=3,2,0) -> 0 | M42: =IF(E42=2,3,0) -> 0 | N42: =IF(E42=1,4,0) -> 0 | O42: =IF(OR(E42<1, E42>4), "Alleen de antwoordmogelijkheden 1, 2, 3 of 4 zijn mogelijk.","") -> Alleen de antwoordmogelijkheden 1, 2, 3 of 4 zijn mogelijk.
C43: 3. Iedereen in de groep wil graag bijdragen aan het project. | G43: Totaal | H43: =SUM(H36:H42) -> 0 | I43: =SUM(I36:I42)/7 -> 0 | O43: =IF(OR(E43<1, E43>4), "Alleen de antwoordmogelijkheden 1, 2, 3 of 4 zijn mogelijk.","") -> Alleen de antwoordmogelijkheden 1, 2, 3 of 4 zijn mogelijk.
B45: Interactie
C46: 1. In onze groep is er ruimte voor de mening van elk groepslid. | O46: =IF(OR(E46<1, E46>4), "Alleen de antwoordmogelijkheden 1, 2, 3 of 4 zijn mogelijk.","") -> Alleen de antwoordmogelijkheden 1, 2, 3 of 4 zijn mogelijk.
C47: 2. Problemen en lastige onderwerpen worden besproken en niet vermeden in onze gesprekken. | O47: =IF(OR(E47<1, E47>4), "Alleen de antwoordmogelijkheden 1, 2, 3 of 4 zijn mogelijk.","") -> Alleen de antwoordmogelijkheden 1, 2, 3 of 4 zijn mogelijk.
C48: 3. In het werken met deze groep worden mijn unieke kennis, vaardigheden en talenten gewaardeerd en gebruikt. | O48: =IF(OR(E48<1, E48>4), "Alleen de antwoordmogelijkheden 1, 2, 3 of 4 zijn mogelijk.","") -> Alleen de antwoordmogelijkheden 1, 2, 3 of 4 zijn mogelijk.
B50: Groepsevaluatie
C51: 1. We nemen regelmatig de tijd om uit te zoeken hoe we het groepsproces kunnen verbeteren. | O51: =IF(OR(E51<1, E51>4), "Alleen de antwoordmogelijkheden 1, 2, 3 of 4 zijn mogelijk.","") -> Alleen de antwoordmogelijkheden 1, 2, 3 of 4 zijn mogelijk.
C52: 2. In deze groep is er telkens iemand die ervoor zorgt dat we even de tijd nemen om te reflecteren op het groepsproces. | O52: =IF(OR(E52<1, E52>4), "Alleen de antwoordmogelijkheden 1, 2, 3 of 4 zijn mogelijk.","") -> Alleen de antwoordmogelijkheden 1, 2, 3 of 4 zijn mogelijk.
C53: 3. We zijn het er als groep over eens dat het belangrijk is om het groepsproces te evalueren. | O53: =IF(OR(E53<1, E53>4), "Alleen de antwoordmogelijkheden 1, 2, 3 of 4 zijn mogelijk.","") -> Alleen de antwoordmogelijkheden 1, 2, 3 of 4 zijn mogelijk.
B55: Gedeelde mentale modellen
C56: 1. Vanaf het begin was het duidelijk wat we als groep wilden bereiken. | O56: =IF(OR(E56<1, E56>4), "Alleen de antwoordmogelijkheden 1, 2, 3 of 4 zijn mogelijk.","") -> Alleen de antwoordmogelijkheden 1, 2, 3 of 4 zijn mogelijk.
C57: 2. Groepsleden begrijpen wat van hen verwacht wordt in hun rol als groepslid. | O57: =IF(OR(E57<1, E57>4), "Alleen de antwoordmogelijkheden 1, 2, 3 of 4 zijn mogelijk.","") -> Alleen de antwoordmogelijkheden 1, 2, 3 of 4 zijn mogelijk.
C58: 3. Kort na de start had de groep een gezamenlijk idee over welke taak we moesten volbrengen. | O58: =IF(OR(E58<1, E58>4), "Alleen de antwoordmogelijkheden 1, 2, 3 of 4 zijn mogelijk.","") -> Alleen de antwoordmogelijkheden 1, 2, 3 of 4 zijn mogelijk.
C59: 4. Kort na de start had de groep een gezamenlijk idee over hoe we die taak zouden gaan uitvoeren. | O59: =IF(OR(E59<1, E59>4), "Alleen de antwoordmogelijkheden 1, 2, 3 of 4 zijn mogelijk.","") -> Alleen de antwoordmogelijkheden 1, 2, 3 of 4 zijn mogelijk.
C60: 5. De groepsleden zijn gericht op het bereiken van de doelen die we gezamenlijk hebben. | O60: =IF(OR(E60<1, E60>4), "Alleen de antwoordmogelijkheden 1, 2, 3 of 4 zijn mogelijk.","") -> Alleen de antwoordmogelijkheden 1, 2, 3 of 4 zijn mogelijk.
B62: Een veilige en ondersteunende omgeving
C63: 1. Het voelt veilig om successen te delen in deze groep. | O63: =IF(OR(E63<1, E63>4), "Alleen de antwoordmogelijkheden 1, 2, 3 of 4 zijn mogelijk.","") -> Alleen de antwoordmogelijkheden 1, 2, 3 of 4 zijn mogelijk.
...

Sheet Respondent 7
B1: De Haagse Hogeschool
B5: Quick scan co-creatie in het hoger onderwijs
B8: Aan de slag
B9: Wat goed dat jullie je co-creatieproject een boost willen geven door een tussentijdse monitoring van de samenwerking. Het invullen van deze Quick Scan
B10: kan jullie daarbij ondersteunen. De Quick Scan is een praktische tool gebaseerd op een gevalideerde vragenlijst (De Hei, & Audenaerde, submitted) om
B11: co-creatieprocessen te optimaliseren. Co-creatie is een samenwerkingsproces waarbij studenten, docenten en partijen buiten de hogeschool/universiteit
B12: met elkaar werken om innovatieve producten, processen of kennis te ontwikkelen.
B13: Download alsjeblieft eerst deze file voordat je hem met de groep gaat invullen!
B14: Jij en de andere deelnemers vullen de vragenlijst elk in op een eigen tabblad. Je spreekt vooraf af wie welk tabblad invult. Dit kun je doen tijdens een
B15: bijeenkomst of tussen twee bijeenkomsten in. Bij het invullen van de Quick Scan, houd dan in gedachten hoe jullie groep functioneert en hoe je denkt dat
B16: de groepsleden het groepsproces ervaren. De resultaten van de groep vind je op het tabblad “eindscore”. Daar kun je ook lezen hoe je die resultaten
B17: kunt interpreteren en wat een volgende stap is.
... B28: 4 = geheel eens
E33: Antwoord | G33: Eindscore: | H33: Individueel
B34: Positieve wederzijdse afhankelijkheid | H34: abs. | I34: gemidd.
C35: 1. Voor informatie en advies zijn we van elkaar afhankelijk. | O35: =IF(OR(E35<1, E35>4), "Alleen de antwoordmogelijkheden 1, 2, 3 of 4 zijn mogelijk.","") -> Alleen de antwoordmogelijkheden 1, 2, 3 of 4 zijn mogelijk.
C36: 2. Als mijn groepsleden hun taken succesvol uitvoeren, heeft dat een positieve invloed op het werk van de groep. | G36: =B34 -> Positieve wederzijdse afhankelijkheid | H36: =SUM(E35:E38) -> 0 | I36: =H36/4 -> 0 | O36: =IF(OR(E36<1, E36>4), "Alleen de antwoordmogelijkheden 1, 2, 3 of 4 zijn mogelijk.","") -> Alleen de antwoordmogelijkheden 1, 2, 3 of 4 zijn mogelijk.
C37: 3. In onze groep hebben we elkaar nodig om aan onze doelen te werken. | G37: =B40 -> Individuele verantwoordelijkheid | H37: =E41+K42+L42+M42+N42+E43 -> 0 | I37: =H37/3 -> 0 | O37: =IF(OR(E37<1, E37>4), "Alleen de antwoordmogelijkheden 1, 2, 3 of 4 zijn mogelijk.","") -> Alleen de antwoordmogelijkheden 1, 2, 3 of 4 zijn mogelijk.
C38: 4. In onze groep zijn we afhankelijk van elkaar om succesvol te kunnen zijn. | G38: =B45 -> Interactie | H38: =SUM(E46:E48) -> 0 | I38: =H38/3 -> 0 | O38: =IF(OR(E38<1, E38>4), "Alleen de antwoordmogelijkheden 1, 2, 3 of 4 zijn mogelijk.","") -> Alleen de antwoordmogelijkheden 1, 2, 3 of 4 zijn mogelijk.
G39: =B50 -> Groepsevaluatie | H39: =SUM(E51:E53) -> 0 | I39: =H39/3 -> 0
B40: Individuele verantwoordelijkheid | G40: =B55 -> Gedeelde mentale modellen | H40: =SUM(E56:E60) -> 0 | I40: =H40/5 -> 0
C41: 1. In onze groep draagt iedereen evenveel bij aan het project. | G41: =B62 -> Een veilige en ondersteunende omgeving | H41: =SUM(E63:E71) -> 0 | I41: =H41/9 -> 0 | O41: =IF(OR(E41<1, E41>4), "Alleen de antwoordmogelijkheden 1, 2, 3 of 4 zijn mogelijk.","") -> Alleen de antwoordmogelijkheden 1, 2, 3 of 4 zijn mogelijk.
C42: 2. In onze groep is er tenminste een groepslid dat meestal het werk aan anderen overlaat. | G42: =B73 -> Creatieve community | H42: =SUM(E74:E80) -> 0 | I42: =H42/7 -> 0 | K42: =IF(E42=4,1,0) -> 0 | L42: =IF(E42=3,2,0) -> 0 | M42: =IF(E42=2,3,0) -> 0 | N42: =IF(E42=1,4,0) -> 0 | O42: =IF(OR(E42<1, E42>4), "Alleen de antwoordmogelijkheden 1, 2, 3 of 4 zijn mogelijk.","") -> Alleen de antwoordmogelijkheden 1, 2, 3 of 4 zijn mogelijk.
C43: 3. Iedereen in de groep wil graag bijdragen aan het project. | G43: Totaal | H43: =SUM(H36:H42) -> 0 | I43: =SUM(I36:I42)/7 -> 0 | O43: =IF(OR(E43<1, E43>4), "Alleen de antwoordmogelijkheden 1, 2, 3 of 4 zijn mogelijk.","") -> Alleen de antwoordmogelijkheden 1, 2, 3 of 4 zijn mogelijk.
B45: Interactie
C46: 1. In onze groep is er ruimte voor de mening van elk groepslid. | O46: =IF(OR(E46<1, E46>4), "Alleen de antwoordmogelijkheden 1, 2, 3 of 4 zijn mogelijk.","") -> Alleen de antwoordmogelijkheden 1, 2, 3 of 4 zijn mogelijk.
C47: 2. Problemen en lastige onderwerpen worden besproken en niet vermeden in onze gesprekken. | O47: =IF(OR(E47<1, E47>4), "Alleen de antwoordmogelijkheden 1, 2, 3 of 4 zijn mogelijk.","") -> Alleen de antwoordmogelijkheden 1, 2, 3 of 4 zijn mogelijk.
C48: 3. In het werken met deze groep worden mijn unieke kennis, vaardigheden en talenten gewaardeerd en gebruikt. | O48: =IF(OR(E48<1, E48>4), "Alleen de antwoordmogelijkheden 1, 2, 3 of 4 zijn mogelijk.","") -> Alleen de antwoordmogelijkheden 1, 2, 3 of 4 zijn mogelijk.
B50: Groepsevaluatie
C51: 1. We nemen regelmatig de tijd om uit te zoeken hoe we het groepsproces kunnen verbeteren. | O51: =IF(OR(E51<1, E51>4), "Alleen de antwoordmogelijkheden 1, 2, 3 of 4 zijn mogelijk.","") -> Alleen de antwoordmogelijkheden 1, 2, 3 of 4 zijn mogelijk.
C52: 2. In deze groep is er telkens iemand die ervoor zorgt dat we even de tijd nemen om te reflecteren op het groepsproces. | O52: =IF(OR(E52<1, E52>4), "Alleen de antwoordmogelijkheden 1, 2, 3 of 4 zijn mogelijk.","") -> Alleen de antwoordmogelijkheden 1, 2, 3 of 4 zijn mogelijk.
C53: 3. We zijn het er als groep over eens dat het belangrijk is om het groepsproces te evalueren. | O53: =IF(OR(E53<1, E53>4), "Alleen de antwoordmogelijkheden 1, 2, 3 of 4 zijn mogelijk.","") -> Alleen de antwoordmogelijkheden 1, 2, 3 of 4 zijn mogelijk.
B55: Gedeelde mentale modellen
C56: 1. Vanaf het begin was het duidelijk wat we als groep wilden bereiken. | O56: =IF(OR(E56<1, E56>4), "Alleen de antwoordmogelijkheden 1, 2, 3 of 4 zijn mogelijk.","") -> Alleen de antwoordmogelijkheden 1, 2, 3 of 4 zijn mogelijk.
C57: 2. Groepsleden begrijpen wat van hen verwacht wordt in hun rol als groepslid. | O57: =IF(OR(E57<1, E57>4), "Alleen de antwoordmogelijkheden 1, 2, 3 of 4 zijn mogelijk.","") -> Alleen de antwoordmogelijkheden 1, 2, 3 of 4 zijn mogelijk.
C58: 3. Kort na de start had de groep een gezamenlijk idee over welke taak we moesten volbrengen. | O58: =IF(OR(E58<1, E58>4), "Alleen de antwoordmogelijkheden 1, 2, 3 of 4 zijn mogelijk.","") -> Alleen de antwoordmogelijkheden 1, 2, 3 of 4 zijn mogelijk.
C59: 4. Kort na de start had de groep een gezamenlijk idee over hoe we die taak zouden gaan uitvoeren. | O59: =IF(OR(E59<1, E59>4), "Alleen de antwoordmogelijkheden 1, 2, 3 of 4 zijn mogelijk.","") -> Alleen de antwoordmogelijkheden 1, 2, 3 of 4 zijn mogelijk.
C60: 5. De groepsleden zijn gericht op het bereiken van de doelen die we gezamenlijk hebben. | O60: =IF(OR(E60<1, E60>4), "Alleen de antwoordmogelijkheden 1, 2, 3 of 4 zijn mogelijk.","") -> Alleen de antwoordmogelijkheden 1, 2, 3 of 4 zijn mogelijk.
B62: Een veilige en ondersteunende omgeving
C63: 1. Het voelt veilig om successen te delen in deze groep. | O63: =IF(OR(E63<1, E63>4), "Alleen de antwoordmogelijkheden 1, 2, 3 of 4 zijn mogelijk.","") -> Alleen de antwoordmogelijkheden 1, 2, 3 of 4 zijn mogelijk.
...

Sheet Respondent 8
B1: De Haagse Hogeschool
B5: Quick scan co-creatie in het hoger onderwijs
B8: Aan de slag
B9: Wat goed dat jullie je co-creatieproject een boost willen geven door een tussentijdse monitoring van de samenwerking. Het invullen van deze Quick Scan
B10: kan jullie daarbij ondersteunen. De Quick Scan is een praktische tool gebaseerd op een gevalideerde vragenlijst (De Hei, & Audenaerde, submitted) om
B11: co-creatieprocessen te optimaliseren. Co-creatie is een samenwerkingsproces waarbij studenten, docenten en partijen buiten de hogeschool/universiteit
B12: met elkaar werken om innovatieve producten, processen of kennis te ontwikkelen.
B13: Download alsjeblieft eerst deze file voordat je hem met de groep gaat invullen!
B14: Jij en de andere deelnemers vullen de vragenlijst elk in op een eigen tabblad. Je spreekt vooraf af wie welk tabblad invult. Dit kun je doen tijdens een
B15: bijeenkomst of tussen twee bijeenkomsten in. Bij het invullen van de Quick Scan, houd dan in gedachten hoe jullie groep functioneert en hoe je denkt dat
B16: de groepsleden het groepsproces ervaren. De resultaten van de groep vind je op het tabblad “eindscore”. Daar kun je ook lezen hoe je die resultaten
B17: kunt interpreteren en wat een volgende stap is.
... B28: 4 = geheel eens
E33: Antwoord | G33: Eindscore: | H33: Individueel
B34: Positieve wederzijdse afhankelijkheid | H34: abs. | I34: gemidd.
C35: 1. Voor informatie en advies zijn we van elkaar afhankelijk. | O35: =IF(OR(E35<1, E35>4), "Alleen de antwoordmogelijkheden 1, 2, 3 of 4 zijn mogelijk.","") -> Alleen de antwoordmogelijkheden 1, 2, 3 of 4 zijn mogelijk.
C36: 2. Als mijn groepsleden hun taken succesvol uitvoeren, heeft dat een positieve invloed op het werk van de groep. | G36: =B34 -> Positieve wederzijdse afhankelijkheid | H36: =SUM(E35:E38) -> 0 | I36: =H36/4 -> 0 | O36: =IF(OR(E36<1, E36>4), "Alleen de antwoordmogelijkheden 1, 2, 3 of 4 zijn mogelijk.","") -> Alleen de antwoordmogelijkheden 1, 2, 3 of 4 zijn mogelijk.
C37: 3. In onze groep hebben we elkaar nodig om aan onze doelen te werken. | G37: =B40 -> Individuele verantwoordelijkheid | H37: =E41+K42+L42+M42+N42+E43 -> 0 | I37: =H37/3 -> 0 | O37: =IF(OR(E37<1, E37>4), "Alleen de antwoordmogelijkheden 1, 2, 3 of 4 zijn mogelijk.","") -> Alleen de antwoordmogelijkheden 1, 2, 3 of 4 zijn mogelijk.
C38: 4. In onze groep zijn we afhankelijk van elkaar om succesvol te kunnen zijn. | G38: =B45 -> Interactie | H38: =SUM(E46:E48) -> 0 | I38: =H38/3 -> 0 | O38: =IF(OR(E38<1, E38>4), "Alleen de antwoordmogelijkheden 1, 2, 3 of 4 zijn mogelijk.","") -> Alleen de antwoordmogelijkheden 1, 2, 3 of 4 zijn mogelijk.
G39: =B50 -> Groepsevaluatie | H39: =SUM(E51:E53) -> 0 | I39: =H39/3 -> 0
B40: Individuele verantwoordelijkheid | G40: =B55 -> Gedeelde mentale modellen | H40: =SUM(E56:E60) -> 0 | I40: =H40/5 -> 0
C41: 1. In onze groep draagt iedereen evenveel bij aan het project. | G41: =B62 -> Een veilige en ondersteunende omgeving | H41: =SUM(E63:E71) -> 0 | I41: =H41/9 -> 0 | O41: =IF(OR(E41<1, E41>4), "Alleen de antwoordmogelijkheden 1, 2, 3 of 4 zijn mogelijk.","") -> Alleen de antwoordmogelijkheden 1, 2, 3 of 4 zijn mogelijk.
C42: 2. In onze groep is er tenminste een groepslid dat meestal het werk aan anderen overlaat. | G42: =B73 -> Creatieve community | H42: =SUM(E74:E80) -> 0 | I42: =H42/7 -> 0 | K42: =IF(E42=4,1,0) -> 0 | L42: =IF(E42=3,2,0) -> 0 | M42: =IF(E42=2,3,0) -> 0 | N42: =IF(E42=1,4,0) -> 0 | O42: =IF(OR(E42<1, E42>4), "Alleen de antwoordmogelijkheden 1, 2, 3 of 4 zijn mogelijk.","") -> Alleen de antwoordmogelijkheden 1, 2, 3 of 4 zijn mogelijk.
C43: 3. Iedereen in de groep wil graag bijdragen aan het project. | G43: Totaal | H43: =SUM(H36:H42) -> 0 | I43: =SUM(I36:I42)/7 -> 0 | O43: =IF(OR(E43<1, E43>4), "Alleen de antwoordmogelijkheden 1, 2, 3 of 4 zijn mogelijk.","") -> Alleen de antwoordmogelijkheden 1, 2, 3 of 4 zijn mogelijk.
B45: Interactie
C46: 1. In onze groep is er ruimte voor de mening van elk groepslid. | O46: =IF(OR(E46<1, E46>4), "Alleen de antwoordmogelijkheden 1, 2, 3 of 4 zijn mogelijk.","") -> Alleen de antwoordmogelijkheden 1, 2, 3 of 4 zijn mogelijk.
C47: 2. Problemen en lastige onderwerpen worden besproken en niet vermeden in onze gesprekken. | O47: =IF(OR(E47<1, E47>4), "Alleen de antwoordmogelijkheden 1, 2, 3 of 4 zijn mogelijk.","") -> Alleen de antwoordmogelijkheden 1, 2, 3 of 4 zijn mogelijk.
C48: 3. In het werken met deze groep worden mijn unieke kennis, vaardigheden en talenten gewaardeerd en gebruikt. | O48: =IF(OR(E48<1, E48>4), "Alleen de antwoordmogelijkheden 1, 2, 3 of 4 zijn mogelijk.","") -> Alleen de antwoordmogelijkheden 1, 2, 3 of 4 zijn mogelijk.
B50: Groepsevaluatie
C51: 1. We nemen regelmatig de tijd om uit te zoeken hoe we het groepsproces kunnen verbeteren. | O51: =IF(OR(E51<1, E51>4), "Alleen de antwoordmogelijkheden 1, 2, 3 of 4 zijn mogelijk.","") -> Alleen de antwoordmogelijkheden 1, 2, 3 of 4 zijn mogelijk.
C52: 2. In deze groep is er telkens iemand die ervoor zorgt dat we even de tijd nemen om te reflecteren op het groepsproces. | O52: =IF(OR(E52<1, E52>4), "Alleen de antwoordmogelijkheden 1, 2, 3 of 4 zijn mogelijk.","") -> Alleen de antwoordmogelijkheden 1, 2, 3 of 4 zijn mogelijk.
C53: 3. We zijn het er als groep over eens dat het belangrijk is om het groepsproces te evalueren. | O53: =IF(OR(E53<1, E53>4), "Alleen de antwoordmogelijkheden 1, 2, 3 of 4 zijn mogelijk.","") -> Alleen de antwoordmogelijkheden 1, 2, 3 of 4 zijn mogelijk.
B55: Gedeelde mentale modellen
C56: 1. Vanaf het begin was het duidelijk wat we als groep wilden bereiken. | O56: =IF(OR(E56<1, E56>4), "Alleen de antwoordmogelijkheden 1, 2, 3 of 4 zijn mogelijk.","") -> Alleen de antwoordmogelijkheden 1, 2, 3 of 4 zijn mogelijk.
C57: 2. Groepsleden begrijpen wat van hen verwacht wordt in hun rol als groepslid. | O57: =IF(OR(E57<1, E57>4), "Alleen de antwoordmogelijkheden 1, 2, 3 of 4 zijn mogelijk.","") -> Alleen de antwoordmogelijkheden 1, 2, 3 of 4 zijn mogelijk.
C58: 3. Kort na de start had de groep een gezamenlijk idee over welke taak we moesten volbrengen. | O58: =IF(OR(E58<1, E58>4), "Alleen de antwoordmogelijkheden 1, 2, 3 of 4 zijn mogelijk.","") -> Alleen de antwoordmogelijkheden 1, 2, 3 of 4 zijn mogelijk.
C59: 4. Kort na de start had de groep een gezamenlijk idee over hoe we die taak zouden gaan uitvoeren. | O59: =IF(OR(E59<1, E59>4), "Alleen de antwoordmogelijkheden 1, 2, 3 of 4 zijn mogelijk.","") -> Alleen de antwoordmogelijkheden 1, 2, 3 of 4 zijn mogelijk.
C60: 5. De groepsleden zijn gericht op het bereiken van de doelen die we gezamenlijk hebben. | O60: =IF(OR(E60<1, E60>4), "Alleen de antwoordmogelijkheden 1, 2, 3 of 4 zijn mogelijk.","") -> Alleen de antwoordmogelijkheden 1, 2, 3 of 4 zijn mogelijk.
B62: Een veilige en ondersteunende omgeving
C63: 1. Het voelt veilig om successen te delen in deze groep. | O63: =IF(OR(E63<1, E63>4), "Alleen de antwoordmogelijkheden 1, 2, 3 of 4 zijn mogelijk.","") -> Alleen de antwoordmogelijkheden 1, 2, 3 of 4 zijn mogelijk.
...

Sheet Respondent 9
B1: De Haagse Hogeschool
B5: Quick scan co-creatie in het hoger onderwijs
B8: Aan de slag
B9: Wat goed dat jullie je co-creatieproject een boost willen geven door een tussentijdse monitoring van de samenwerking. Het invullen van deze Quick Scan
B10: kan jullie daarbij ondersteunen. De Quick Scan is een praktische tool gebaseerd op een gevalideerde vragenlijst (De Hei, & Audenaerde, submitted) om
B11: co-creatieprocessen te optimaliseren. Co-creatie is een samenwerkingsproces waarbij studenten, docenten en partijen buiten de hogeschool/universiteit
B12: met elkaar werken om innovatieve producten, processen of kennis te ontwikkelen.
B13: Download alsjeblieft eerst deze file voordat je hem met de groep gaat invullen!
B14: Jij en de andere deelnemers vullen de vragenlijst elk in op een eigen tabblad. Je spreekt vooraf af wie welk tabblad invult. Dit kun je doen tijdens een
B15: bijeenkomst of tussen twee bijeenkomsten in. Bij het invullen van de Quick Scan, houd dan in gedachten hoe jullie groep functioneert en hoe je denkt dat
B16: de groepsleden het groepsproces ervaren. De resultaten van de groep vind je op het tabblad “eindscore”. Daar kun je ook lezen hoe je die resultaten
B17: kunt interpreteren en wat een volgende stap is.
... B28: 4 = geheel eens
E33: Antwoord | G33: Eindscore: | H33: Individueel
B34: Positieve wederzijdse afhankelijkheid | H34: abs. | I34: gemidd.
C35: 1. Voor informatie en advies zijn we van elkaar afhankelijk. | O35: =IF(OR(E35<1, E35>4), "Alleen de antwoordmogelijkheden 1, 2, 3 of 4 zijn mogelijk.","") -> Alleen de antwoordmogelijkheden 1, 2, 3 of 4 zijn mogelijk.
C36: 2. Als mijn groepsleden hun taken succesvol uitvoeren, heeft dat een positieve invloed op het werk van de groep. | G36: =B34 -> Positieve wederzijdse afhankelijkheid | H36: =SUM(E35:E38) -> 0 | I36: =H36/4 -> 0 | O36: =IF(OR(E36<1, E36>4), "Alleen de antwoordmogelijkheden 1, 2, 3 of 4 zijn mogelijk.","") -> Alleen de antwoordmogelijkheden 1, 2, 3 of 4 zijn mogelijk.
C37: 3. In onze groep hebben we elkaar nodig om aan onze doelen te werken. | G37: =B40 -> Individuele verantwoordelijkheid | H37: =E41+K42+L42+M42+N42+E43 -> 0 | I37: =H37/3 -> 0 | O37: =IF(OR(E37<1, E37>4), "Alleen de antwoordmogelijkheden 1, 2, 3 of 4 zijn mogelijk.","") -> Alleen de antwoordmogelijkheden 1, 2, 3 of 4 zijn mogelijk.
C38: 4. In onze groep zijn we afhankelijk van elkaar om succesvol te kunnen zijn. | G38: =B45 -> Interactie | H38: =SUM(E46:E48) -> 0 | I38: =H38/3 -> 0 | O38: =IF(OR(E38<1, E38>4), "Alleen de antwoordmogelijkheden 1, 2, 3 of 4 zijn mogelijk.","") -> Alleen de antwoordmogelijkheden 1, 2, 3 of 4 zijn mogelijk.
G39: =B50 -> Groepsevaluatie | H39: =SUM(E51:E53) -> 0 | I39: =H39/3 -> 0
B40: Individuele verantwoordelijkheid | G40: =B55 -> Gedeelde mentale modellen | H40: =SUM(E56:E60) -> 0 | I40: =H40/5 -> 0
C41: 1. In onze groep draagt iedereen evenveel bij aan het project. | G41: =B62 -> Een veilige en ondersteunende omgeving | H41: =SUM(E63:E71) -> 0 | I41: =H41/9 -> 0 | O41: =IF(OR(E41<1, E41>4), "Alleen de antwoordmogelijkheden 1, 2, 3 of 4 zijn mogelijk.","") -> Alleen de antwoordmogelijkheden 1, 2, 3 of 4 zijn mogelijk.
C42: 2. In onze groep is er tenminste een groepslid dat meestal het werk aan anderen overlaat. | G42: =B73 -> Creatieve community | H42: =SUM(E74:E80) -> 0 | I42: =H42/7 -> 0 | K42: =IF(E42=4,1,0) -> 0 | L42: =IF(E42=3,2,0) -> 0 | M42: =IF(E42=2,3,0) -> 0 | N42: =IF(E42=1,4,0) -> 0 | O42: =IF(OR(E42<1, E42>4), "Alleen de antwoordmogelijkheden 1, 2, 3 of 4 zijn mogelijk.","") -> Alleen de antwoordmogelijkheden 1, 2, 3 of 4 zijn mogelijk.
