Workbook

Sheet Respondent 1
B1: De Haagse Hogeschool
B5: Quick scan co-creatie in het hoger onderwijs
B8: Aan de slag
B9: Wat goed dat jullie je co-creatieproject een boost willen geven door een tussentijdse monitoring van de samenwerking. Het invullen van deze Quick Scan
B10: kan jullie daarbij ondersteunen. De Quick Scan is een praktische tool gebaseerd op een gevalideerde vragenlijst (De Hei, & Audenaerde, submitted) om
B11: co-creatieprocessen te optimaliseren. Co-creatie is een samenwerkingsproces waarbij studenten, docenten en partijen buiten de hogeschool/universiteit
B12: met elkaar werken om innovatieve producten, processen of kennis te ontwikkelen.
B13: Download alsjeblieft eerst deze file voordat je hem met de groep gaat invullen!
B14: Jij en de andere deelnemers vullen de vragenlijst elk in op een eigen tabblad. Je spreekt vooraf af wie welk tabblad invult. Dit kun je doen tijdens een
B15: bijeenkomst of tussen twee bijeenkomsten in. Bij het invullen van de Quick Scan, houd dan in gedachten hoe jullie groep functioneert en hoe je denkt dat
B16: de groepsleden het groepsproces ervaren. De resultaten van de groep vind je op het tabblad “eindscore”. Daar kun je ook lezen hoe je die resultaten
B17: kunt interpreteren en wat een volgende stap is.
... B28: 4 = geheel eens
E33: Antwoord | G33: Eindscore: | H33: Individueel
B34: Positieve wederzijdse afhankelijkheid | H34: abs. | I34: gemidd.
C35: 1. Voor informatie en advies zijn we van elkaar afhankelijk. | O35: =IF(OR(E35<1, E35>4), "Alleen de antwoordmogelijkheden 1, 2, 3 of 4 zijn mogelijk.","") -> Alleen de antwoordmogelijkheden 1, 2, 3 of 4 zijn mogelijk.
C36: 2. Als mijn groepsleden hun taken succesvol uitvoeren, heeft dat een positieve invloed op het werk van de groep. | G36: =B34 -> Positieve wederzijdse afhankelijkheid | H36: =SUM(E35:E38) -> 0 | I36: =H36/4 -> 0 | O36: =IF(OR(E36<1, E36>4), "Alleen de antwoordmogelijkheden 1, 2, 3 of 4 zijn mogelijk.","") -> Alleen de antwoordmogelijkheden 1, 2, 3 of 4 zijn mogelijk.
C37: 3. In onze groep hebben we elkaar nodig om aan onze doelen te werken. | G37: =B40 -> Individuele verantwoordelijkheid | H37: =E41+K42+L42+M42+N42+E43 -> 0 | I37: =H37/3 -> 0 | O37: =IF(OR(E37<1, E37>4), "Alleen de antwoordmogelijkheden 1, 2, 3 of 4 zijn mogelijk.","") -> Alleen de antwoordmogelijkheden 1, 2, 3 of 4 zijn mogelijk.
C38: 4. In onze groep zijn we afhankelijk van elkaar om succesvol te kunnen zijn. | G38: =B45 -> Interactie | H38: =SUM(E46:E48) -> 0 | I38: =H38/3 -> 0 | O38: =IF(OR(E38<1, E38>4), "Alleen de antwoordmogelijkheden 1, 2, 3 of 4 zijn mogelijk.","") -> Alleen de antwoordmogelijkheden 1, 2, 3 of 4 zijn mogelijk.
G39: =B50 -> Groepsevaluatie | H39: =SUM(E51:E53) -> 0 | I39: =H39/3 -> 0
B40: Individuele verantwoordelijkheid | G40: =B55 -> Gedeelde mentale modellen | H40: =SUM(E56:E60) -> 0 | I40: =H40/5 -> 0
C41: 1. In onze groep draagt iedereen evenveel bij aan het project. | G41: =B62 -> Een veilige en ondersteunende omgeving | H41: =SUM(E63:E71) -> 0 | I41: =H41/9 -> 0 | O41: =IF(OR(E41<1, E41>4), "Alleen de antwoordmogelijkheden 1, 2, 3 of 4 zijn mogelijk.","") -> Alleen de antwoordmogelijkheden 1, 2, 3 of 4 zijn mogelijk.
C42: 2. In onze groep is er tenminste een groepslid dat meestal het werk aan anderen overlaat. | G42: =B73 -> Creatieve community | H42: =SUM(E74:E80) -> 0 | I42: =H42/7 -> 0 | K42: =IF(E42=4,1,0) -> 0 | L42: =IF(E42=3,2,0) -> 0 | M42: =IF(E42=2,3,0) -> 0 | N42: =IF(E42=1,4,0) -> 0 | O42: =IF(OR(E42<1, E42>4), "Alleen de antwoordmogelijkheden 1, 2, 3 of 4 zijn mogelijk.","") -> Alleen de antwoordmogelijkheden 1, 2, 3 of 4 zijn mogelijk.
C43: 3. Iedereen in de groep wil graag bijdragen aan het project. | G43: Totaal | H43: =SUM(H36:H42) -> 0 | I43: =SUM(I36:I42)/7 -> 0 | O43: =IF(OR(E43<1, E43>4), "Alleen de antwoordmogelijkheden 1, 2, 3 of 4 zijn mogelijk.","") -> Alleen de antwoordmogelijkheden 1, 2, 3 of 4 zijn mogelijk.
B45: Interactie
C46: 1. In onze groep is er ruimte voor de mening van elk groepslid. | O46: =IF(OR(E46<1, E46>4), "Alleen de antwoordmogelijkheden 1, 2, 3 of 4 zijn mogelijk.","") -> Alleen de antwoordmogelijkheden 1, 2, 3 of 4 zijn mogelijk.
C47: 2. Problemen en lastige onderwerpen worden besproken en niet vermeden in onze gesprekken. | O47: =IF(OR(E47<1, E47>4), "Alleen de antwoordmogelijkheden 1, 2, 3 of 4 zijn mogelijk.","") -> Alleen de antwoordmogelijkheden 1, 2, 3 of 4 zijn mogelijk.
C48: 3. In het werken met deze groep worden mijn unieke kennis, vaardigheden en talenten gewaardeerd en gebruikt. | O48: =IF(OR(E48<1, E48>4), "Alleen de antwoordmogelijkheden 1, 2, 3 of 4 zijn mogelijk.","") -> Alleen de antwoordmogelijkheden 1, 2, 3 of 4 zijn mogelijk.
B50: Groepsevaluatie
C51: 1. We nemen regelmatig de tijd om uit te zoeken hoe we het groepsproces kunnen verbeteren. | O51: =IF(OR(E51<1, E51>4), "Alleen de antwoordmogelijkheden 1, 2, 3 of 4 zijn mogelijk.","") -> Alleen de antwoordmogelijkheden 1, 2, 3 of 4 zijn mogelijk.
C52: 2. In deze groep is er telkens iemand die ervoor zorgt dat we even de tijd nemen om te reflecteren op het groepsproces. | O52: =IF(OR(E52<1, E52>4), "Alleen de antwoordmogelijkheden 1, 2, 3 of 4 zijn mogelijk.","") -> Alleen de antwoordmogelijkheden 1, 2, 3 of 4 zijn mogelijk.
C53: 3. We zijn het er als groep over eens dat het belangrijk is om het groepsproces te evalueren. | O53: =IF(OR(E53<1, E53>4), "Alleen de antwoordmogelijkheden 1, 2, 3 of 4 zijn mogelijk.","") -> Alleen de antwoordmogelijkheden 1, 2, 3 of 4 zijn mogelijk.
B55: Gedeelde mentale modellen
C56: 1. Vanaf het begin was het duidelijk wat we als groep wilden bereiken. | O56: =IF(OR(E56<1, E56>4), "Alleen de antwoordmogelijkheden 1, 2, 3 of 4 zijn mogelijk.","") -> Alleen de antwoordmogelijkheden 1, 2, 3 of 4 zijn mogelijk.
C57: 2. Groepsleden begrijpen wat van hen verwacht wordt in hun rol als groepslid. | O57: =IF(OR(E57<1, E57>4), "Alleen de antwoordmogelijkheden 1, 2, 3 of 4 zijn mogelijk.","") -> Alleen de antwoordmogelijkheden 1, 2, 3 of 4 zijn mogelijk.
C58: 3. Kort na de start had de groep een gezamenlijk idee over welke taak we moesten volbrengen. | O58: =IF(OR(E58<1, E58>4), "Alleen de antwoordmogelijkheden 1, 2, 3 of 4 zijn mogelijk.","") -> Alleen de antwoordmogelijkheden 1, 2, 3 of 4 zijn mogelijk.
C59: 4. Kort na de start had de groep een gezamenlijk idee over hoe we die taak zouden gaan uitvoeren. | O59: =IF(OR(E59<1, E59>4), "Alleen de antwoordmogelijkheden 1, 2, 3 of 4 zijn mogelijk.","") -> Alleen de antwoordmogelijkheden 1, 2, 3 of 4 zijn mogelijk.
C60: 5. De groepsleden zijn gericht op het bereiken van de doelen die we gezamenlijk hebben. | O60: =IF(OR(E60<1, E60>4), "Alleen de antwoordmogelijkheden 1, 2, 3 of 4 zijn mogelijk.","") -> Alleen de antwoordmogelijkheden 1, 2, 3 of 4 zijn mogelijk.
B62: Een veilige en ondersteunende omgeving
C63: 1. Het voelt veilig om successen te delen in deze groep. | O63: =IF(OR(E63<1, E63>4), "Alleen de antwoordmogelijkheden 1, 2, 3 of 4 zijn mogelijk.","") -> Alleen de antwoordmogelijkheden 1, 2, 3 of 4 zijn mogelijk.
C64: 2. Het is voelt veilig om aan te geven wat je nodig hebt in deze groep. | O64: =IF(OR(E64<1, E64>4), "Alleen de antwoordmogelijkheden 1, 2, 3 of 4 zijn mogelijk.","") -> Alleen de antwoordmogelijkheden 1, 2, 3 of 4 zijn mogelijk.
C65: 3. We voelen ons veilig om anderen in deze groep om hulp te vragen. | O65: =IF(OR(E65<1, E65>4), "Alleen de antwoordmogelijkheden 1, 2, 3 of 4 zijn mogelijk.","") -> Alleen de antwoordmogelijkheden 1, 2, 3 of 4 zijn mogelijk.
C66: 4. We kunnen vrijelijk ons enthousiasme over het werk met anderen in de groep delen. | O66: =IF(OR(E66<1, E66>4), "Alleen de antwoordmogelijkheden 1, 2, 3 of 4 zijn mogelijk.","") -> Alleen de antwoordmogelijkheden 1, 2, 3 of 4 zijn mogelijk.
C67: 5. Het is veilig om persoonlijke onzekerheden te delen met anderen in deze groep. | O67: =IF(OR(E67<1, E67>4), "Alleen de antwoordmogelijkheden 1, 2, 3 of 4 zijn mogelijk.","") -> Alleen de antwoordmogelijkheden 1, 2, 3 of 4 zijn mogelijk.
C68: 6. Verschillen tussen mensen in deze groep worden gerespecteerd. | O68: =IF(OR(E68<1, E68>4), "Alleen de antwoordmogelijkheden 1, 2, 3 of 4 zijn mogelijk.","") -> Alleen de antwoordmogelijkheden 1, 2, 3 of 4 zijn mogelijk.
C69: 7. Er is veel respect voor anderen in de groep. | O69: =IF(OR(E69<1, E69>4), "Alleen de antwoordmogelijkheden 1, 2, 3 of 4 zijn mogelijk.","") -> Alleen de antwoordmogelijkheden 1, 2, 3 of 4 zijn mogelijk.
C70: 8. Gevoelens van groepsleden worden geaccepteerd, net als gedachten en ideeën. | O70: =IF(OR(E70<1, E70>4), "Alleen de antwoordmogelijkheden 1, 2, 3 of 4 zijn mogelijk.","") -> Alleen de antwoordmogelijkheden 1, 2, 3 of 4 zijn mogelijk.
C71: 9. Als er meningsverschillen en conflicten zijn, wordt hiermee op respectvolle wijze omgegaan. | O71: =IF(OR(E71<1, E71>4), "Alleen de antwoordmogelijkheden 1, 2, 3 of 4 zijn mogelijk.","") -> Alleen de antwoordmogelijkheden 1, 2, 3 of 4 zijn mogelijk.
B73: Creatieve community
C74: 1. Er is een goede sfeer in deze groep. | O74: =IF(OR(E74<1, E74>4), "Alleen de antwoordmogelijkheden 1, 2, 3 of 4 zijn mogelijk.","") -> Alleen de antwoordmogelijkheden 1, 2, 3 of 4 zijn mogelijk.
C75: 2. We voelen ons een hechte groep. | O75: =IF(OR(E75<1, E75>4), "Alleen de antwoordmogelijkheden 1, 2, 3 of 4 zijn mogelijk.","") -> Alleen de antwoordmogelijkheden 1, 2, 3 of 4 zijn mogelijk.
C76: 3. We zijn er trots op dat we een onderdeel van deze groep zijn. | O76: =IF(OR(E76<1, E76>4), "Alleen de antwoordmogelijkheden 1, 2, 3 of 4 zijn mogelijk.","") -> Alleen de antwoordmogelijkheden 1, 2, 3 of 4 zijn mogelijk.
C77: 4. Mensen voelen zich loyaal naar andere groepsleden. | O77: =IF(OR(E77<1, E77>4), "Alleen de antwoordmogelijkheden 1, 2, 3 of 4 zijn mogelijk.","") -> Alleen de antwoordmogelijkheden 1, 2, 3 of 4 zijn mogelijk.
C78: 5. De meeste groepsleden houden ervan nieuwe dingen te proberen, zelfs als het soms nergens toe leidt. | O78: =IF(OR(E78<1, E78>4), "Alleen de antwoordmogelijkheden 1, 2, 3 of 4 zijn mogelijk.","") -> Alleen de antwoordmogelijkheden 1, 2, 3 of 4 zijn mogelijk.
C79: 6. De groepsleden houden ervan te experimenteren met andere werkwijzen. | O79: =IF(OR(E79<1, E79>4), "Alleen de antwoordmogelijkheden 1, 2, 3 of 4 zijn mogelijk.","") -> Alleen de antwoordmogelijkheden 1, 2, 3 of 4 zijn mogelijk.
C80: 7. Als groep komen we telkens op geheel nieuwe ideeën. | O80: =IF(OR(E80<1, E80>4), "Alleen de antwoordmogelijkheden 1, 2, 3 of 4 zijn mogelijk.","") -> Alleen de antwoordmogelijkheden 1, 2, 3 of 4 zijn mogelijk.
B88: Copyright 2023 Inge Audenaerde en Miranda de Hei

Sheet Respondent 2
B1: De Haagse Hogeschool
B5: Quick scan co-creatie in het hoger onderwijs
B8: Aan de slag
B9: Wat goed dat jullie je co-creatieproject een boost willen geven door een tussentijdse monitoring van de samenwerking. Het invullen van deze Quick Scan
B10: kan jullie daarbij ondersteunen. De Quick Scan is een praktische tool gebaseerd op een gevalideerde vragenlijst (De Hei, & Audenaerde, submitted) om
B11: co-creatieprocessen te optimaliseren. Co-creatie is een samenwerkingsproces waarbij studenten, docenten en partijen buiten de hogeschool/universiteit
B12: met elkaar werken om innovatieve producten, processen of kennis te ontwikkelen.
B13: Download alsjeblieft eerst deze file voordat je hem met de groep gaat invullen!
B14: Jij en de andere deelnemers vullen de vragenlijst elk in op een eigen tabblad. Je spreekt vooraf af wie welk tabblad invult. Dit kun je doen tijdens een
B15: bijeenkomst of tussen twee bijeenkomsten in. Bij het invullen van de Quick Scan, houd dan in gedachten hoe jullie groep functioneert en hoe je denkt dat
B16: de groepsleden het groepsproces ervaren. De resultaten van de groep vind je op het tabblad “eindscore”. Daar kun je ook lezen hoe je die resultaten
B17: kunt interpreteren en wat een volgende stap is.
... B28: 4 = geheel eens
E33: Antwoord | G33: Eindscore: | H33: Individueel
B34: Positieve wederzijdse afhankelijkheid | H34: abs. | I34: gemidd.
C35: 1. Voor informatie en advies zijn we van elkaar afhankelijk. | O35: =IF(OR(E35<1, E35>4), "Alleen de antwoordmogelijkheden 1, 2, 3 of 4 zijn mogelijk.","") -> Alleen de antwoordmogelijkheden 1, 2, 3 of 4 zijn mogelijk.
C36: 2. Als mijn groepsleden hun taken succesvol uitvoeren, heeft dat een positieve invloed op het werk van de groep. | G36: =B34 -> Positieve wederzijdse afhankelijkheid | H36: =SUM(E35:E38) -> 0 | I36: =H36/4 -> 0 | O36: =IF(OR(E36<1, E36>4), "Alleen de antwoordmogelijkheden 1, 2, 3 of 4 zijn mogelijk.","") -> Alleen de antwoordmogelijkheden 1, 2, 3 of 4 zijn mogelijk.
C37: 3. In onze groep hebben we elkaar nodig om aan onze doelen te werken. | G37: =B40 -> Individuele verantwoordelijkheid | H37: =E41+K42+L42+M42+N42+E43 -> 0 | I37: =H37/3 -> 0 | O37: =IF(OR(E37<1, E37>4), "Alleen de antwoordmogelijkheden 1, 2, 3 of 4 zijn mogelijk.","") -> Alleen de antwoordmogelijkheden 1, 2, 3 of 4 zijn mogelijk.
C38: 4. In onze groep zijn we afhankelijk van elkaar om succesvol te kunnen zijn. | G38: =B45 -> Interactie | H38: =SUM(E46:E48) -> 0 | I38: =H38/3 -> 0 | O38: =IF(OR(E38<1, E38>4), "Alleen de antwoordmogelijkheden 1, 2, 3 of 4 zijn mogelijk.","") -> Alleen de antwoordmogelijkheden 1, 2, 3 of 4 zijn mogelijk.
G39: =B50 -> Groepsevaluatie | H39: =SUM(E51:E53) -> 0 | I39: =H39/3 -> 0
B40: Individuele verantwoordelijkheid | G40: =B55 -> Gedeelde mentale modellen | H40: =SUM(E56:E60) -> 0 | I40: =H40/5 -> 0
C41: 1. In onze groep draagt iedereen evenveel bij aan het project. | G41: =B62 -> Een veilige en ondersteunende omgeving | H41: =SUM(E63:E71) -> 0 | I41: =H41/9 -> 0 | O41: =IF(OR(E41<1, E41>4), "Alleen de antwoordmogelijkheden 1, 2, 3 of 4 zijn mogelijk.","") -> Alleen de antwoordmogelijkheden 1, 2, 3 of 4 zijn mogelijk.
C42: 2. In onze groep is er tenminste een groepslid dat meestal het werk aan anderen overlaat. | G42: =B73 -> Creatieve community | H42: =SUM(E74:E80) -> 0 | I42: =H42/7 -> 0 | K42: =IF(E42=4,1,0) -> 0 | L42: =IF(E42=3,2,0) -> 0 | M42: =IF(E42=2,3,0) -> 0 | N42: =IF(E42=1,4,0) -> 0 | O42: =IF(OR(E42<1, E42>4), "Alleen de antwoordmogelijkheden 1, 2, 3 of 4 zijn mogelijk.","") -> Alleen de antwoordmogelijkheden 1, 2, 3 of 4 zijn mogelijk.
C43: 3. Iedereen in de groep wil graag bijdragen aan het project. | G43: Totaal | H43: =SUM(H36:H42) -> 0 | I43: =SUM(I36:I42)/7 -> 0 | O43: =IF(OR(E43<1, E43>4), "Alleen de antwoordmogelijkheden 1, 2, 3 of 4 zijn mogelijk.","") -> Alleen de antwoordmogelijkheden 1, 2, 3 of 4 zijn mogelijk.
B45: Interactie
C46: 1. In onze groep is er ruimte voor de mening van elk groepslid. | O46: =IF(OR(E46<1, E46>4), "Alleen de antwoordmogelijkheden 1, 2, 3 of 4 zijn mogelijk.","") -> Alleen de antwoordmogelijkheden 1, 2, 3 of 4 zijn mogelijk.
C47: 2. Problemen en lastige onderwerpen worden besproken en niet vermeden in onze gesprekken. | O47: =IF(OR(E47<1, E47>4), "Alleen de antwoordmogelijkheden 1, 2, 3 of 4 zijn mogelijk.","") -> Alleen de antwoordmogelijkheden 1, 2, 3 of 4 zijn mogelijk.
C48: 3. In het werken met deze groep worden mijn unieke kennis, vaardigheden en talenten gewaardeerd en gebruikt. | O48: =IF(OR(E48<1, E48>4), "Alleen de antwoordmogelijkheden 1, 2, 3 of 4 zijn mogelijk.","") -> Alleen de antwoordmogelijkheden 1, 2, 3 of 4 zijn mogelijk.
B50: Groepsevaluatie
C51: 1. We nemen regelmatig de tijd om uit te zoeken hoe we het groepsproces kunnen verbeteren. | O51: =IF(OR(E51<1, E51>4), "Alleen de antwoordmogelijkheden 1, 2, 3 of 4 zijn mogelijk.","") -> Alleen de antwoordmogelijkheden 1, 2, 3 of 4 zijn mogelijk.
C52: 2. In deze groep is er telkens iemand die ervoor zorgt dat we even de tijd nemen om te reflecteren op het groepsproces. | O52: =IF(OR(E52<1, E52>4), "Alleen de antwoordmogelijkheden 1, 2, 3 of 4 zijn mogelijk.","") -> Alleen de antwoordmogelijkheden 1, 2, 3 of 4 zijn mogelijk.
C53: 3. We zijn het er als groep over eens dat het belangrijk is om het groepsproces te evalueren. | O53: =IF(OR(E53<1, E53>4), "Alleen de antwoordmogelijkheden 1, 2, 3 of 4 zijn mogelijk.","") -> Alleen de antwoordmogelijkheden 1, 2, 3 of 4 zijn mogelijk.
B55: Gedeelde mentale modellen
C56: 1. Vanaf het begin was het duidelijk wat we als groep wilden bereiken. | O56: =IF(OR(E56<1, E56>4), "Alleen de antwoordmogelijkheden 1, 2, 3 of 4 zijn mogelijk.","") -> Alleen de antwoordmogelijkheden 1, 2, 3 of 4 zijn mogelijk.
C57: 2. Groepsleden begrijpen wat van hen verwacht wordt in hun rol als groepslid. | O57: =IF(OR(E57<1, E57>4), "Alleen de antwoordmogelijkheden 1, 2, 3 of 4 zijn mogelijk.","") -> Alleen de antwoordmogelijkheden 1, 2, 3 of 4 zijn mogelijk.
C58: 3. Kort na de start had de groep een gezamenlijk idee over welke taak we moesten volbrengen. | O58: =IF(OR(E58<1, E58>4), "Alleen de antwoordmogelijkheden 1, 2, 3 of 4 zijn mogelijk.","") -> Alleen de antwoordmogelijkheden 1, 2, 3 of 4 zijn mogelijk.
C59: 4. Kort na de start had de groep een gezamenlijk idee over hoe we die taak zouden gaan uitvoeren. | O59: =IF(OR(E59<1, E59>4), "Alleen de antwoordmogelijkheden 1, 2, 3 of 4 zijn mogelijk.","") -> Alleen de antwoordmogelijkheden 1, 2, 3 of 4 zijn mogelijk.
C60: 5. De groepsleden zijn gericht op het bereiken van de doelen die we gezamenlijk hebben. | O60: =IF(OR(E60<1, E60>4), "Alleen de antwoordmogelijkheden 1, 2, 3 of 4 zijn mogelijk.","") -> Alleen de antwoordmogelijkheden 1, 2, 3 of 4 zijn mogelijk.
B62: Een veilige en ondersteunende omgeving
C63: 1. Het voelt veilig om successen te delen in deze groep. | O63: =IF(OR(E63<1, E63>4), "Alleen de antwoordmogelijkheden 1, 2, 3 of 4 zijn mogelijk.","") -> Alleen de antwoordmogelijkheden 1, 2, 3 of 4 zijn mogelijk.
C64: 2. Het is voelt veilig om aan te geven wat je nodig hebt in deze groep. | O64: =IF(OR(E64<1, E64>4), "Alleen de antwoordmogelijkheden 1, 2, 3 of 4 zijn mogelijk.","") -> Alleen de antwoordmogelijkheden 1, 2, 3 of 4 zijn mogelijk.
C65: 3. We voelen ons veilig om anderen in deze groep om hulp te vragen. | O65: =IF(OR(E65<1, E65>4), "Alleen de antwoordmogelijkheden 1, 2, 3 of 4 zijn mogelijk.","") -> Alleen de antwoordmogelijkheden 1, 2, 3 of 4 zijn mogelijk.
C66: 4. We kunnen vrijelijk ons enthousiasme over het werk met anderen in de groep delen. | O66: =IF(OR(E66<1, E66>4), "Alleen de antwoordmogelijkheden 1, 2, 3 of 4 zijn mogelijk.","") -> Alleen de antwoordmogelijkheden 1, 2, 3 of 4 zijn mogelijk.
C67: 5. Het is veilig om persoonlijke onzekerheden te delen met anderen in deze groep. | O67: =IF(OR(E67<1, E67>4), "Alleen de antwoordmogelijkheden 1, 2, 3 of 4 zijn mogelijk.","") -> Alleen de antwoordmogelijkheden 1, 2, 3 of 4 zijn mogelijk.
C68: 6. Verschillen tussen mensen in deze groep worden gerespecteerd. | O68: =IF(OR(E68<1, E68>4), "Alleen de antwoordmogelijkheden 1, 2, 3 of 4 zijn mogelijk.","") -> Alleen de antwoordmogelijkheden 1, 2, 3 of 4 zijn mogelijk.
C69: 7. Er is veel respect voor anderen in de groep. | O69: =IF(OR(E69<1, E69>4), "Alleen de antwoordmogelijkheden 1, 2, 3 of 4 zijn mogelijk.","") -> Alleen de antwoordmogelijkheden 1, 2, 3 of 4 zijn mogelijk.
C70: 8. Gevoelens van groepsleden worden geaccepteerd, net als gedachten en ideeën. | O70: =IF(OR(E70<1, E70>4), "Alleen de antwoordmogelijkheden 1, 2, 3 of 4 zijn mogelijk.","") -> Alleen de antwoordmogelijkheden 1, 2, 3 of 4 zijn mogelijk.
C71: 9. Als er meningsverschillen en conflicten zijn, wordt hiermee op respectvolle wijze omgegaan. | O71: =IF(OR(E71<1, E71>4), "Alleen de antwoordmogelijkheden 1, 2, 3 of 4 zijn mogelijk.","") -> Alleen de antwoordmogelijkheden 1, 2, 3 of 4 zijn mogelijk.
B73: Creatieve community
C74: 1. Er is een goede sfeer in deze groep. | O74: =IF(OR(E74<1, E74>4), "Alleen de antwoordmogelijkheden 1, 2, 3 of 4 zijn mogelijk.","") -> Alleen de antwoordmogelijkheden 1, 2, 3 of 4 zijn mogelijk.
C75: 2. We voelen ons een hechte groep. | O75: =IF(OR(E75<1, E75>4), "Alleen de antwoordmogelijkheden 1, 2, 3 of 4 zijn mogelijk.","") -> Alleen de antwoordmogelijkheden 1, 2, 3 of 4 zijn mogelijk.
C76: 3. We zijn er trots op dat we een onderdeel van deze groep zijn. | O76: =IF(OR(E76<1, E76>4), "Alleen de antwoordmogelijkheden 1, 2, 3 of 4 zijn mogelijk.","") -> Alleen de antwoordmogelijkheden 1, 2, 3 of 4 zijn mogelijk.
C77: 4. Mensen voelen zich loyaal naar andere groepsleden. | O77: =IF(OR(E77<1, E77>4), "Alleen de antwoordmogelijkheden 1, 2, 3 of 4 zijn mogelijk.","") -> Alleen de antwoordmogelijkheden 1, 2, 3 of 4 zijn mogelijk.
C78: 5. De meeste groepsleden houden ervan nieuwe dingen te proberen, zelfs als het soms nergens toe leidt. | O78: =IF(OR(E78<1, E78>4), "Alleen de antwoordmogelijkheden 1, 2, 3 of 4 zijn mogelijk.","") -> Alleen de antwoordmogelijkheden 1, 2, 3 of 4 zijn mogelijk.
C79: 6. De groepsleden houden ervan te experimenteren met andere werkwijzen. | O79: =IF(OR(E79<1, E79>4), "Alleen de antwoordmogelijkheden 1, 2, 3 of 4 zijn mogelijk.","") -> Alleen de antwoordmogelijkheden 1, 2, 3 of 4 zijn mogelijk.
C80: 7. Als groep komen we telkens op geheel nieuwe ideeën. | O80: =IF(OR(E80<1, E80>4), "Alleen de antwoordmogelijkheden 1, 2, 3 of 4 zijn mogelijk.","") -> Alleen de antwoordmogelijkheden 1, 2, 3 of 4 zijn mogelijk.
B88: Copyright 2023 Inge Audenaerde en Miranda de Hei

Sheet Respondent 3
B1: De Haagse Hogeschool
B5: Quick scan co-creatie in het hoger onderwijs
B8: Aan de slag
B9: Wat goed dat jullie je co-creatieproject een boost willen geven door een tussentijdse monitoring van de samenwerking. Het invullen van deze Quick Scan
B10: kan jullie daarbij ondersteunen. De Quick Scan is een praktische tool gebaseerd op een gevalideerde vragenlijst (De Hei, & Audenaerde, submitted) om
B11: co-creatieprocessen te optimaliseren. Co-creatie is een samenwerkingsproces waarbij studenten, docenten en partijen buiten de hogeschool/universiteit
B12: met elkaar werken om innovatieve producten, processen of kennis te ontwikkelen.
B13: Download alsjeblieft eerst deze file voordat je hem met de groep gaat invullen!
B14: Jij en de andere deelnemers vullen de vragenlijst elk in op een eigen tabblad. Je spreekt vooraf af wie welk tabblad invult. Dit kun je doen tijdens een
B15: bijeenkomst of tussen twee bijeenkomsten in. Bij het invullen van de Quick Scan, houd dan in gedachten hoe jullie groep functioneert en hoe je denkt dat
B16: de groepsleden het groepsproces ervaren. De resultaten van de groep vind je op het tabblad “eindscore”. Daar kun je ook lezen hoe je die resultaten
B17: kunt interpreteren en wat een volgende stap is.
... B28: 4 = geheel eens
E33: Antwoord | G33: Eindscore: | H33: Individueel
B34: Positieve wederzijdse afhankelijkheid | H34: abs. | I34: gemidd.
C35: 1. Voor informatie en advies zijn we van elkaar afhankelijk. | O35: =IF(OR(E35<1, E35>4), "Alleen de antwoordmogelijkheden 1, 2, 3 of 4 zijn mogelijk.","") -> Alleen de antwoordmogelijkheden 1, 2, 3 of 4 zijn mogelijk.
C36: 2. Als mijn groepsleden hun taken succesvol uitvoeren, heeft dat een positieve invloed op het werk van de groep. | G36: =B34 -> Positieve wederzijdse afhankelijkheid | H36: =SUM(E35:E38) -> 0 | I36: =H36/4 -> 0 | O36: =IF(OR(E36<1, E36>4), "Alleen de antwoordmogelijkheden 1, 2, 3 of 4 zijn mogelijk.","") -> Alleen de antwoordmogelijkheden 1, 2, 3 of 4 zijn mogelijk.
C37: 3. In onze groep hebben we elkaar nodig om aan onze doelen te werken. | G37: =B40 -> Individuele verantwoordelijkheid | H37: =E41+K42+L42+M42+N42+E43 -> 0 | I37: =H37/3 -> 0 | O37: =IF(OR(E37<1, E37>4), "Alleen de antwoordmogelijkheden 1, 2, 3 of 4 zijn mogelijk.","") -> Alleen de antwoordmogelijkheden 1, 2, 3 of 4 zijn mogelijk.
C38: 4. In onze groep zijn we afhankelijk van elkaar om succesvol te kunnen zijn. | G38: =B45 -> Interactie | H38: =SUM(E46:E48) -> 0 | I38: =H38/3 -> 0 | O38: =IF(OR(E38<1, E38>4), "Alleen de antwoordmogelijkheden 1, 2, 3 of 4 zijn mogelijk.","") -> Alleen de antwoordmogelijkheden 1, 2, 3 of 4 zijn mogelijk.
G39: =B50 -> Groepsevaluatie | H39: =SUM(E51:E53) -> 0 | I39: =H39/3 -> 0
B40: Individuele verantwoordelijkheid | G40: =B55 -> Gedeelde mentale modellen | H40: =SUM(E56:E60) -> 0 | I40: =H40/5 -> 0
C41: 1. In onze groep draagt iedereen evenveel bij aan het project. | G41: =B62 -> Een veilige en ondersteunende omgeving | H41: =SUM(E63:E71) -> 0 | I41: =H41/9 -> 0 | O41: =IF(OR(E41<1, E41>4), "Alleen de antwoordmogelijkheden 1, 2, 3 of 4 zijn mogelijk.","") -> Alleen de antwoordmogelijkheden 1, 2, 3 of 4 zijn mogelijk.
C42: 2. In onze groep is er tenminste een groepslid dat meestal het werk aan anderen overlaat. | G42: =B73 -> Creatieve community | H42: =SUM(E74:E80) -> 0 | I42: =H42/7 -> 0 | K42: =IF(E42=4,1,0) -> 0 | L42: =IF(E42=3,2,0) -> 0 | M42: =IF(E42=2,3,0) -> 0 | N42: =IF(E42=1,4,0) -> 0 | O42: =IF(OR(E42<1, E42>4), "Alleen de antwoordmogelijkheden 1, 2, 3 of 4 zijn mogelijk.","") -> Alleen de antwoordmogelijkheden 1, 2, 3 of 4 zijn mogelijk.
C43: 3. Iedereen in de groep wil graag bijdragen aan het project. | G43: Totaal | H43: =SUM(H36:H42) -> 0 | I43: =SUM(I36:I42)/7 -> 0 | O43: =IF(OR(E43<1, E43>4), "Alleen de antwoordmogelijkheden 1, 2, 3 of 4 zijn mogelijk.","") -> Alleen de antwoordmogelijkheden 1, 2, 3 of 4 zijn mogelijk.
B45: Interactie
C46: 1. In onze groep is er ruimte voor de mening van elk groepslid. | O46: =IF(OR(E46<1, E46>4), "Alleen de antwoordmogelijkheden 1, 2, 3 of 4 zijn mogelijk.","") -> Alleen de antwoordmogelijkheden 1, 2, 3 of 4 zijn mogelijk.
C47: 2. Problemen en lastige onderwerpen worden besproken en niet vermeden in onze gesprekken. | O47: =IF(OR(E47<1, E47>4), "Alleen de antwoordmogelijkheden 1, 2, 3 of 4 zijn mogelijk.","") -> Alleen de antwoordmogelijkheden 1, 2, 3 of 4 zijn mogelijk.
C48: 3. In het werken met deze groep worden mijn unieke kennis, vaardigheden en talenten gewaardeerd en gebruikt. | O48: =IF(OR(E48<1, E48>4), "Alleen de antwoordmogelijkheden 1, 2, 3 of 4 zijn mogelijk.","") -> Alleen de antwoordmogelijkheden 1, 2, 3 of 4 zijn mogelijk.
B50: Groepsevaluatie
C51: 1. We nemen regelmatig de tijd om uit te zoeken hoe we het groepsproces kunnen verbeteren. | O51: =IF(OR(E51<1, E51>4), "Alleen de antwoordmogelijkheden 1, 2, 3 of 4 zijn mogelijk.","") -> Alleen de antwoordmogelijkheden 1, 2, 3 of 4 zijn mogelijk.
C52: 2. In deze groep is er telkens iemand die ervoor zorgt dat we even de tijd nemen om te reflecteren op het groepsproces. | O52: =IF(OR(E52<1, E52>4), "Alleen de antwoordmogelijkheden 1, 2, 3 of 4 zijn mogelijk.","") -> Alleen de antwoordmogelijkheden 1, 2, 3 of 4 zijn mogelijk.
C53: 3. We zijn het er als groep over eens dat het belangrijk is om het groepsproces te evalueren. | O53: =IF(OR(E53<1, E53>4), "Alleen de antwoordmogelijkheden 1, 2, 3 of 4 zijn mogelijk.","") -> Alleen de antwoordmogelijkheden 1, 2, 3 of 4 zijn mogelijk.
B55: Gedeelde mentale modellen
C56: 1. Vanaf het begin was het duidelijk wat we als groep wilden bereiken. | O56: =IF(OR(E56<1, E56>4), "Alleen de antwoordmogelijkheden 1, 2, 3 of 4 zijn mogelijk.","") -> Alleen de antwoordmogelijkheden 1, 2, 3 of 4 zijn mogelijk.
C57: 2. Groepsleden begrijpen wat van hen verwacht wordt in hun rol als groepslid. | O57: =IF(OR(E57<1, E57>4), "Alleen de antwoordmogelijkheden 1, 2, 3 of 4 zijn mogelijk.","") -> Alleen de antwoordmogelijkheden 1, 2, 3 of 4 zijn mogelijk.
C58: 3. Kort na de start had de groep een gezamenlijk idee over welke taak we moesten volbrengen. | O58: =IF(OR(E58<1, E58>4), "Alleen de antwoordmogelijkheden 1, 2, 3 of 4 zijn mogelijk.","") -> Alleen de antwoordmogelijkheden 1, 2, 3 of 4 zijn mogelijk.
C59: 4. Kort na de start had de groep een gezamenlijk idee over hoe we die taak zouden gaan uitvoeren. | O59: =IF(OR(E59<1, E59>4), "Alleen de antwoordmogelijkheden 1, 2, 3 of 4 zijn mogelijk.","") -> Alleen de antwoordmogelijkheden 1, 2, 3 of 4 zijn mogelijk.
C60: 5. De groepsleden zijn gericht op het bereiken van de doelen die we gezamenlijk hebben. | O60: =IF(OR(E60<1, E60>4), "Alleen de antwoordmogelijkheden 1, 2, 3 of 4 zijn mogelijk.","") -> Alleen de antwoordmogelijkheden 1, 2, 3 of 4 zijn mogelijk.
B62: Een veilige en ondersteunende omgeving
C63: 1. Het voelt veilig om successen te delen in deze groep. | O63: =IF(OR(E63<1, E63>4), "Alleen de antwoordmogelijkheden 1, 2, 3 of 4 zijn mogelijk.","") -> Alleen de antwoordmogelijkheden 1, 2, 3 of 4 zijn mogelijk.
C64: 2. Het is voelt veilig om aan te geven wat je nodig hebt in deze groep. | O64: =IF(OR(E64<1, E64>4), "Alleen de antwoordmogelijkheden 1, 2, 3 of 4 zijn mogelijk.","") -> Alleen de antwoordmogelijkheden 1, 2, 3 of 4 zijn mogelijk.
C65: 3. We voelen ons veilig om anderen in deze groep om hulp te vragen. | O65: =IF(OR(E65<1, E65>4), "Alleen de antwoordmogelijkheden 1, 2, 3 of 4 zijn mogelijk.","") -> Alleen de antwoordmogelijkheden 1, 2, 3 of 4 zijn mogelijk.
C66: 4. We kunnen vrijelijk ons enthousiasme over het werk met anderen in de groep delen. | O66: =IF(OR(E66<1, E66>4), "Alleen de antwoordmogelijkheden 1, 2, 3 of 4 zijn mogelijk.","") -> Alleen de antwoordmogelijkheden 1, 2, 3 of 4 zijn mogelijk.
C67: 5. Het is veilig om persoonlijke onzekerheden te delen met anderen in deze groep. | O67: =IF(OR(E67<1, E67>4), "Alleen de antwoordmogelijkheden 1, 2, 3 of 4 zijn mogelijk.","") -> Alleen de antwoordmogelijkheden 1, 2, 3 of 4 zijn mogelijk.
C68: 6. Verschillen tussen mensen in deze groep worden gerespecteerd. | O68: =IF(OR(E68<1, E68>4), "Alleen de antwoordmogelijkheden 1, 2, 3 of 4 zijn mogelijk.","") -> Alleen de antwoordmogelijkheden 1, 2, 3 of 4 zijn mogelijk.
C69: 7. Er is veel respect voor anderen in de groep. | O69: =IF(OR(E69<1, E69>4), "Alleen de antwoordmogelijkheden 1, 2, 3 of 4 zijn mogelijk.","") -> Alleen de antwoordmogelijkheden 1, 2, 3 of 4 zijn mogelijk.
C70: 8. Gevoelens van groepsleden worden geaccepteerd, net als gedachten en ideeën. | O70: =IF(OR(E70<1, E70>4), "Alleen de antwoordmogelijkheden 1, 2, 3 of 4 zijn mogelijk.","") -> Alleen de antwoordmogelijkheden 1, 2, 3 of 4 zijn mogelijk.
C71: 9. Als er meningsverschillen en conflicten zijn, wordt hiermee op respectvolle wijze omgegaan. | O71: =IF(OR(E71<1, E71>4), "Alleen de antwoordmogelijkheden 1, 2, 3 of 4 zijn mogelijk.","") -> Alleen de antwoordmogelijkheden 1, 2, 3 of 4 zijn mogelijk.
B73: Creatieve community
C74: 1. Er is een goede sfeer in deze groep. | O74: =IF(OR(E74<1, E74>4), "Alleen de antwoordmogelijkheden 1, 2, 3 of 4 zijn mogelijk.","") -> Alleen de antwoordmogelijkheden 1, 2, 3 of 4 zijn mogelijk.
C75: 2. We voelen ons een hechte groep. | O75: =IF(OR(E75<1, E75>4), "Alleen de antwoordmogelijkheden 1, 2, 3 of 4 zijn mogelijk.","") -> Alleen de antwoordmogelijkheden 1, 2, 3 of 4 zijn mogelijk.
C76: 3. We zijn er trots op dat we een onderdeel van deze groep zijn. | O76: =IF(OR(E76<1, E76>4), "Alleen de antwoordmogelijkheden 1, 2, 3 of 4 zijn mogelijk.","") -> Alleen de antwoordmogelijkheden 1, 2, 3 of 4 zijn mogelijk.
C77: 4. Mensen voelen zich loyaal naar andere groepsleden. | O77: =IF(OR(E77<1, E77>4), "Alleen de antwoordmogelijkheden 1, 2, 3 of 4 zijn mogelijk.","") -> Alleen de antwoordmogelijkheden 1, 2, 3 of 4 zijn mogelijk.
C78: 5. De meeste groepsleden houden ervan nieuwe dingen te proberen, zelfs als het soms nergens toe leidt. | O78: =IF(OR(E78<1, E78>4), "Alleen de antwoordmogelijkheden 1, 2, 3 of 4 zijn mogelijk.","") -> Alleen de antwoordmogelijkheden 1, 2, 3 of 4 zijn mogelijk.
C79: 6. De groepsleden houden ervan te experimenteren met andere werkwijzen. | O79: =IF(OR(E79<1, E79>4), "Alleen de antwoordmogelijkheden 1, 2, 3 of 4 zijn mogelijk.","") -> Alleen de antwoordmogelijkheden 1, 2, 3 of 4 zijn mogelijk.
C80: 7. Als groep komen we telkens op geheel nieuwe ideeën. | O80: =IF(OR(E80<1, E80>4), "Alleen de antwoordmogelijkheden 1, 2, 3 of 4 zijn mogelijk.","") -> Alleen de antwoordmogelijkheden 1, 2, 3 of 4 zijn mogelijk.
B88: Copyright 2023 Inge Audenaerde en Miranda de Hei

Sheet Respondent 4
B1: De Haagse Hogeschool
B5: Quick scan co-creatie in het hoger onderwijs
B8: Aan de slag
B9: Wat goed dat jullie je co-creatieproject een boost willen geven door een tussentijdse monitoring van de samenwerking. Het invullen van deze Quick Scan
B10: kan jullie daarbij ondersteunen. De Quick Scan is een praktische tool gebaseerd op een gevalideerde vragenlijst (De Hei, & Audenaerde, submitted) om
B11: co-creatieprocessen te optimaliseren. Co-creatie is een samenwerkingsproces waarbij studenten, docenten en partijen buiten de hogeschool/universiteit
B12: met elkaar werken om innovatieve producten, processen of kennis te ontwikkelen.
B13: Download alsjeblieft eerst deze file voordat je hem met de groep gaat invullen!
B14: Jij en de andere deelnemers vullen de vragenlijst elk in op een eigen tabblad. Je spreekt vooraf af wie welk tabblad invult. Dit kun je doen tijdens een
B15: bijeenkomst of tussen twee bijeenkomsten in. Bij het invullen van de Quick Scan, houd dan in gedachten hoe jullie groep functioneert en hoe je denkt dat
B16: de groepsleden het groepsproces ervaren. De resultaten van de groep vind je op het tabblad “eindscore”. Daar kun je ook lezen hoe je die resultaten
B17: kunt interpreteren en wat een volgende stap is.
... B28: 4 = geheel eens
E33: Antwoord | G33: Eindscore: | H33: Individueel
B34: Positieve wederzijdse afhankelijkheid | H34: abs. | I34: gemidd.
C35: 1. Voor informatie en advies zijn we van elkaar afhankelijk. | O35: =IF(OR(E35<1, E35>4), "Alleen de antwoordmogelijkheden 1, 2, 3 of 4 zijn mogelijk.","") -> Alleen de antwoordmogelijkheden 1, 2, 3 of 4 zijn mogelijk.
C36: 2. Als mijn groepsleden hun taken succesvol uitvoeren, heeft dat een positieve invloed op het werk van de groep. | G36: =B34 -> Positieve wederzijdse afhankelijkheid | H36: =SUM(E35:E38) -> 0 | I36: =H36/4 -> 0 | O36: =IF(OR(E36<1, E36>4), "Alleen de antwoordmogelijkheden 1, 2, 3 of 4 zijn mogelijk.","") -> Alleen de antwoordmogelijkheden 1, 2, 3 of 4 zijn mogelijk.
C37: 3. In onze groep hebben we elkaar nodig om aan onze doelen te werken. | G37: =B40 -> Individuele verantwoordelijkheid | H37: =E41+K42+L42+M42+N42+E43 -> 0 | I37: =H37/3 -> 0 | O37: =IF(OR(E37<1, E37>4), "Alleen de antwoordmogelijkheden 1, 2, 3 of 4 zijn mogelijk.","") -> Alleen de antwoordmogelijkheden 1, 2, 3 of 4 zijn mogelijk.
C38: 4. In onze groep zijn we afhankelijk van elkaar om succesvol te kunnen zijn. | G38: =B45 -> Interactie | H38: =SUM(E46:E48) -> 0 | I38: =H38/3 -> 0 | O38: =IF(OR(E38<1, E38>4), "Alleen de antwoordmogelijkheden 1, 2, 3 of 4 zijn mogelijk.","") -> Alleen de antwoordmogelijkheden 1, 2, 3 of 4 zijn mogelijk.
G39: =B50 -> Groepsevaluatie | H39: =SUM(E51:E53) -> 0 | I39: =H39/3 -> 0
B40: Individuele verantwoordelijkheid | G40: =B55 -> Gedeelde mentale modellen | H40: =SUM(E56:E60) -> 0 | I40: =H40/5 -> 0
C41: 1. In onze groep draagt iedereen evenveel bij aan het project. | G41: =B62 -> Een veilige en ondersteunende omgeving | H41: =SUM(E63:E71) -> 0 | I41: =H41/9 -> 0 | O41: =IF(OR(E41<1, E41>4), "Alleen de antwoordmogelijkheden 1, 2, 3 of 4 zijn mogelijk.","") -> Alleen de antwoordmogelijkheden 1, 2, 3 of 4 zijn mogelijk.
C42: 2. In onze groep is er tenminste een groepslid dat meestal het werk aan anderen overlaat. | G42: =B73 -> Creatieve community | H42: =SUM(E74:E80) -> 0 | I42: =H42/7 -> 0 | K42: =IF(E42=4,1,0) -> 0 | L42: =IF(E42=3,2,0) -> 0 | M42: =IF(E42=2,3,0) -> 0 | N42: =IF(E42=1,4,0) -> 0 | O42: =IF(OR(E42<1, E42>4), "Alleen de antwoordmogelijkheden 1, 2, 3 of 4 zijn mogelijk.","") -> Alleen de antwoordmogelijkheden 1, 2, 3 of 4 zijn mogelijk.
C43: 3. Iedereen in de groep wil graag bijdragen aan het project. | G43: Totaal | H43: =SUM(H36:H42) -> 0 | I43: =SUM(I36:I42)/7 -> 0 | O43: =IF(OR(E43<1, E43>4), "Alleen de antwoordmogelijkheden 1, 2, 3 of 4 zijn mogelijk.","") -> Alleen de antwoordmogelijkheden 1, 2, 3 of 4 zijn mogelijk.
B45: Interactie
C46: 1. In onze groep is er ruimte voor de mening van elk groepslid. | O46: =IF(OR(E46<1, E46>4), "Alleen de antwoordmogelijkheden 1, 2, 3 of 4 zijn mogelijk.","") -> Alleen de antwoordmogelijkheden 1, 2, 3 of 4 zijn mogelijk.
C47: 2. Problemen en lastige onderwerpen worden besproken en niet vermeden in onze gesprekken. | O47: =IF(OR(E47<1, E47>4), "Alleen de antwoordmogelijkheden 1, 2, 3 of 4 zijn mogelijk.","") -> Alleen de antwoordmogelijkheden 1, 2, 3 of 4 zijn mogelijk.
C48: 3. In het werken met deze groep worden mijn unieke kennis, vaardigheden en talenten gewaardeerd en gebruikt. | O48: =IF(OR(E48<1, E48>4), "Alleen de antwoordmogelijkheden 1, 2, 3 of 4 zijn mogelijk.","") -> Alleen de antwoordmogelijkheden 1, 2, 3 of 4 zijn mogelijk.
B50: Groepsevaluatie
C51: 1. We nemen regelmatig de tijd om uit te zoeken hoe we het groepsproces kunnen verbeteren. | O51: =IF(OR(E51<1, E51>4), "Alleen de antwoordmogelijkheden 1, 2, 3 of 4 zijn mogelijk.","") -> Alleen de antwoordmogelijkheden 1, 2, 3 of 4 zijn mogelijk.
C52: 2. In deze groep is er telkens iemand die ervoor zorgt dat we even de tijd nemen om te reflecteren op het groepsproces. | O52: =IF(OR(E52<1, E52>4), "Alleen de antwoordmogelijkheden 1, 2, 3 of 4 zijn mogelijk.","") -> Alleen de antwoordmogelijkheden 1, 2, 3 of 4 zijn mogelijk.
C53: 3. We zijn het er als groep over eens dat het belangrijk is om het groepsproces te evalueren. | O53: =IF(OR(E53<1, E53>4), "Alleen de antwoordmogelijkheden 1, 2, 3 of 4 zijn mogelijk.","") -> Alleen de antwoordmogelijkheden 1, 2, 3 of 4 zijn mogelijk.
B55: Gedeelde mentale modellen
C56: 1. Vanaf het begin was het duidelijk wat we als groep wilden bereiken. | O56: =IF(OR(E56<1, E56>4), "Alleen de antwoordmogelijkheden 1, 2, 3 of 4 zijn mogelijk.","") -> Alleen de antwoordmogelijkheden 1, 2, 3 of 4 zijn mogelijk.
C57: 2. Groepsleden begrijpen wat van hen verwacht wordt in hun rol als groepslid. | O57: =IF(OR(E57<1, E57>4), "Alleen de antwoordmogelijkheden 1, 2, 3 of 4 zijn mogelijk.","") -> Alleen de antwoordmogelijkheden 1, 2, 3 of 4 zijn mogelijk.
C58: 3. Kort na de start had de groep een gezamenlijk idee over welke taak we moesten volbrengen. | O58: =IF(OR(E58<1, E58>4), "Alleen de antwoordmogelijkheden 1, 2, 3 of 4 zijn mogelijk.","") -> Alleen de antwoordmogelijkheden 1, 2, 3 of 4 zijn mogelijk.
C59: 4. Kort na de start had de groep een gezamenlijk idee over hoe we die taak zouden gaan uitvoeren. | O59: =IF(OR(E59<1, E59>4), "Alleen de antwoordmogelijkheden 1, 2, 3 of 4 zijn mogelijk.","") -> Alleen de antwoordmogelijkheden 1, 2, 3 of 4 zijn mogelijk.
C60: 5. De groepsleden zijn gericht op het bereiken van de doelen die we gezamenlijk hebben. | O60: =IF(OR(E60<1, E60>4), "Alleen de antwoordmogelijkheden 1, 2, 3 of 4 zijn mogelijk.","") -> Alleen de antwoordmogelijkheden 1, 2, 3 of 4 zijn mogelijk.
B62: Een veilige en ondersteunende omgeving
C63: 1. Het voelt veilig om successen te delen in deze groep. | O63: =IF(OR(E63<1, E63>4), "Alleen de antwoordmogelijkheden 1, 2, 3 of 4 zijn mogelijk.","") -> Alleen de antwoordmogelijkheden 1, 2, 3 of 4 zijn mogelijk.
C64: 2. Het is voelt veilig om aan te geven wat je nodig hebt in deze groep. | O64: =IF(OR(E64<1, E64>4), "Alleen de antwoordmogelijkheden 1, 2, 3 of 4 zijn mogelijk.","") -> Alleen de antwoordmogelijkheden 1, 2, 3 of 4 zijn mogelijk.
C65: 3. We voelen ons veilig om anderen in deze groep om hulp te vragen. | O65: =IF(OR(E65<1, E65>4), "Alleen de antwoordmogelijkheden 1, 2, 3 of 4 zijn mogelijk.","") -> Alleen de antwoordmogelijkheden 1, 2, 3 of 4 zijn mogelijk.
C66: 4. We kunnen vrijelijk ons enthousiasme over het werk met anderen in de groep delen. | O66: =IF(OR(E66<1, E66>4), "Alleen de antwoordmogelijkheden 1, 2, 3 of 4 zijn mogelijk.","") -> Alleen de antwoordmogelijkheden 1, 2, 3 of 4 zijn mogelijk.
C67: 5. Het is veilig om persoonlijke onzekerheden te delen met anderen in deze groep. | O67: =IF(OR(E67<1, E67>4), "Alleen de antwoordmogelijkheden 1, 2, 3 of 4 zijn mogelijk.","") -> Alleen de antwoordmogelijkheden 1, 2, 3 of 4 zijn mogelijk.
C68: 6. Verschillen tussen mensen in deze groep worden gerespecteerd. | O68: =IF(OR(E68<1, E68>4), "Alleen de antwoordmogelijkheden 1, 2, 3 of 4 zijn mogelijk.","") -> Alleen de antwoordmogelijkheden 1, 2, 3 of 4 zijn mogelijk.
C69: 7. Er is veel respect voor anderen in de groep. | O69: =IF(OR(E69<1, E69>4), "Alleen de antwoordmogelijkheden 1, 2, 3 of 4 zijn mogelijk.","") -> Alleen de antwoordmogelijkheden 1, 2, 3 of 4 zijn mogelijk.
C70: 8. Gevoelens van groepsleden worden geaccepteerd, net als gedachten en ideeën. | O70: =IF(OR(E70<1, E70>4), "Alleen de antwoordmogelijkheden 1, 2, 3 of 4 zijn mogelijk.","") -> Alleen de antwoordmogelijkheden 1, 2, 3 of 4 zijn mogelijk.
C71: 9. Als er meningsverschillen en conflicten zijn, wordt hiermee op respectvolle wijze omgegaan. | O71: =IF(OR(E71<1, E71>4), "Alleen de antwoordmogelijkheden 1, 2, 3 of 4 zijn mogelijk.","") -> Alleen de antwoordmogelijkheden 1, 2, 3 of 4 zijn mogelijk.
B73: Creatieve community
C74: 1. Er is een goede sfeer in deze groep. | O74: =IF(OR(E74<1, E74>4), "Alleen de antwoordmogelijkheden 1, 2, 3 of 4 zijn mogelijk.","") -> Alleen de antwoordmogelijkheden 1, 2, 3 of 4 zijn mogelijk.
C75: 2. We voelen ons een hechte groep. | O75: =IF(OR(E75<1, E75>4), "Alleen de antwoordmogelijkheden 1, 2, 3 of 4 zijn mogelijk.","") -> Alleen de antwoordmogelijkheden 1, 2, 3 of 4 zijn mogelijk.
C76: 3. We zijn er trots op dat we een onderdeel van deze groep zijn. | O76: =IF(OR(E76<1, E76>4), "Alleen de antwoordmogelijkheden 1, 2, 3 of 4 zijn mogelijk.","") -> Alleen de antwoordmogelijkheden 1, 2, 3 of 4 zijn mogelijk.
C77: 4. Mensen voelen zich loyaal naar andere groepsleden. | O77: =IF(OR(E77<1, E77>4), "Alleen de antwoordmogelijkheden 1, 2, 3 of 4 zijn mogelijk.","") -> Alleen de antwoordmogelijkheden 1, 2, 3 of 4 zijn mogelijk.
C78: 5. De meeste groepsleden houden ervan nieuwe dingen te proberen, zelfs als het soms nergens toe leidt. | O78: =IF(OR(E78<1, E78>4), "Alleen de antwoordmogelijkheden 1, 2, 3 of 4 zijn mogelijk.","") -> Alleen de antwoordmogelijkheden 1, 2, 3 of 4 zijn mogelijk.
C79: 6. De groepsleden houden ervan te experimenteren met andere werkwijzen. | O79: =IF(OR(E79<1, E79>4), "Alleen de antwoordmogelijkheden 1, 2, 3 of 4 zijn mogelijk.","") -> Alleen de antwoordmogelijkheden 1, 2, 3 of 4 zijn mogelijk.
C80: 7. Als groep komen we telkens op geheel nieuwe ideeën. | O80: =IF(OR(E80<1, E80>4), "Alleen de antwoordmogelijkheden 1, 2, 3 of 4 zijn mogelijk.","") -> Alleen de antwoordmogelijkheden 1, 2, 3 of 4 zijn mogelijk.
B88: Copyright 2023 Inge Audenaerde en Miranda de Hei

Sheet Respondent 5
B1: De Haagse Hogeschool
B5: Quick scan co-creatie in het hoger onderwijs
B8: Aan de slag
B9: Wat goed dat jullie je co-creatieproject een boost willen geven door een tussentijdse monitoring van de samenwerking. Het invullen van deze Quick Scan
B10: kan jullie daarbij ondersteunen. De Quick Scan is een praktische tool gebaseerd op een gevalideerde vragenlijst (De Hei, & Audenaerde, submitted) om
B11: co-creatieprocessen te optimaliseren. Co-creatie is een samenwerkingsproces waarbij studenten, docenten en partijen buiten de hogeschool/universiteit
B12: met elkaar werken om innovatieve producten, processen of kennis te ontwikkelen.
B13: Download alsjeblieft eerst deze file voordat je hem met de groep gaat invullen!
B14: Jij en de andere deelnemers vullen de vragenlijst elk in op een eigen tabblad. Je spreekt vooraf af wie welk tabblad invult. Dit kun je doen tijdens een
B15: bijeenkomst of tussen twee bijeenkomsten in. Bij het invullen van de Quick Scan, houd dan in gedachten hoe jullie groep functioneert en hoe je denkt dat
B16: de groepsleden het groepsproces ervaren. De resultaten van de groep vind je op het tabblad “eindscore”. Daar kun je ook lezen hoe je die resultaten
B17: kunt interpreteren en wat een volgende stap is.
... B28: 4 = geheel eens
E33: Antwoord | G33: Eindscore: | H33: Individueel
B34: Positieve wederzijdse afhankelijkheid | H34: abs. | I34: gemidd.
C35: 1. Voor informatie en advies zijn we van elkaar afhankelijk. | O35: =IF(OR(E35<1, E35>4), "Alleen de antwoordmogelijkheden 1, 2, 3 of 4 zijn mogelijk.","") -> Alleen de antwoordmogelijkheden 1, 2, 3 of 4 zijn mogelijk.
C36: 2. Als mijn groepsleden hun taken succesvol uitvoeren, heeft dat een positieve invloed op het werk van de groep. | G36: =B34 -> Positieve wederzijdse afhankelijkheid | H36: =SUM(E35:E38) -> 0 | I36: =H36/4 -> 0 | O36: =IF(OR(E36<1, E36>4), "Alleen de antwoordmogelijkheden 1, 2, 3 of 4 zijn mogelijk.","") -> Alleen de antwoordmogelijkheden 1, 2, 3 of 4 zijn mogelijk.
C37: 3. In onze groep hebben we elkaar nodig om aan onze doelen te werken. | G37: =B40 -> Individuele verantwoordelijkheid | H37: =E41+K42+L42+M42+N42+E43 -> 0 | I37: =H37/3 -> 0 | O37: =IF(OR(E37<1, E37>4), "Alleen de antwoordmogelijkheden 1, 2, 3 of 4 zijn mogelijk.","") -> Alleen de antwoordmogelijkheden 1, 2, 3 of 4 zijn mogelijk.
C38: 4. In onze groep zijn we afhankelijk van elkaar om succesvol te kunnen zijn. | G38: =B45 -> Interactie | H38: =SUM(E46:E48) -> 0 | I38: =H38/3 -> 0 | O38: =IF(OR(E38<1, E38>4), "Alleen de antwoordmogelijkheden 1, 2, 3 of 4 zijn mogelijk.","") -> Alleen de antwoordmogelijkheden 1, 2, 3 of 4 zijn mogelijk.
G39: =B50 -> Groepsevaluatie | H39: =SUM(E51:E53) -> 0 | I39: =H39/3 -> 0
B40: Individuele verantwoordelijkheid | G40: =B55 -> Gedeelde mentale modellen | H40: =SUM(E56:E60) -> 0 | I40: =H40/5 -> 0
C41: 1. In onze groep draagt iedereen evenveel bij aan het project. | G41: =B62 -> Een veilige en ondersteunende omgeving | H41: =SUM(E63:E71) -> 0 | I41: =H41/9 -> 0 | O41: =IF(OR(E41<1, E41>4), "Alleen de antwoordmogelijkheden 1, 2, 3 of 4 zijn mogelijk.","") -> Alleen de antwoordmogelijkheden 1, 2, 3 of 4 zijn mogelijk.
C42: 2. In onze groep is er tenminste een groepslid dat meestal het werk aan anderen overlaat. | G42: =B73 -> Creatieve community | H42: =SUM(E74:E80) -> 0 | I42: =H42/7 -> 0 | K42: =IF(E42=4,1,0) -> 0 | L42: =IF(E42=3,2,0) -> 0 | M42: =IF(E42=2,3,0) -> 0 | N42: =IF(E42=1,4,0) -> 0 | O42: =IF(OR(E42<1, E42>4), "Alleen de antwoordmogelijkheden 1, 2, 3 of 4 zijn mogelijk.","") -> Alleen de antwoordmogelijkheden 1, 2, 3 of 4 zijn mogelijk.
C43: 3. Iedereen in de groep wil graag bijdragen aan het project. | G43: Totaal | H43: =SUM(H36:H42) -> 0 | I43: =SUM(I36:I42)/7 -> 0 | O43: =IF(OR(E43<1, E43>4), "Alleen de antwoordmogelijkheden 1, 2, 3 of 4 zijn mogelijk.","") -> Alleen de antwoordmogelijkheden 1, 2, 3 of 4 zijn mogelijk.
B45: Interactie
C46: 1. In onze groep is er ruimte voor de mening van elk groepslid. | O46: =IF(OR(E46<1, E46>4), "Alleen de antwoordmogelijkheden 1, 2, 3 of 4 zijn mogelijk.","") -> Alleen de antwoordmogelijkheden 1, 2, 3 of 4 zijn mogelijk.
C47: 2. Problemen en lastige onderwerpen worden besproken en niet vermeden in onze gesprekken. | O47: =IF(OR(E47<1, E47>4), "Alleen de antwoordmogelijkheden 1, 2, 3 of 4 zijn mogelijk.","") -> Alleen de antwoordmogelijkheden 1, 2, 3 of 4 zijn mogelijk.
C48: 3. In het werken met deze groep worden mijn unieke kennis, vaardigheden en talenten gewaardeerd en gebruikt. | O48: =IF(OR(E48<1, E48>4), "Alleen de antwoordmogelijkheden 1, 2, 3 of 4 zijn mogelijk.","") -> Alleen de antwoordmogelijkheden 1, 2, 3 of 4 zijn mogelijk.
B50: Groepsevaluatie
C51: 1. We nemen regelmatig de tijd om uit te zoeken hoe we het groepsproces kunnen verbeteren. | O51: =IF(OR(E51<1, E51>4), "Alleen de antwoordmogelijkheden 1, 2, 3 of 4 zijn mogelijk.","") -> Alleen de antwoordmogelijkheden 1, 2, 3 of 4 zijn mogelijk.
C52: 2. In deze groep is er telkens iemand die ervoor zorgt dat we even de tijd nemen om te reflecteren op het groepsproces. | O52: =IF(OR(E52<1, E52>4), "Alleen de antwoordmogelijkheden 1, 2, 3 of 4 zijn mogelijk.","") -> Alleen de antwoordmogelijkheden 1, 2, 3 of 4 zijn mogelijk.
C53: 3. We zijn het er als groep over eens dat het belangrijk is om het groepsproces te evalueren. | O53: =IF(OR(E53<1, E53>4), "Alleen de antwoordmogelijkheden 1, 2, 3 of 4 zijn mogelijk.","") -> Alleen de antwoordmogelijkheden 1, 2, 3 of 4 zijn mogelijk.
B55: Gedeelde mentale modellen
C56: 1. Vanaf het begin was het duidelijk wat we als groep wilden bereiken. | O56: =IF(OR(E56<1, E56>4), "Alleen de antwoordmogelijkheden 1, 2, 3 of 4 zijn mogelijk.","") -> Alleen de antwoordmogelijkheden 1, 2, 3 of 4 zijn mogelijk.
C57: 2. Groepsleden begrijpen wat van hen verwacht wordt in hun rol als groepslid. | O57: =IF(OR(E57<1, E57>4), "Alleen de antwoordmogelijkheden 1, 2, 3 of 4 zijn mogelijk.","") -> Alleen de antwoordmogelijkheden 1, 2, 3 of 4 zijn mogelijk.
C58: 3. Kort na de start had de groep een gezamenlijk idee over welke taak we moesten volbrengen. | O58: =IF(OR(E58<1, E58>4), "Alleen de antwoordmogelijkheden 1, 2, 3 of 4 zijn mogelijk.","") -> Alleen de antwoordmogelijkheden 1, 2, 3 of 4 zijn mogelijk.
C59: 4. Kort na de start had de groep een gezamenlijk idee over hoe we die taak zouden gaan uitvoeren. | O59: =IF(OR(E59<1, E59>4), "Alleen de antwoordmogelijkheden 1, 2, 3 of 4 zijn mogelijk.","") -> Alleen de antwoordmogelijkheden 1, 2, 3 of 4 zijn mogelijk.
C60: 5. De groepsleden zijn gericht op het bereiken van de doelen die we gezamenlijk hebben. | O60: =IF(OR(E60<1, E60>4), "Alleen de antwoordmogelijkheden 1, 2, 3 of 4 zijn mogelijk.","") -> Alleen de antwoordmogelijkheden 1, 2, 3 of 4 zijn mogelijk.
B62: Een veilige en ondersteunende omgeving
C63: 1. Het voelt veilig om successen te delen in deze groep. | O63: =IF(OR(E63<1, E63>4), "Alleen de antwoordmogelijkheden 1, 2, 3 of 4 zijn mogelijk.","") -> Alleen de antwoordmogelijkheden 1, 2, 3 of 4 zijn mogelijk.
C64: 2. Het is voelt veilig om aan te geven wat je nodig hebt in deze groep. | O64: =IF(OR(E64<1, E64>4), "Alleen de antwoordmogelijkheden 1, 2, 3 of 4 zijn mogelijk.","") -> Alleen de antwoordmogelijkheden 1, 2, 3 of 4 zijn mogelijk.
C65: 3. We voelen ons veilig om anderen in deze groep om hulp te vragen. | O65: =IF(OR(E65<1, E65>4), "Alleen de antwoordmogelijkheden 1, 2, 3 of 4 zijn mogelijk.","") -> Alleen de antwoordmogelijkheden 1, 2, 3 of 4 zijn mogelijk.
C66: 4. We kunnen vrijelijk ons enthousiasme over het werk met anderen in de groep delen. | O66: =IF(OR(E66<1, E66>4), "Alleen de antwoordmogelijkheden 1, 2, 3 of 4 zijn mogelijk.","") -> Alleen de antwoordmogelijkheden 1, 2, 3 of 4 zijn mogelijk.
C67: 5. Het is veilig om persoonlijke onzekerheden te delen met anderen in deze groep. | O67: =IF(OR(E67<1, E67>4), "Alleen de antwoordmogelijkheden 1, 2, 3 of 4 zijn mogelijk.","") -> Alleen de antwoordmogelijkheden 1, 2, 3 of 4 zijn mogelijk.
C68: 6. Verschillen tussen mensen in deze groep worden gerespecteerd. | O68: =IF(OR(E68<1, E68>4), "Alleen de antwoordmogelijkheden 1, 2, 3 of 4 zijn mogelijk.","") -> Alleen de antwoordmogelijkheden 1, 2, 3 of 4 zijn mogelijk.
C69: 7. Er is veel respect voor anderen in de groep. | O69: =IF(OR(E69<1, E69>4), "Alleen de antwoordmogelijkheden 1, 2, 3 of 4 zijn mogelijk.","") -> Alleen de antwoordmogelijkheden 1, 2, 3 of 4 zijn mogelijk.
C70: 8. Gevoelens van groepsleden worden geaccepteerd, net als gedachten en ideeën. | O70: =IF(OR(E70<1, E70>4), "Alleen de antwoordmogelijkheden 1, 2, 3 of 4 zijn mogelijk.","") -> Alleen de antwoordmogelijkheden 1, 2, 3 of 4 zijn mogelijk.
C71: 9. Als er meningsverschillen en conflicten zijn, wordt hiermee op respectvolle wijze omgegaan. | O71: =IF(OR(E71<1, E71>4), "Alleen de antwoordmogelijkheden 1, 2, 3 of 4 zijn mogelijk.","") -> Alleen de antwoordmogelijkheden 1, 2, 3 of 4 zijn mogelijk.
B73: Creatieve community
C74: 1. Er is een goede sfeer in deze groep. | O74: =IF(OR(E74<1, E74>4), "Alleen de antwoordmogelijkheden 1, 2, 3 of 4 zijn mogelijk.","") -> Alleen de antwoordmogelijkheden 1, 2, 3 of 4 zijn mogelijk.
C75: 2. We voelen ons een hechte groep. | O75: =IF(OR(E75<1, E75>4), "Alleen de antwoordmogelijkheden 1, 2, 3 of 4 zijn mogelijk.","") -> Alleen de antwoordmogelijkheden 1, 2, 3 of 4 zijn mogelijk.
C76: 3. We zijn er trots op dat we een onderdeel van deze groep zijn. | O76: =IF(OR(E76<1, E76>4), "Alleen de antwoordmogelijkheden 1, 2, 3 of 4 zijn mogelijk.","") -> Alleen de antwoordmogelijkheden 1, 2, 3 of 4 zijn mogelijk.
C77: 4. Mensen voelen zich loyaal naar andere groepsleden. | O77: =IF(OR(E77<1, E77>4), "Alleen de antwoordmogelijkheden 1, 2, 3 of 4 zijn mogelijk.","") -> Alleen de antwoordmogelijkheden 1, 2, 3 of 4 zijn mogelijk.
C78: 5. De meeste groepsleden houden ervan nieuwe dingen te proberen, zelfs als het soms nergens toe leidt. | O78: =IF(OR(E78<1, E78>4), "Alleen de antwoordmogelijkheden 1, 2, 3 of 4 zijn mogelijk.","") -> Alleen de antwoordmogelijkheden 1, 2, 3 of 4 zijn mogelijk.
C79: 6. De groepsleden houden ervan te experimenteren met andere werkwijzen. | O79: =IF(OR(E79<1, E79>4), "Alleen de antwoordmogelijkheden 1, 2, 3 of 4 zijn mogelijk.","") -> Alleen de antwoordmogelijkheden 1, 2, 3 of 4 zijn mogelijk.
C80: 7. Als groep komen we telkens op geheel nieuwe ideeën. | O80: =IF(OR(E80<1, E80>4), "Alleen de antwoordmogelijkheden 1, 2, 3 of 4 zijn mogelijk.","") -> Alleen de antwoordmogelijkheden 1, 2, 3 of 4 zijn mogelijk.
B88: Copyright 2023 Inge Audenaerde en Miranda de Hei

Sheet Respondent 6
B1: De Haagse Hogeschool
B5: Quick scan co-creatie in het hoger onderwijs
B8: Aan de slag
B9: Wat goed dat jullie je co-creatieproject een boost willen geven door een tussentijdse monitoring van de samenwerking. Het invullen van deze Quick Scan
B10: kan jullie daarbij ondersteunen. De Quick Scan is een praktische tool gebaseerd op een gevalideerde vragenlijst (De Hei, & Audenaerde, submitted) om
B11: co-creatieprocessen te optimaliseren. Co-creatie is een samenwerkingsproces waarbij studenten, docenten en partijen buiten de hogeschool/universiteit
B12: met elkaar werken om innovatieve producten, processen of kennis te ontwikkelen.
B13: Download alsjeblieft eerst deze file voordat je hem met de groep gaat invullen!
B14: Jij en de andere deelnemers vullen de vragenlijst elk in op een eigen tabblad. Je spreekt vooraf af wie welk tabblad invult. Dit kun je doen tijdens een
B15: bijeenkomst of tussen twee bijeenkomsten in. Bij het invullen van de Quick Scan, houd dan in gedachten hoe jullie groep functioneert en hoe je denkt dat
B16: de groepsleden het groepsproces ervaren. De resultaten van de groep vind je op het tabblad “eindscore”. Daar kun je ook lezen hoe je die resultaten
B17: kunt interpreteren en wat een volgende stap is.
... B28: 4 = geheel eens
E33: Antwoord | G33: Eindscore: | H33: Individueel
B34: Positieve wederzijdse afhankelijkheid | H34: abs. | I34: gemidd.
C35: 1. Voor informatie en advies zijn we van elkaar afhankelijk. | O35: =IF(OR(E35<1, E35>4), "Alleen de antwoordmogelijkheden 1, 2, 3 of 4 zijn mogelijk.","") -> Alleen de antwoordmogelijkheden 1, 2, 3 of 4 zijn mogelijk.
C36: 2. Als mijn groepsleden hun taken succesvol uitvoeren, heeft dat een positieve invloed op het werk van de groep. | G36: =B34 -> Positieve wederzijdse afhankelijkheid | H36: =SUM(E35:E38) -> 0 | I36: =H36/4 -> 0 | O36: =IF(OR(E36<1, E36>4), "Alleen de antwoordmogelijkheden 1, 2, 3 of 4 zijn mogelijk.","") -> Alleen de antwoordmogelijkheden 1, 2, 3 of 4 zijn mogelijk.
C37: 3. In onze groep hebben we elkaar nodig om aan onze doelen te werken. | G37: =B40 -> Individuele verantwoordelijkheid | H37: =E41+K42+L42+M42+N42+E43 -> 0 | I37: =H37/3 -> 0 | O37: =IF(OR(E37<1, E37>4), "Alleen de antwoordmogelijkheden 1, 2, 3 of 4 zijn mogelijk.","") -> Alleen de antwoordmogelijkheden 1, 2, 3 of 4 zijn mogelijk.
C38: 4. In onze groep zijn we afhankelijk van elkaar om succesvol te kunnen zijn. | G38: =B45 -> Interactie | H38: =SUM(E46:E48) -> 0 | I38: =H38/3 -> 0 | O38: =IF(OR(E38<1, E38>4), "Alleen de antwoordmogelijkheden 1, 2, 3 of 4 zijn mogelijk.","") -> Alleen de antwoordmogelijkheden 1, 2, 3 of 4 zijn mogelijk.
G39: =B50 -> Groepsevaluatie | H39: =SUM(E51:E53) -> 0 | I39: =H39/3 -> 0
B40: Individuele verantwoordelijkheid | G40: =B55 -> Gedeelde mentale modellen | H40: =SUM(E56:E60) -> 0 | I40: =H40/5 -> 0
C41: 1. In onze groep draagt iedereen evenveel bij aan het project. | G41: =B62 -> Een veilige en ondersteunende omgeving | H41: =SUM(E63:E71) -> 0 | I41: =H41/9 -> 0 | O41: =IF(OR(E41<1, E41>4), "Alleen de antwoordmogelijkheden 1, 2, 3 of 4 zijn mogelijk.","") -> Alleen de antwoordmogelijkheden 1, 2, 3 of 4 zijn mogelijk.
C42: 2. In onze groep is er tenminste een groepslid dat meestal het werk aan anderen overlaat. | G42: =B73 -> Creatieve community | H42: =SUM(E74:E80) -> 0 | I42: =H42/7 -> 0 | K42: =IF(E42=4,1,0) -> 0 | L42: =IF(E42=3,2,0) -> 0 | M42: =IF(E42=2,3,0) -> 0 | N42: =IF(E42=1,4,0) -> 0 | O42: =IF(OR(E42<1, E42>4), "Alleen de antwoordmogelijkheden 1, 2, 3 of 4 zijn mogelijk.","") -> Alleen de antwoordmogelijkheden 1, 2, 3 of 4 zijn mogelijk.
C43: 3. Iedereen in de groep wil graag bijdragen aan het project. | G43: Totaal | H43: =SUM(H36:H42) -> 0 | I43: =SUM(I36:I42)/7 -> 0 | O43: =IF(OR(E43<1, E43>4), "Alleen de antwoordmogelijkheden 1, 2, 3 of 4 zijn mogelijk.","") -> Alleen de antwoordmogelijkheden 1, 2, 3 of 4 zijn mogelijk.
B45: Interactie
C46: 1. In onze groep is er ruimte voor de mening van elk groepslid. | O46: =IF(OR(E46<1, E46>4), "Alleen de antwoordmogelijkheden 1, 2, 3 of 4 zijn mogelijk.","") -> Alleen de antwoordmogelijkheden 1, 2, 3 of 4 zijn mogelijk.
C47: 2. Problemen en lastige onderwerpen worden besproken en niet vermeden in onze gesprekken. | O47: =IF(OR(E47<1, E47>4), "Alleen de antwoordmogelijkheden 1, 2, 3 of 4 zijn mogelijk.","") -> Alleen de antwoordmogelijkheden 1, 2, 3 of 4 zijn mogelijk.
C48: 3. In het werken met deze groep worden mijn unieke kennis, vaardigheden en talenten gewaardeerd en gebruikt. | O48: =IF(OR(E48<1, E48>4), "Alleen de antwoordmogelijkheden 1, 2, 3 of 4 zijn mogelijk.","") -> Alleen de antwoordmogelijkheden 1, 2, 3 of 4 zijn mogelijk.
B50: Groepsevaluatie
C51: 1. We nemen regelmatig de tijd om uit te zoeken hoe we het groepsproces kunnen verbeteren. | O51: =IF(OR(E51<1, E51>4), "Alleen de antwoordmogelijkheden 1, 2, 3 of 4 zijn mogelijk.","") -> Alleen de antwoordmogelijkheden 1, 2, 3 of 4 zijn mogelijk.
C52: 2. In deze groep is er telkens iemand die ervoor zorgt dat we even de tijd nemen om te reflecteren op het groepsproces. | O52: =IF(OR(E52<1, E52>4), "Alleen de antwoordmogelijkheden 1, 2, 3 of 4 zijn mogelijk.","") -> Alleen de antwoordmogelijkheden 1, 2, 3 of 4 zijn mogelijk.
C53: 3. We zijn het er als groep over eens dat het belangrijk is om het groepsproces te evalueren. | O53: =IF(OR(E53<1, E53>4), "Alleen de antwoordmogelijkheden 1, 2, 3 of 4 zijn mogelijk.","") -> Alleen de antwoordmogelijkheden 1, 2, 3 of 4 zijn mogelijk.
B55: Gedeelde mentale modellen
C56: 1. Vanaf het begin was het duidelijk wat we als groep wilden bereiken. | O56: =IF(OR(E56<1, E56>4), "Alleen de antwoordmogelijkheden 1, 2, 3 of 4 zijn mogelijk.","") -> Alleen de antwoordmogelijkheden 1, 2, 3 of 4 zijn mogelijk.
C57: 2. Groepsleden begrijpen wat van hen verwacht wordt in hun rol als groepslid. | O57: =IF(OR(E57<1, E57>4), "Alleen de antwoordmogelijkheden 1, 2, 3 of 4 zijn mogelijk.","") -> Alleen de antwoordmogelijkheden 1, 2, 3 of 4 zijn mogelijk.
C58: 3. Kort na de start had de groep een gezamenlijk idee over welke taak we moesten volbrengen. | O58: =IF(OR(E58<1, E58>4), "Alleen de antwoordmogelijkheden 1, 2, 3 of 4 zijn mogelijk.","") -> Alleen de antwoordmogelijkheden 1, 2, 3 of 4 zijn mogelijk.
C59: 4. Kort na de start had de groep een gezamenlijk idee over hoe we die taak zouden gaan uitvoeren. | O59: =IF(OR(E59<1, E59>4), "Alleen de antwoordmogelijkheden 1, 2, 3 of 4 zijn mogelijk.","") -> Alleen de antwoordmogelijkheden 1, 2, 3 of 4 zijn mogelijk.
C60: 5. De groepsleden zijn gericht op het bereiken van de doelen die we gezamenlijk hebben. | O60: =IF(OR(E60<1, E60>4), "Alleen de antwoordmogelijkheden 1, 2, 3 of 4 zijn mogelijk.","") -> Alleen de antwoordmogelijkheden 1, 2, 3 of 4 zijn mogelijk.
B62: Een veilige en ondersteunende omgeving
C63: 1. Het voelt veilig om successen te delen in deze groep. | O63: =IF(OR(E63<1, E63>4), "Alleen de antwoordmogelijkheden 1, 2, 3 of 4 zijn mogelijk.","") -> Alleen de antwoordmogelijkheden 1, 2, 3 of 4 zijn mogelijk.
C64: 2. Het is voelt veilig om aan te geven wat je nodig hebt in deze groep. | O64: =IF(OR(E64<1, E64>4), "Alleen de antwoordmogelijkheden 1, 2, 3 of 4 zijn mogelijk.","") -> Alleen de antwoordmogelijkheden 1, 2, 3 of 4 zijn mogelijk.
C65: 3. We voelen ons veilig om anderen in deze groep om hulp te vragen. | O65: =IF(OR(E65<1, E65>4), "Alleen de antwoordmogelijkheden 1, 2, 3 of 4 zijn mogelijk.","") -> Alleen de antwoordmogelijkheden 1, 2, 3 of 4 zijn mogelijk.
C66: 4. We kunnen vrijelijk ons enthousiasme over het werk met anderen in de groep delen. | O66: =IF(OR(E66<1, E66>4), "Alleen de antwoordmogelijkheden 1, 2, 3 of 4 zijn mogelijk.","") -> Alleen de antwoordmogelijkheden 1, 2, 3 of 4 zijn mogelijk.
C67: 5. Het is veilig om persoonlijke onzekerheden te delen met anderen in deze groep. | O67: =IF(OR(E67<1, E67>4), "Alleen de antwoordmogelijkheden 1, 2, 3 of 4 zijn mogelijk.","") -> Alleen de antwoordmogelijkheden 1, 2, 3 of 4 zijn mogelijk.
C68: 6. Verschillen tussen mensen in deze groep worden gerespecteerd. | O68: =IF(OR(E68<1, E68>4), "Alleen de antwoordmogelijkheden 1, 2, 3 of 4 zijn mogelijk.","") -> Alleen de antwoordmogelijkheden 1, 2, 3 of 4 zijn mogelijk.
C69: 7. Er is veel respect voor anderen in de groep. | O69: =IF(OR(E69<1, E69>4), "Alleen de antwoordmogelijkheden 1, 2, 3 of 4 zijn mogelijk.","") -> Alleen de antwoordmogelijkheden 1, 2, 3 of 4 zijn mogelijk.
C70: 8. Gevoelens van groepsleden worden geaccepteerd, net als gedachten en ideeën. | O70: =IF(OR(E70<1, E70>4), "Alleen de antwoordmogelijkheden 1, 2, 3 of 4 zijn mogelijk.","") -> Alleen de antwoordmogelijkheden 1, 2, 3 of 4 zijn mogelijk.
C71: 9. Als er meningsverschillen en conflicten zijn, wordt hiermee op respectvolle wijze omgegaan. | O71: =IF(OR(E71<1, E71>4), "Alleen de antwoordmogelijkheden 1, 2, 3 of 4 zijn mogelijk.","") -> Alleen de antwoordmogelijkheden 1, 2, 3 of 4 zijn mogelijk.
B73: Creatieve community
C74: 1. Er is een goede sfeer in deze groep. | O74: =IF(OR(E74<1, E74>4), "Alleen de antwoordmogelijkheden 1, 2, 3 of 4 zijn mogelijk.","") -> Alleen de antwoordmogelijkheden 1, 2, 3 of 4 zijn mogelijk.
C75: 2. We voelen ons een hechte groep. | O75: =IF(OR(E75<1, E75>4), "Alleen de antwoordmogelijkheden 1, 2, 3 of 4 zijn mogelijk.","") -> Alleen de antwoordmogelijkheden 1, 2, 3 of 4 zijn mogelijk.
C76: 3. We zijn er trots op dat we een onderdeel van deze groep zijn. | O76: =IF(OR(E76<1, E76>4), "Alleen de antwoordmogelijkheden 1, 2, 3 of 4 zijn mogelijk.","") -> Alleen de antwoordmogelijkheden 1, 2, 3 of 4 zijn mogelijk.
C77: 4. Mensen voelen zich loyaal naar andere groepsleden. | O77: =IF(OR(E77<1, E77>4), "Alleen de antwoordmogelijkheden 1, 2, 3 of 4 zijn mogelijk.","") -> Alleen de antwoordmogelijkheden 1, 2, 3 of 4 zijn mogelijk.
C78: 5. De meeste groepsleden houden ervan nieuwe dingen te proberen, zelfs als het soms nergens toe leidt. | O78: =IF(OR(E78<1, E78>4), "Alleen de antwoordmogelijkheden 1, 2, 3 of 4 zijn mogelijk.","") -> Alleen de antwoordmogelijkheden 1, 2, 3 of 4 zijn mogelijk.
C79: 6. De groepsleden houden ervan te experimenteren met andere werkwijzen. | O79: =IF(OR(E79<1, E79>4), "Alleen de antwoordmogelijkheden 1, 2, 3 of 4 zijn mogelijk.","") -> Alleen de antwoordmogelijkheden 1, 2, 3 of 4 zijn mogelijk.
C80: 7. Als groep komen we telkens op geheel nieuwe ideeën. | O80: =IF(OR(E80<1, E80>4), "Alleen de antwoordmogelijkheden 1, 2, 3 of 4 zijn mogelijk.","") -> Alleen de antwoordmogelijkheden 1, 2, 3 of 4 zijn mogelijk.
B88: Copyright 2023 Inge Audenaerde en Miranda de Hei

Sheet Respondent 7
B1: De Haagse Hogeschool
B5: Quick scan co-creatie in het hoger onderwijs
B8: Aan de slag
B9: Wat goed dat jullie je co-creatieproject een boost willen geven door een tussentijdse monitoring van de samenwerking. Het invullen van deze Quick Scan
B10: kan jullie daarbij ondersteunen. De Quick Scan is een praktische tool gebaseerd op een gevalideerde vragenlijst (De Hei, & Audenaerde, submitted) om
B11: co-creatieprocessen te optimaliseren. Co-creatie is een samenwerkingsproces waarbij studenten, docenten en partijen buiten de hogeschool/universiteit
B12: met elkaar werken om innovatieve producten, processen of kennis te ontwikkelen.
B13: Download alsjeblieft eerst deze file voordat je hem met de groep gaat invullen!
B14: Jij en de andere deelnemers vullen de vragenlijst elk in op een eigen tabblad. Je spreekt vooraf af wie welk tabblad invult. Dit kun je doen tijdens een
B15: bijeenkomst of tussen twee bijeenkomsten in. Bij het invullen van de Quick Scan, houd dan in gedachten hoe jullie groep functioneert en hoe je denkt dat
B16: de groepsleden het groepsproces ervaren. De resultaten van de groep vind je op het tabblad “eindscore”. Daar kun je ook lezen hoe je die resultaten
B17: kunt interpreteren en wat een volgende stap is.
... B28: 4 = geheel eens
E33: Antwoord | G33: Eindscore: | H33: Individueel
B34: Positieve wederzijdse afhankelijkheid | H34: abs. | I34: gemidd.
C35: 1. Voor informatie en advies zijn we van elkaar afhankelijk. | O35: =IF(OR(E35<1, E35>4), "Alleen de antwoordmogelijkheden 1, 2, 3 of 4 zijn mogelijk.","") -> Alleen de antwoordmogelijkheden 1, 2, 3 of 4 zijn mogelijk.
C36: 2. Als mijn groepsleden hun taken succesvol uitvoeren, heeft dat een positieve invloed op het werk van de groep. | G36: =B34 -> Positieve wederzijdse afhankelijkheid | H36: =SUM(E35:E38) -> 0 | I36: =H36/4 -> 0 | O36: =IF(OR(E36<1, E36>4), "Alleen de antwoordmogelijkheden 1, 2, 3 of 4 zijn mogelijk.","") -> Alleen de antwoordmogelijkheden 1, 2, 3 of 4 zijn mogelijk.
C37: 3. In onze groep hebben we elkaar nodig om aan onze doelen te werken. | G37: =B40 -> Individuele verantwoordelijkheid | H37: =E41+K42+L42+M42+N42+E43 -> 0 | I37: =H37/3 -> 0 | O37: =IF(OR(E37<1, E37>4), "Alleen de antwoordmogelijkheden 1, 2, 3 of 4 zijn mogelijk.","") -> Alleen de antwoordmogelijkheden 1, 2, 3 of 4 zijn mogelijk.
C38: 4. In onze groep zijn we afhankelijk van elkaar om succesvol te kunnen zijn. | G38: =B45 -> Interactie | H38: =SUM(E46:E48) -> 0 | I38: =H38/3 -> 0 | O38: =IF(OR(E38<1, E38>4), "Alleen de antwoordmogelijkheden 1, 2, 3 of 4 zijn mogelijk.","") -> Alleen de antwoordmogelijkheden 1, 2, 3 of 4 zijn mogelijk.
G39: =B50 -> Groepsevaluatie | H39: =SUM(E51:E53) -> 0 | I39: =H39/3 -> 0
B40: Individuele verantwoordelijkheid | G40: =B55 -> Gedeelde mentale modellen | H40: =SUM(E56:E60) -> 0 | I40: =H40/5 -> 0
C41: 1. In onze groep draagt iedereen evenveel bij aan het project. | G41: =B62 -> Een veilige en ondersteunende omgeving | H41: =SUM(E63:E71) -> 0 | I41: =H41/9 -> 0 | O41: =IF(OR(E41<1, E41>4), "Alleen de antwoordmogelijkheden 1, 2, 3 of 4 zijn mogelijk.","") -> Alleen de antwoordmogelijkheden 1, 2, 3 of 4 zijn mogelijk.
C42: 2. In onze groep is er tenminste een groepslid dat meestal het werk aan anderen overlaat. | G42: =B73 -> Creatieve community | H42: =SUM(E74:E80) -> 0 | I42: =H42/7 -> 0 | K42: =IF(E42=4,1,0) -> 0 | L42: =IF(E42=3,2,0) -> 0 | M42: =IF(E42=2,3,0) -> 0 | N42: =IF(E42=1,4,0) -> 0 | O42: =IF(OR(E42<1, E42>4), "Alleen de antwoordmogelijkheden 1, 2, 3 of 4 zijn mogelijk.","") -> Alleen de antwoordmogelijkheden 1, 2, 3 of 4 zijn mogelijk.
C43: 3. Iedereen in de groep wil graag bijdragen aan het project. | G43: Totaal | H43: =SUM(H36:H42) -> 0 | I43: =SUM(I36:I42)/7 -> 0 | O43: =IF(OR(E43<1, E43>4), "Alleen de antwoordmogelijkheden 1, 2, 3 of 4 zijn mogelijk.","") -> Alleen de antwoordmogelijkheden 1, 2, 3 of 4 zijn mogelijk.
B45: Interactie
C46: 1. In onze groep is er ruimte voor de mening van elk groepslid. | O46: =IF(OR(E46<1, E46>4), "Alleen de antwoordmogelijkheden 1, 2, 3 of 4 zijn mogelijk.","") -> Alleen de antwoordmogelijkheden 1, 2, 3 of 4 zijn mogelijk.
C47: 2. Problemen en lastige onderwerpen worden besproken en niet vermeden in onze gesprekken. | O47: =IF(OR(E47<1, E47>4), "Alleen de antwoordmogelijkheden 1, 2, 3 of 4 zijn mogelijk.","") -> Alleen de antwoordmogelijkheden 1, 2, 3 of 4 zijn mogelijk.
C48: 3. In het werken met deze groep worden mijn unieke kennis, vaardigheden en talenten gewaardeerd en gebruikt. | O48: =IF(OR(E48<1, E48>4), "Alleen de antwoordmogelijkheden 1, 2, 3 of 4 zijn mogelijk.","") -> Alleen de antwoordmogelijkheden 1, 2, 3 of 4 zijn mogelijk.
B50: Groepsevaluatie
C51: 1. We nemen regelmatig de tijd om uit te zoeken hoe we het groepsproces kunnen verbeteren. | O51: =IF(OR(E51<1, E51>4), "Alleen de antwoordmogelijkheden 1, 2, 3 of 4 zijn mogelijk.","") -> Alleen de antwoordmogelijkheden 1, 2, 3 of 4 zijn mogelijk.
C52: 2. In deze groep is er telkens iemand die ervoor zorgt dat we even de tijd nemen om te reflecteren op het groepsproces. | O52: =IF(OR(E52<1, E52>4), "Alleen de antwoordmogelijkheden 1, 2, 3 of 4 zijn mogelijk.","") -> Alleen de antwoordmogelijkheden 1, 2, 3 of 4 zijn mogelijk.
C53: 3. We zijn het er als groep over eens dat het belangrijk is om het groepsproces te evalueren. | O53: =IF(OR(E53<1, E53>4), "Alleen de antwoordmogelijkheden 1, 2, 3 of 4 zijn mogelijk.","") -> Alleen de antwoordmogelijkheden 1, 2, 3 of 4 zijn mogelijk.
B55: Gedeelde mentale modellen
C56: 1. Vanaf het begin was het duidelijk wat we als groep wilden bereiken. | O56: =IF(OR(E56<1, E56>4), "Alleen de antwoordmogelijkheden 1, 2, 3 of 4 zijn mogelijk.","") -> Alleen de antwoordmogelijkheden 1, 2, 3 of 4 zijn mogelijk.
C57: 2. Groepsleden begrijpen wat van hen verwacht wordt in hun rol als groepslid. | O57: =IF(OR(E57<1, E57>4), "Alleen de antwoordmogelijkheden 1, 2, 3 of 4 zijn mogelijk.","") -> Alleen de antwoordmogelijkheden 1, 2, 3 of 4 zijn mogelijk.
C58: 3. Kort na de start had de groep een gezamenlijk idee over welke taak we moesten volbrengen. | O58: =IF(OR(E58<1, E58>4), "Alleen de antwoordmogelijkheden 1, 2, 3 of 4 zijn mogelijk.","") -> Alleen de antwoordmogelijkheden 1, 2, 3 of 4 zijn mogelijk.
C59: 4. Kort na de start had de groep een gezamenlijk idee over hoe we die taak zouden gaan uitvoeren. | O59: =IF(OR(E59<1, E59>4), "Alleen de antwoordmogelijkheden 1, 2, 3 of 4 zijn mogelijk.","") -> Alleen de antwoordmogelijkheden 1, 2, 3 of 4 zijn mogelijk.
C60: 5. De groepsleden zijn gericht op het bereiken van de doelen die we gezamenlijk hebben. | O60: =IF(OR(E60<1, E60>4), "Alleen de antwoordmogelijkheden 1, 2, 3 of 4 zijn mogelijk.","") -> Alleen de antwoordmogelijkheden 1, 2, 3 of 4 zijn mogelijk.
B62: Een veilige en ondersteunende omgeving
C63: 1. Het voelt veilig om successen te delen in deze groep. | O63: =IF(OR(E63<1, E63>4), "Alleen de antwoordmogelijkheden 1, 2, 3 of 4 zijn mogelijk.","") -> Alleen de antwoordmogelijkheden 1, 2, 3 of 4 zijn mogelijk.
C64: 2. Het is voelt veilig om aan te geven wat je nodig hebt in deze groep. | O64: =IF(OR(E64<1, E64>4), "Alleen de antwoordmogelijkheden 1, 2, 3 of 4 zijn mogelijk.","") -> Alleen de antwoordmogelijkheden 1, 2, 3 of 4 zijn mogelijk.
C65: 3. We voelen ons veilig om anderen in deze groep om hulp te vragen. | O65: =IF(OR(E65<1, E65>4), "Alleen de antwoordmogelijkheden 1, 2, 3 of 4 zijn mogelijk.","") -> Alleen de antwoordmogelijkheden 1, 2, 3 of 4 zijn mogelijk.
C66: 4. We kunnen vrijelijk ons enthousiasme over het werk met anderen in de groep delen. | O66: =IF(OR(E66<1, E66>4), "Alleen de antwoordmogelijkheden 1, 2, 3 of 4 zijn mogelijk.","") -> Alleen de antwoordmogelijkheden 1, 2, 3 of 4 zijn mogelijk.
C67: 5. Het is veilig om persoonlijke onzekerheden te delen met anderen in deze groep. | O67: =IF(OR(E67<1, E67>4), "Alleen de antwoordmogelijkheden 1, 2, 3 of 4 zijn mogelijk.","") -> Alleen de antwoordmogelijkheden 1, 2, 3 of 4 zijn mogelijk.
C68: 6. Verschillen tussen mensen in deze groep worden gerespecteerd. | O68: =IF(OR(E68<1, E68>4), "Alleen de antwoordmogelijkheden 1, 2, 3 of 4 zijn mogelijk.","") -> Alleen de antwoordmogelijkheden 1, 2, 3 of 4 zijn mogelijk.
C69: 7. Er is veel respect voor anderen in de groep. | O69: =IF(OR(E69<1, E69>4), "Alleen de antwoordmogelijkheden 1, 2, 3 of 4 zijn mogelijk.","") -> Alleen de antwoordmogelijkheden 1, 2, 3 of 4 zijn mogelijk.
C70: 8. Gevoelens van groepsleden worden geaccepteerd, net als gedachten en ideeën. | O70: =IF(OR(E70<1, E70>4), "Alleen de antwoordmogelijkheden 1, 2, 3 of 4 zijn mogelijk.","") -> Alleen de antwoordmogelijkheden 1, 2, 3 of 4 zijn mogelijk.
C71: 9. Als er meningsverschillen en conflicten zijn, wordt hiermee op respectvolle wijze omgegaan. | O71: =IF(OR(E71<1, E71>4), "Alleen de antwoordmogelijkheden 1, 2, 3 of 4 zijn mogelijk.","") -> Alleen de antwoordmogelijkheden 1, 2, 3 of 4 zijn mogelijk.
B73: Creatieve community
C74: 1. Er is een goede sfeer in deze groep. | O74: =IF(OR(E74<1, E74>4), "Alleen de antwoordmogelijkheden 1, 2, 3 of 4 zijn mogelijk.","") -> Alleen de antwoordmogelijkheden 1, 2, 3 of 4 zijn mogelijk.
C75: 2. We voelen ons een hechte groep. | O75: =IF(OR(E75<1, E75>4), "Alleen de antwoordmogelijkheden 1, 2, 3 of 4 zijn mogelijk.","") -> Alleen de antwoordmogelijkheden 1, 2, 3 of 4 zijn mogelijk.
C76: 3. We zijn er trots op dat we een onderdeel van deze groep zijn. | O76: =IF(OR(E76<1, E76>4), "Alleen de antwoordmogelijkheden 1, 2, 3 of 4 zijn mogelijk.","") -> Alleen de antwoordmogelijkheden 1, 2, 3 of 4 zijn mogelijk.
C77: 4. Mensen voelen zich loyaal naar andere groepsleden. | O77: =IF(OR(E77<1, E77>4), "Alleen de antwoordmogelijkheden 1, 2, 3 of 4 zijn mogelijk.","") -> Alleen de antwoordmogelijkheden 1, 2, 3 of 4 zijn mogelijk.
C78: 5. De meeste groepsleden houden ervan nieuwe dingen te proberen, zelfs als het soms nergens toe leidt. | O78: =IF(OR(E78<1, E78>4), "Alleen de antwoordmogelijkheden 1, 2, 3 of 4 zijn mogelijk.","") -> Alleen de antwoordmogelijkheden 1, 2, 3 of 4 zijn mogelijk.
C79: 6. De groepsleden houden ervan te experimenteren met andere werkwijzen. | O79: =IF(OR(E79<1, E79>4), "Alleen de antwoordmogelijkheden 1, 2, 3 of 4 zijn mogelijk.","") -> Alleen de antwoordmogelijkheden 1, 2, 3 of 4 zijn mogelijk.
C80: 7. Als groep komen we telkens op geheel nieuwe ideeën. | O80: =IF(OR(E80<1, E80>4), "Alleen de antwoordmogelijkheden 1, 2, 3 of 4 zijn mogelijk.","") -> Alleen de antwoordmogelijkheden 1, 2, 3 of 4 zijn mogelijk.
B88: Copyright 2023 Inge Audenaerde en Miranda de Hei

Sheet Respondent 8
B1: De Haagse Hogeschool
B5: Quick scan co-creatie in het hoger onderwijs
B8: Aan de slag
B9: Wat goed dat jullie je co-creatieproject een boost willen geven door een tussentijdse monitoring van de samenwerking. Het invullen van deze Quick Scan
B10: kan jullie daarbij ondersteunen. De Quick Scan is een praktische tool gebaseerd op een gevalideerde vragenlijst (De Hei, & Audenaerde, submitted) om
B11: co-creatieprocessen te optimaliseren. Co-creatie is een samenwerkingsproces waarbij studenten, docenten en partijen buiten de hogeschool/universiteit
B12: met elkaar werken om innovatieve producten, processen of kennis te ontwikkelen.
B13: Download alsjeblieft eerst deze file voordat je hem met de groep gaat invullen!
B14: Jij en de andere deelnemers vullen de vragenlijst elk in op een eigen tabblad. Je spreekt vooraf af wie welk tabblad invult. Dit kun je doen tijdens een
B15: bijeenkomst of tussen twee bijeenkomsten in. Bij het invullen van de Quick Scan, houd dan in gedachten hoe jullie groep functioneert en hoe je denkt dat
B16: de groepsleden het groepsproces ervaren. De resultaten van de groep vind je op het tabblad “eindscore”. Daar kun je ook lezen hoe je die resultaten
B17: kunt interpreteren en wat een volgende stap is.
... B28: 4 = geheel eens
E33: Antwoord | G33: Eindscore: | H33: Individueel
B34: Positieve wederzijdse afhankelijkheid | H34: abs. | I34: gemidd.
C35: 1. Voor informatie en advies zijn we van elkaar afhankelijk. | O35: =IF(OR(E35<1, E35>4), "Alleen de antwoordmogelijkheden 1, 2, 3 of 4 zijn mogelijk.","") -> Alleen de antwoordmogelijkheden 1, 2, 3 of 4 zijn mogelijk.
C36: 2. Als mijn groepsleden hun taken succesvol uitvoeren, heeft dat een positieve invloed op het werk van de groep. | G36: =B34 -> Positieve wederzijdse afhankelijkheid | H36: =SUM(E35:E38) -> 0 | I36: =H36/4 -> 0 | O36: =IF(OR(E36<1, E36>4), "Alleen de antwoordmogelijkheden 1, 2, 3 of 4 zijn mogelijk.","") -> Alleen de antwoordmogelijkheden 1, 2, 3 of 4 zijn mogelijk.
C37: 3. In onze groep hebben we elkaar nodig om aan onze doelen te werken. | G37: =B40 -> Individuele verantwoordelijkheid | H37: =E41+K42+L42+M42+N42+E43 -> 0 | I37: =H37/3 -> 0 | O37: =IF(OR(E37<1, E37>4), "Alleen de antwoordmogelijkheden 1, 2, 3 of 4 zijn mogelijk.","") -> Alleen de antwoordmogelijkheden 1, 2, 3 of 4 zijn mogelijk.
C38: 4. In onze groep zijn we afhankelijk van elkaar om succesvol te kunnen zijn. | G38: =B45 -> Interactie | H38: =SUM(E46:E48) -> 0 | I38: =H38/3 -> 0 | O38: =IF(OR(E38<1, E38>4), "Alleen de antwoordmogelijkheden 1, 2, 3 of 4 zijn mogelijk.","") -> Alleen de antwoordmogelijkheden 1, 2, 3 of 4 zijn mogelijk.
G39: =B50 -> Groepsevaluatie | H39: =SUM(E51:E53) -> 0 | I39: =H39/3 -> 0
B40: Individuele verantwoordelijkheid | G40: =B55 -> Gedeelde mentale modellen | H40: =SUM(E56:E60) -> 0 | I40: =H40/5 -> 0
C41: 1. In onze groep draagt iedereen evenveel bij aan het project. | G41: =B62 -> Een veilige en ondersteunende omgeving | H41: =SUM(E63:E71) -> 0 | I41: =H41/9 -> 0 | O41: =IF(OR(E41<1, E41>4), "Alleen de antwoordmogelijkheden 1, 2, 3 of 4 zijn mogelijk.","") -> Alleen de antwoordmogelijkheden 1, 2, 3 of 4 zijn mogelijk.
C42: 2. In onze groep is er tenminste een groepslid dat meestal het werk aan anderen overlaat. | G42: =B73 -> Creatieve community | H42: =SUM(E74:E80) -> 0 | I42: =H42/7 -> 0 | K42: =IF(E42=4,1,0) -> 0 | L42: =IF(E42=3,2,0) -> 0 | M42: =IF(E42=2,3,0) -> 0 | N42: =IF(E42=1,4,0) -> 0 | O42: =IF(OR(E42<1, E42>4), "Alleen de antwoordmogelijkheden 1, 2, 3 of 4 zijn mogelijk.","") -> Alleen de antwoordmogelijkheden 1, 2, 3 of 4 zijn mogelijk.
C43: 3. Iedereen in de groep wil graag bijdragen aan het project. | G43: Totaal | H43: =SUM(H36:H42) -> 0 | I43: =SUM(I36:I42)/7 -> 0 | O43: =IF(OR(E43<1, E43>4), "Alleen de antwoordmogelijkheden 1, 2, 3 of 4 zijn mogelijk.","") -> Alleen de antwoordmogelijkheden 1, 2, 3 of 4 zijn mogelijk.
B45: Interactie
C46: 1. In onze groep is er ruimte voor de mening van elk groepslid. | O46: =IF(OR(E46<1, E46>4), "Alleen de antwoordmogelijkheden 1, 2, 3 of 4 zijn mogelijk.","") -> Alleen de antwoordmogelijkheden 1, 2, 3 of 4 zijn mogelijk.
C47: 2. Problemen en lastige onderwerpen worden besproken en niet vermeden in onze gesprekken. | O47: =IF(OR(E47<1, E47>4), "Alleen de antwoordmogelijkheden 1, 2, 3 of 4 zijn mogelijk.","") -> Alleen de antwoordmogelijkheden 1, 2, 3 of 4 zijn mogelijk.
C48: 3. In het werken met deze groep worden mijn unieke kennis, vaardigheden en talenten gewaardeerd en gebruikt. | O48: =IF(OR(E48<1, E48>4), "Alleen de antwoordmogelijkheden 1, 2, 3 of 4 zijn mogelijk.","") -> Alleen de antwoordmogelijkheden 1, 2, 3 of 4 zijn mogelijk.
B50: Groepsevaluatie
C51: 1. We nemen regelmatig de tijd om uit te zoeken hoe we het groepsproces kunnen verbeteren. | O51: =IF(OR(E51<1, E51>4), "Alleen de antwoordmogelijkheden 1, 2, 3 of 4 zijn mogelijk.","") -> Alleen de antwoordmogelijkheden 1, 2, 3 of 4 zijn mogelijk.
C52: 2. In deze groep is er telkens iemand die ervoor zorgt dat we even de tijd nemen om te reflecteren op het groepsproces. | O52: =IF(OR(E52<1, E52>4), "Alleen de antwoordmogelijkheden 1, 2, 3 of 4 zijn mogelijk.","") -> Alleen de antwoordmogelijkheden 1, 2, 3 of 4 zijn mogelijk.
C53: 3. We zijn het er als groep over eens dat het belangrijk is om het groepsproces te evalueren. | O53: =IF(OR(E53<1, E53>4), "Alleen de antwoordmogelijkheden 1, 2, 3 of 4 zijn mogelijk.","") -> Alleen de antwoordmogelijkheden 1, 2, 3 of 4 zijn mogelijk.
B55: Gedeelde mentale modellen
C56: 1. Vanaf het begin was het duidelijk wat we als groep wilden bereiken. | O56: =IF(OR(E56<1, E56>4), "Alleen de antwoordmogelijkheden 1, 2, 3 of 4 zijn mogelijk.","") -> Alleen de antwoordmogelijkheden 1, 2, 3 of 4 zijn mogelijk.
C57: 2. Groepsleden begrijpen wat van hen verwacht wordt in hun rol als groepslid. | O57: =IF(OR(E57<1, E57>4), "Alleen de antwoordmogelijkheden 1, 2, 3 of 4 zijn mogelijk.","") -> Alleen de antwoordmogelijkheden 1, 2, 3 of 4 zijn mogelijk.
C58: 3. Kort na de start had de groep een gezamenlijk idee over welke taak we moesten volbrengen. | O58: =IF(OR(E58<1, E58>4), "Alleen de antwoordmogelijkheden 1, 2, 3 of 4 zijn mogelijk.","") -> Alleen de antwoordmogelijkheden 1, 2, 3 of 4 zijn mogelijk.
C59: 4. Kort na de start had de groep een gezamenlijk idee over hoe we die taak zouden gaan uitvoeren. | O59: =IF(OR(E59<1, E59>4), "Alleen de antwoordmogelijkheden 1, 2, 3 of 4 zijn mogelijk.","") -> Alleen de antwoordmogelijkheden 1, 2, 3 of 4 zijn mogelijk.
C60: 5. De groepsleden zijn gericht op het bereiken van de doelen die we gezamenlijk hebben. | O60: =IF(OR(E60<1, E60>4), "Alleen de antwoordmogelijkheden 1, 2, 3 of 4 zijn mogelijk.","") -> Alleen de antwoordmogelijkheden 1, 2, 3 of 4 zijn mogelijk.
B62: Een veilige en ondersteunende omgeving
C63: 1. Het voelt veilig om successen te delen in deze groep. | O63: =IF(OR(E63<1, E63>4), "Alleen de antwoordmogelijkheden 1, 2, 3 of 4 zijn mogelijk.","") -> Alleen de antwoordmogelijkheden 1, 2, 3 of 4 zijn mogelijk.
C64: 2. Het is voelt veilig om aan te geven wat je nodig hebt in deze groep. | O64: =IF(OR(E64<1, E64>4), "Alleen de antwoordmogelijkheden 1, 2, 3 of 4 zijn mogelijk.","") -> Alleen de antwoordmogelijkheden 1, 2, 3 of 4 zijn mogelijk.
C65: 3. We voelen ons veilig om anderen in deze groep om hulp te vragen. | O65: =IF(OR(E65<1, E65>4), "Alleen de antwoordmogelijkheden 1, 2, 3 of 4 zijn mogelijk.","") -> Alleen de antwoordmogelijkheden 1, 2, 3 of 4 zijn mogelijk.
C66: 4. We kunnen vrijelijk ons enthousiasme over het werk met anderen in de groep delen. | O66: =IF(OR(E66<1, E66>4), "Alleen de antwoordmogelijkheden 1, 2, 3 of 4 zijn mogelijk.","") -> Alleen de antwoordmogelijkheden 1, 2, 3 of 4 zijn mogelijk.
C67: 5. Het is veilig om persoonlijke onzekerheden te delen met anderen in deze groep. | O67: =IF(OR(E67<1, E67>4), "Alleen de antwoordmogelijkheden 1, 2, 3 of 4 zijn mogelijk.","") -> Alleen de antwoordmogelijkheden 1, 2, 3 of 4 zijn mogelijk.
C68: 6. Verschillen tussen mensen in deze groep worden gerespecteerd. | O68: =IF(OR(E68<1, E68>4), "Alleen de antwoordmogelijkheden 1, 2, 3 of 4 zijn mogelijk.","") -> Alleen de antwoordmogelijkheden 1, 2, 3 of 4 zijn mogelijk.
C69: 7. Er is veel respect voor anderen in de groep. | O69: =IF(OR(E69<1, E69>4), "Alleen de antwoordmogelijkheden 1, 2, 3 of 4 zijn mogelijk.","") -> Alleen de antwoordmogelijkheden 1, 2, 3 of 4 zijn mogelijk.
C70: 8. Gevoelens van groepsleden worden geaccepteerd, net als gedachten en ideeën. | O70: =IF(OR(E70<1, E70>4), "Alleen de antwoordmogelijkheden 1, 2, 3 of 4 zijn mogelijk.","") -> Alleen de antwoordmogelijkheden 1, 2, 3 of 4 zijn mogelijk.
C71: 9. Als er meningsverschillen en conflicten zijn, wordt hiermee op respectvolle wijze omgegaan. | O71: =IF(OR(E71<1, E71>4), "Alleen de antwoordmogelijkheden 1, 2, 3 of 4 zijn mogelijk.","") -> Alleen de antwoordmogelijkheden 1, 2, 3 of 4 zijn mogelijk.
B73: Creatieve community
C74: 1. Er is een goede sfeer in deze groep. | O74: =IF(OR(E74<1, E74>4), "Alleen de antwoordmogelijkheden 1, 2, 3 of 4 zijn mogelijk.","") -> Alleen de antwoordmogelijkheden 1, 2, 3 of 4 zijn mogelijk.
C75: 2. We voelen ons een hechte groep. | O75: =IF(OR(E75<1, E75>4), "Alleen de antwoordmogelijkheden 1, 2, 3 of 4 zijn mogelijk.","") -> Alleen de antwoordmogelijkheden 1, 2, 3 of 4 zijn mogelijk.
C76: 3. We zijn er trots op dat we een onderdeel van deze groep zijn. | O76: =IF(OR(E76<1, E76>4), "Alleen de antwoordmogelijkheden 1, 2, 3 of 4 zijn mogelijk.","") -> Alleen de antwoordmogelijkheden 1, 2, 3 of 4 zijn mogelijk.
C77: 4. Mensen voelen zich loyaal naar andere groepsleden. | O77: =IF(OR(E77<1, E77>4), "Alleen de antwoordmogelijkheden 1, 2, 3 of 4 zijn mogelijk.","") -> Alleen de antwoordmogelijkheden 1, 2, 3 of 4 zijn mogelijk.
C78: 5. De meeste groepsleden houden ervan nieuwe dingen te proberen, zelfs als het soms nergens toe leidt. | O78: =IF(OR(E78<1, E78>4), "Alleen de antwoordmogelijkheden 1, 2, 3 of 4 zijn mogelijk.","") -> Alleen de antwoordmogelijkheden 1, 2, 3 of 4 zijn mogelijk.
C79: 6. De groepsleden houden ervan te experimenteren met andere werkwijzen. | O79: =IF(OR(E79<1, E79>4), "Alleen de antwoordmogelijkheden 1, 2, 3 of 4 zijn mogelijk.","") -> Alleen de antwoordmogelijkheden 1, 2, 3 of 4 zijn mogelijk.
C80: 7. Als groep komen we telkens op geheel nieuwe ideeën. | O80: =IF(OR(E80<1, E80>4), "Alleen de antwoordmogelijkheden 1, 2, 3 of 4 zijn mogelijk.","") -> Alleen de antwoordmogelijkheden 1, 2, 3 of 4 zijn mogelijk.
B88: Copyright 2023 Inge Audenaerde en Miranda de Hei

Sheet Respondent 9
B1: De Haagse Hogeschool
B5: Quick scan co-creatie in het hoger onderwijs
B8: Aan de slag
B9: Wat goed dat jullie je co-creatieproject een boost willen geven door een tussentijdse monitoring van de samenwerking. Het invullen van deze Quick Scan
B10: kan jullie daarbij ondersteunen. De Quick Scan is een praktische tool gebaseerd op een gevalideerde vragenlijst (De Hei, & Audenaerde, submitted) om
B11: co-creatieprocessen te optimaliseren. Co-creatie is een samenwerkingsproces waarbij studenten, docenten en partijen buiten de hogeschool/universiteit
B12: met elkaar werken om innovatieve producten, processen of kennis te ontwikkelen.
B13: Download alsjeblieft eerst deze file voordat je hem met de groep gaat invullen!
B14: Jij en de andere deelnemers vullen de vragenlijst elk in op een eigen tabblad. Je spreekt vooraf af wie welk tabblad invult. Dit kun je doen tijdens een
B15: bijeenkomst of tussen twee bijeenkomsten in. Bij het invullen van de Quick Scan, houd dan in gedachten hoe jullie groep functioneert en hoe je denkt dat
B16: de groepsleden het groepsproces ervaren. De resultaten van de groep vind je op het tabblad “eindscore”. Daar kun je ook lezen hoe je die resultaten
B17: kunt interpreteren en wat een volgende stap is.
... B28: 4 = geheel eens
E33: Antwoord | G33: Eindscore: | H33: Individueel
B34: Positieve wederzijdse afhankelijkheid | H34: abs. | I34: gemidd.
C35: 1. Voor informatie en advies zijn we van elkaar afhankelijk. | O35: =IF(OR(E35<1, E35>4), "Alleen de antwoordmogelijkheden 1, 2, 3 of 4 zijn mogelijk.","") -> Alleen de antwoordmogelijkheden 1, 2, 3 of 4 zijn mogelijk.
C36: 2. Als mijn groepsleden hun taken succesvol uitvoeren, heeft dat een positieve invloed op het werk van de groep. | G36: =B34 -> Positieve wederzijdse afhankelijkheid | H36: =SUM(E35:E38) -> 0 | I36: =H36/4 -> 0 | O36: =IF(OR(E36<1, E36>4), "Alleen de antwoordmogelijkheden 1, 2, 3 of 4 zijn mogelijk.","") -> Alleen de antwoordmogelijkheden 1, 2, 3 of 4 zijn mogelijk.
C37: 3. In onze groep hebben we elkaar nodig om aan onze doelen te werken. | G37: =B40 -> Individuele verantwoordelijkheid | H37: =E41+K42+L42+M42+N42+E43 -> 0 | I37: =H37/3 -> 0 | O37: =IF(OR(E37<1, E37>4), "Alleen de antwoordmogelijkheden 1, 2, 3 of 4 zijn mogelijk.","") -> Alleen de antwoordmogelijkheden 1, 2, 3 of 4 zijn mogelijk.
C38: 4. In onze groep zijn we afhankelijk van elkaar om succesvol te kunnen zijn. | G38: =B45 -> Interactie | H38: =SUM(E46:E48) -> 0 | I38: =H38/3 -> 0 | O38: =IF(OR(E38<1, E38>4), "Alleen de antwoordmogelijkheden 1, 2, 3 of 4 zijn mogelijk.","") -> Alleen de antwoordmogelijkheden 1, 2, 3 of 4 zijn mogelijk.
G39: =B50 -> Groepsevaluatie | H39: =SUM(E51:E53) -> 0 | I39: =H39/3 -> 0
B40: Individuele verantwoordelijkheid | G40: =B55 -> Gedeelde mentale modellen | H40: =SUM(E56:E60) -> 0 | I40: =H40/5 -> 0
C41: 1. In onze groep draagt iedereen evenveel bij aan het project. | G41: =B62 -> Een veilige en ondersteunende omgeving | H41: =SUM(E63:E71) -> 0 | I41: =H41/9 -> 0 | O41: =IF(OR(E41<1, E41>4), "Alleen de antwoordmogelijkheden 1, 2, 3 of 4 zijn mogelijk.","") -> Alleen de antwoordmogelijkheden 1, 2, 3 of 4 zijn mogelijk.
C42: 2. In onze groep is er tenminste een groepslid dat meestal het werk aan anderen overlaat. | G42: =B73 -> Creatieve community | H42: =SUM(E74:E80) -> 0 | I42: =H42/7 -> 0 | K42: =IF(E42=4,1,0) -> 0 | L42: =IF(E42=3,2,0) -> 0 | M42: =IF(E42=2,3,0) -> 0 | N42: =IF(E42=1,4,0) -> 0 | O42: =IF(OR(E42<1, E42>4), "Alleen de antwoordmogelijkheden 1, 2, 3 of 4 zijn mogelijk.","") -> Alleen de antwoordmogelijkheden 1, 2, 3 of 4 zijn mogelijk.
C43: 3. Iedereen in de groep wil graag bijdragen aan het project. | G43: Totaal | H43: =SUM(H36:H42) -> 0 | I43: =SUM(I36:I42)/7 -> 0 | O43: =IF(OR(E43<1, E43>4), "Alleen de antwoordmogelijkheden 1, 2, 3 of 4 zijn mogelijk.","") -> Alleen de antwoordmogelijkheden 1, 2, 3 of 4 zijn mogelijk.
B45: Interactie
C46: 1. In onze groep is er ruimte voor de mening van elk groepslid. | O46: =IF(OR(E46<1, E46>4), "Alleen de antwoordmogelijkheden 1, 2, 3 of 4 zijn mogelijk.","") -> Alleen de antwoordmogelijkheden 1, 2, 3 of 4 zijn mogelijk.
C47: 2. Problemen en lastige onderwerpen worden besproken en niet vermeden in onze gesprekken. | O47: =IF(OR(E47<1, E47>4), "Alleen de antwoordmogelijkheden 1, 2, 3 of 4 zijn mogelijk.","") -> Alleen de antwoordmogelijkheden 1, 2, 3 of 4 zijn mogelijk.
C48: 3. In het werken met deze groep worden mijn unieke kennis, vaardigheden en talenten gewaardeerd en gebruikt. | O48: =IF(OR(E48<1, E48>4), "Alleen de antwoordmogelijkheden 1, 2, 3 of 4 zijn mogelijk.","") -> Alleen de antwoordmogelijkheden 1, 2, 3 of 4 zijn mogelijk.
B50: Groepsevaluatie
C51: 1. We nemen regelmatig de tijd om uit te zoeken hoe we het groepsproces kunnen verbeteren. | O51: =IF(OR(E51<1, E51>4), "Alleen de antwoordmogelijkheden 1, 2, 3 of 4 zijn mogelijk.","") -> Alleen de antwoordmogelijkheden 1, 2, 3 of 4 zijn mogelijk.
C52: 2. In deze groep is er telkens iemand die ervoor zorgt dat we even de tijd nemen om te reflecteren op het groepsproces. | O52: =IF(OR(E52<1, E52>4), "Alleen de antwoordmogelijkheden 1, 2, 3 of 4 zijn mogelijk.","") -> Alleen de antwoordmogelijkheden 1, 2, 3 of 4 zijn mogelijk.
C53: 3. We zijn het er als groep over eens dat het belangrijk is om het groepsproces te evalueren. | O53: =IF(OR(E53<1, E53>4), "Alleen de antwoordmogelijkheden 1, 2, 3 of 4 zijn mogelijk.","") -> Alleen de antwoordmogelijkheden 1, 2, 3 of 4 zijn mogelijk.
B55: Gedeelde mentale modellen
C56: 1. Vanaf het begin was het duidelijk wat we als groep wilden bereiken. | O56: =IF(OR(E56<1, E56>4), "Alleen de antwoordmogelijkheden 1, 2, 3 of 4 zijn mogelijk.","") -> Alleen de antwoordmogelijkheden 1, 2, 3 of 4 zijn mogelijk.
C57: 2. Groepsleden begrijpen wat van hen verwacht wordt in hun rol als groepslid. | O57: =IF(OR(E57<1, E57>4), "Alleen de antwoordmogelijkheden 1, 2, 3 of 4 zijn mogelijk.","") -> Alleen de antwoordmogelijkheden 1, 2, 3 of 4 zijn mogelijk.
C58: 3. Kort na de start had de groep een gezamenlijk idee over welke taak we moesten volbrengen. | O58: =IF(OR(E58<1, E58>4), "Alleen de antwoordmogelijkheden 1, 2, 3 of 4 zijn mogelijk.","") -> Alleen de antwoordmogelijkheden 1, 2, 3 of 4 zijn mogelijk.
C59: 4. Kort na de start had de groep een gezamenlijk idee over hoe we die taak zouden gaan uitvoeren. | O59: =IF(OR(E59<1, E59>4), "Alleen de antwoordmogelijkheden 1, 2, 3 of 4 zijn mogelijk.","") -> Alleen de antwoordmogelijkheden 1, 2, 3 of 4 zijn mogelijk.
C60: 5. De groepsleden zijn gericht op het bereiken van de doelen die we gezamenlijk hebben. | O60: =IF(OR(E60<1, E60>4), "Alleen de antwoordmogelijkheden 1, 2, 3 of 4 zijn mogelijk.","") -> Alleen de antwoordmogelijkheden 1, 2, 3 of 4 zijn mogelijk.
B62: Een veilige en ondersteunende omgeving
C63: 1. Het voelt veilig om successen te delen in deze groep. | O63: =IF(OR(E63<1, E63>4), "Alleen de antwoordmogelijkheden 1, 2, 3 of 4 zijn mogelijk.","") -> Alleen de antwoordmogelijkheden 1, 2, 3 of 4 zijn mogelijk.
C64: 2. Het is voelt veilig om aan te geven wat je nodig hebt in deze groep. | O64: =IF(OR(E64<1, E64>4), "Alleen de antwoordmogelijkheden 1, 2, 3 of 4 zijn mogelijk.","") -> Alleen de antwoordmogelijkheden 1, 2, 3 of 4 zijn mogelijk.
C65: 3. We voelen ons veilig om anderen in deze groep om hulp te vragen. | O65: =IF(OR(E65<1, E65>4), "Alleen de antwoordmogelijkheden 1, 2, 3 of 4 zijn mogelijk.","") -> Alleen de antwoordmogelijkheden 1, 2, 3 of 4 zijn mogelijk.
C66: 4. We kunnen vrijelijk ons enthousiasme over het werk met anderen in de groep delen. | O66: =IF(OR(E66<1, E66>4), "Alleen de antwoordmogelijkheden 1, 2, 3 of 4 zijn mogelijk.","") -> Alleen de antwoordmogelijkheden 1, 2, 3 of 4 zijn mogelijk.
C67: 5. Het is veilig om persoonlijke onzekerheden te delen met anderen in deze groep. | O67: =IF(OR(E67<1, E67>4), "Alleen de antwoordmogelijkheden 1, 2, 3 of 4 zijn mogelijk.","") -> Alleen de antwoordmogelijkheden 1, 2, 3 of 4 zijn mogelijk.
C68: 6. Verschillen tussen mensen in deze groep worden gerespecteerd. | O68: =IF(OR(E68<1, E68>4), "Alleen de antwoordmogelijkheden 1, 2, 3 of 4 zijn mogelijk.","") -> Alleen de antwoordmogelijkheden 1, 2, 3 of 4 zijn mogelijk.
C69: 7. Er is veel respect voor anderen in de groep. | O69: =IF(OR(E69<1, E69>4), "Alleen de antwoordmogelijkheden 1, 2, 3 of 4 zijn mogelijk.","") -> Alleen de antwoordmogelijkheden 1, 2, 3 of 4 zijn mogelijk.
C70: 8. Gevoelens van groepsleden worden geaccepteerd, net als gedachten en ideeën. | O70: =IF(OR(E70<1, E70>4), "Alleen de antwoordmogelijkheden 1, 2, 3 of 4 zijn mogelijk.","") -> Alleen de antwoordmogelijkheden 1, 2, 3 of 4 zijn mogelijk.
C71: 9. Als er meningsverschillen en conflicten zijn, wordt hiermee op respectvolle wijze omgegaan. | O71: =IF(OR(E71<1, E71>4), "Alleen de antwoordmogelijkheden 1, 2, 3 of 4 zijn mogelijk.","") -> Alleen de antwoordmogelijkheden 1, 2, 3 of 4 zijn mogelijk.
B73: Creatieve community
C74: 1. Er is een goede sfeer in deze groep. | O74: =IF(OR(E74<1, E74>4), "Alleen de antwoordmogelijkheden 1, 2, 3 of 4 zijn mogelijk.","") -> Alleen de antwoordmogelijkheden 1, 2, 3 of 4 zijn mogelijk.
C75: 2. We voelen ons een hechte groep. | O75: =IF(OR(E75<1, E75>4), "Alleen de antwoordmogelijkheden 1, 2, 3 of 4 zijn mogelijk.","") -> Alleen de antwoordmogelijkheden 1, 2, 3 of 4 zijn mogelijk.
C76: 3. We zijn er trots op dat we een onderdeel van deze groep zijn. | O76: =IF(OR(E76<1, E76>4), "Alleen de antwoordmogelijkheden 1, 2, 3 of 4 zijn mogelijk.","") -> Alleen de antwoordmogelijkheden 1, 2, 3 of 4 zijn mogelijk.
C77: 4. Mensen voelen zich loyaal naar andere groepsleden. | O77: =IF(OR(E77<1, E77>4), "Alleen de antwoordmogelijkheden 1, 2, 3 of 4 zijn mogelijk.","") -> Alleen de antwoordmogelijkheden 1, 2, 3 of 4 zijn mogelijk.
C78: 5. De meeste groepsleden houden ervan nieuwe dingen te proberen, zelfs als het soms nergens toe leidt. | O78: =IF(OR(E78<1, E78>4), "Alleen de antwoordmogelijkheden 1, 2, 3 of 4 zijn mogelijk.","") -> Alleen de antwoordmogelijkheden 1, 2, 3 of 4 zijn mogelijk.
C79: 6. De groepsleden houden ervan te experimenteren met andere werkwijzen. | O79: =IF(OR(E79<1, E79>4), "Alleen de antwoordmogelijkheden 1, 2, 3 of 4 zijn mogelijk.","") -> Alleen de antwoordmogelijkheden 1, 2, 3 of 4 zijn mogelijk.
C80: 7. Als groep komen we telkens op geheel nieuwe ideeën. | O80: =IF(OR(E80<1, E80>4), "Alleen de antwoordmogelijkheden 1, 2, 3 of 4 zijn mogelijk.","") -> Alleen de antwoordmogelijkheden 1, 2, 3 of 4 zijn mogelijk.
B88: Copyright 2023 Inge Audenaerde en Miranda de Hei

Sheet Respondent 10
B1: De Haagse Hogeschool
B5: Quick scan co-creatie in het hoger onderwijs
B8: Aan de slag
B9: Wat goed dat jullie je co-creatieproject een boost willen geven door een tussentijdse monitoring van de samenwerking. Het invullen van deze Quick Scan
B10: kan jullie daarbij ondersteunen. De Quick Scan is een praktische tool gebaseerd op een gevalideerde vragenlijst (De Hei, & Audenaerde, submitted) om
B11: co-creatieprocessen te optimaliseren. Co-creatie is een samenwerkingsproces waarbij studenten, docenten en partijen buiten de hogeschool/universiteit
B12: met elkaar werken om innovatieve producten, processen of kennis te ontwikkelen.
B13: Download alsjeblieft eerst deze file voordat je hem met de groep gaat invullen!
B14: Jij en de andere deelnemers vullen de vragenlijst elk in op een eigen tabblad. Je spreekt vooraf af wie welk tabblad invult. Dit kun je doen tijdens een
B15: bijeenkomst of tussen twee bijeenkomsten in. Bij het invullen van de Quick Scan, houd dan in gedachten hoe jullie groep functioneert en hoe je denkt dat
B16: de groepsleden het groepsproces ervaren. De resultaten van de groep vind je op het tabblad “eindscore”. Daar kun je ook lezen hoe je die resultaten
B17: kunt interpreteren en wat een volgende stap is.
... B28: 4 = geheel eens
E33: Antwoord | G33: Eindscore: | H33: Individueel
B34: Positieve wederzijdse afhankelijkheid | H34: abs. | I34: gemidd.
C35: 1. Voor informatie en advies zijn we van elkaar afhankelijk. | O35: =IF(OR(E35<1, E35>4), "Alleen de antwoordmogelijkheden 1, 2, 3 of 4 zijn mogelijk.","") -> Alleen de antwoordmogelijkheden 1, 2, 3 of 4 zijn mogelijk.
C36: 2. Als mijn groepsleden hun taken succesvol uitvoeren, heeft dat een positieve invloed op het werk van de groep. | G36: =B34 -> Positieve wederzijdse afhankelijkheid | H36: =SUM(E35:E38) -> 0 | I36: =H36/4 -> 0 | O36: =IF(OR(E36<1, E36>4), "Alleen de antwoordmogelijkheden 1, 2, 3 of 4 zijn mogelijk.","") -> Alleen de antwoordmogelijkheden 1, 2, 3 of 4 zijn mogelijk.
C37: 3. In onze groep hebben we elkaar nodig om aan onze doelen te werken. | G37: =B40 -> Individuele verantwoordelijkheid | H37: =E41+K42+L42+M42+N42+E43 -> 0 | I37: =H37/3 -> 0 | O37: =IF(OR(E37<1, E37>4), "Alleen de antwoordmogelijkheden 1, 2, 3 of 4 zijn mogelijk.","") -> Alleen de antwoordmogelijkheden 1, 2, 3 of 4 zijn mogelijk.
C38: 4. In onze groep zijn we afhankelijk van elkaar om succesvol te kunnen zijn. | G38: =B45 -> Interactie | H38: =SUM(E46:E48) -> 0 | I38: =H38/3 -> 0 | O38: =IF(OR(E38<1, E38>4), "Alleen de antwoordmogelijkheden 1, 2, 3 of 4 zijn mogelijk.","") -> Alleen de antwoordmogelijkheden 1, 2, 3 of 4 zijn mogelijk.
G39: =B50 -> Groepsevaluatie | H39: =SUM(E51:E53) -> 0 | I39: =H39/3 -> 0
B40: Individuele verantwoordelijkheid | G40: =B55 -> Gedeelde mentale modellen | H40: =SUM(E56:E60) -> 0 | I40: =H40/5 -> 0
C41: 1. In onze groep draagt iedereen evenveel bij aan het project. | G41: =B62 -> Een veilige en ondersteunende omgeving | H41: =SUM(E63:E71) -> 0 | I41: =H41/9 -> 0 | O41: =IF(OR(E41<1, E41>4), "Alleen de antwoordmogelijkheden 1, 2, 3 of 4 zijn mogelijk.","") -> Alleen de antwoordmogelijkheden 1, 2, 3 of 4 zijn mogelijk.
C42: 2. In onze groep is er tenminste een groepslid dat meestal het werk aan anderen overlaat. | G42: =B73 -> Creatieve community | H42: =SUM(E74:E80) -> 0 | I42: =H42/7 -> 0 | K42: =IF(E42=4,1,0) -> 0 | L42: =IF(E42=3,2,0) -> 0 | M42: =IF(E42=2,3,0) -> 0 | N42: =IF(E42=1,4,0) -> 0 | O42: =IF(OR(E42<1, E42>4), "Alleen de antwoordmogelijkheden 1, 2, 3 of 4 zijn mogelijk.","") -> Alleen de antwoordmogelijkheden 1, 2, 3 of 4 zijn mogelijk.
C43: 3. Iedereen in de groep wil graag bijdragen aan het project. | G43: Totaal | H43: =SUM(H36:H42) -> 0 | I43: =SUM(I36:I42)/7 -> 0 | O43: =IF(OR(E43<1, E43>4), "Alleen de antwoordmogelijkheden 1, 2, 3 of 4 zijn mogelijk.","") -> Alleen de antwoordmogelijkheden 1, 2, 3 of 4 zijn mogelijk.
B45: Interactie
C46: 1. In onze groep is er ruimte voor de mening van elk groepslid. | O46: =IF(OR(E46<1, E46>4), "Alleen de antwoordmogelijkheden 1, 2, 3 of 4 zijn mogelijk.","") -> Alleen de antwoordmogelijkheden 1, 2, 3 of 4 zijn mogelijk.
C47: 2. Problemen en lastige onderwerpen worden besproken en niet vermeden in onze gesprekken. | O47: =IF(OR(E47<1, E47>4), "Alleen de antwoordmogelijkheden 1, 2, 3 of 4 zijn mogelijk.","") -> Alleen de antwoordmogelijkheden 1, 2, 3 of 4 zijn mogelijk.
C48: 3. In het werken met deze groep worden mijn unieke kennis, vaardigheden en talenten gewaardeerd en gebruikt. | O48: =IF(OR(E48<1, E48>4), "Alleen de antwoordmogelijkheden 1, 2, 3 of 4 zijn mogelijk.","") -> Alleen de antwoordmogelijkheden 1, 2, 3 of 4 zijn mogelijk.
B50: Groepsevaluatie
C51: 1. We nemen regelmatig de tijd om uit te zoeken hoe we het groepsproces kunnen verbeteren. | O51: =IF(OR(E51<1, E51>4), "Alleen de antwoordmogelijkheden 1, 2, 3 of 4 zijn mogelijk.","") -> Alleen de antwoordmogelijkheden 1, 2, 3 of 4 zijn mogelijk.
C52: 2. In deze groep is er telkens iemand die ervoor zorgt dat we even de tijd nemen om te reflecteren op het groepsproces. | O52: =IF(OR(E52<1, E52>4), "Alleen de antwoordmogelijkheden 1, 2, 3 of 4 zijn mogelijk.","") -> Alleen de antwoordmogelijkheden 1, 2, 3 of 4 zijn mogelijk.
C53: 3. We zijn het er als groep over eens dat het belangrijk is om het groepsproces te evalueren. | O53: =IF(OR(E53<1, E53>4), "Alleen de antwoordmogelijkheden 1, 2, 3 of 4 zijn mogelijk.","") -> Alleen de antwoordmogelijkheden 1, 2, 3 of 4 zijn mogelijk.
B55: Gedeelde mentale modellen
C56: 1. Vanaf het begin was het duidelijk wat we als groep wilden bereiken. | O56: =IF(OR(E56<1, E56>4), "Alleen de antwoordmogelijkheden 1, 2, 3 of 4 zijn mogelijk.","") -> Alleen de antwoordmogelijkheden 1, 2, 3 of 4 zijn mogelijk.
C57: 2. Groepsleden begrijpen wat van hen verwacht wordt in hun rol als groepslid. | O57: =IF(OR(E57<1, E57>4), "Alleen de antwoordmogelijkheden 1, 2, 3 of 4 zijn mogelijk.","") -> Alleen de antwoordmogelijkheden 1, 2, 3 of 4 zijn mogelijk.
C58: 3. Kort na de start had de groep een gezamenlijk idee over welke taak we moesten volbrengen. | O58: =IF(OR(E58<1, E58>4), "Alleen de antwoordmogelijkheden 1, 2, 3 of 4 zijn mogelijk.","") -> Alleen de antwoordmogelijkheden 1, 2, 3 of 4 zijn mogelijk.
C59: 4. Kort na de start had de groep een gezamenlijk idee over hoe we die taak zouden gaan uitvoeren. | O59: =IF(OR(E59<1, E59>4), "Alleen de antwoordmogelijkheden 1, 2, 3 of 4 zijn mogelijk.","") -> Alleen de antwoordmogelijkheden 1, 2, 3 of 4 zijn mogelijk.
C60: 5. De groepsleden zijn gericht op het bereiken van de doelen die we gezamenlijk hebben. | O60: =IF(OR(E60<1, E60>4), "Alleen de antwoordmogelijkheden 1, 2, 3 of 4 zijn mogelijk.","") -> Alleen de antwoordmogelijkheden 1, 2, 3 of 4 zijn mogelijk.
B62: Een veilige en ondersteunende omgeving
C63: 1. Het voelt veilig om successen te delen in deze groep. | O63: =IF(OR(E63<1, E63>4), "Alleen de antwoordmogelijkheden 1, 2, 3 of 4 zijn mogelijk.","") -> Alleen de antwoordmogelijkheden 1, 2, 3 of 4 zijn mogelijk.
C64: 2. Het is voelt veilig om aan te geven wat je nodig hebt in deze groep. | O64: =IF(OR(E64<1, E64>4), "Alleen de antwoordmogelijkheden 1, 2, 3 of 4 zijn mogelijk.","") -> Alleen de antwoordmogelijkheden 1, 2, 3 of 4 zijn mogelijk.
C65: 3. We voelen ons veilig om anderen in deze groep om hulp te vragen. | O65: =IF(OR(E65<1, E65>4), "Alleen de antwoordmogelijkheden 1, 2, 3 of 4 zijn mogelijk.","") -> Alleen de antwoordmogelijkheden 1, 2, 3 of 4 zijn mogelijk.
C66: 4. We kunnen vrijelijk ons enthousiasme over het werk met anderen in de groep delen. | O66: =IF(OR(E66<1, E66>4), "Alleen de antwoordmogelijkheden 1, 2, 3 of 4 zijn mogelijk.","") -> Alleen de antwoordmogelijkheden 1, 2, 3 of 4 zijn mogelijk.
C67: 5. Het is veilig om persoonlijke onzekerheden te delen met anderen in deze groep. | O67: =IF(OR(E67<1, E67>4), "Alleen de antwoordmogelijkheden 1, 2, 3 of 4 zijn mogelijk.","") -> Alleen de antwoordmogelijkheden 1, 2, 3 of 4 zijn mogelijk.
C68: 6. Verschillen tussen mensen in deze groep worden gerespecteerd. | O68: =IF(OR(E68<1, E68>4), "Alleen de antwoordmogelijkheden 1, 2, 3 of 4 zijn mogelijk.","") -> Alleen de antwoordmogelijkheden 1, 2, 3 of 4 zijn mogelijk.
C69: 7. Er is veel respect voor anderen in de groep. | O69: =IF(OR(E69<1, E69>4), "Alleen de antwoordmogelijkheden 1, 2, 3 of 4 zijn mogelijk.","") -> Alleen de antwoordmogelijkheden 1, 2, 3 of 4 zijn mogelijk.
C70: 8. Gevoelens van groepsleden worden geaccepteerd, net als gedachten en ideeën. | O70: =IF(OR(E70<1, E70>4), "Alleen de antwoordmogelijkheden 1, 2, 3 of 4 zijn mogelijk.","") -> Alleen de antwoordmogelijkheden 1, 2, 3 of 4 zijn mogelijk.
C71: 9. Als er meningsverschillen en conflicten zijn, wordt hiermee op respectvolle wijze omgegaan. | O71: =IF(OR(E71<1, E71>4), "Alleen de antwoordmogelijkheden 1, 2, 3 of 4 zijn mogelijk.","") -> Alleen de antwoordmogelijkheden 1, 2, 3 of 4 zijn mogelijk.
B73: Creatieve community
C74: 1. Er is een goede sfeer in deze groep. | O74: =IF(OR(E74<1, E74>4), "Alleen de antwoordmogelijkheden 1, 2, 3 of 4 zijn mogelijk.","") -> Alleen de antwoordmogelijkheden 1, 2, 3 of 4 zijn mogelijk.
C75: 2. We voelen ons een hechte groep. | O75: =IF(OR(E75<1, E75>4), "Alleen de antwoordmogelijkheden 1, 2, 3 of 4 zijn mogelijk.","") -> Alleen de antwoordmogelijkheden 1, 2, 3 of 4 zijn mogelijk.
C76: 3. We zijn er trots op dat we een onderdeel van deze groep zijn. | O76: =IF(OR(E76<1, E76>4), "Alleen de antwoordmogelijkheden 1, 2, 3 of 4 zijn mogelijk.","") -> Alleen de antwoordmogelijkheden 1, 2, 3 of 4 zijn mogelijk.
C77: 4. Mensen voelen zich loyaal naar andere groepsleden. | O77: =IF(OR(E77<1, E77>4), "Alleen de antwoordmogelijkheden 1, 2, 3 of 4 zijn mogelijk.","") -> Alleen de antwoordmogelijkheden 1, 2, 3 of 4 zijn mogelijk.
C78: 5. De meeste groepsleden houden ervan nieuwe dingen te proberen, zelfs als het soms nergens toe leidt. | O78: =IF(OR(E78<1, E78>4), "Alleen de antwoordmogelijkheden 1, 2, 3 of 4 zijn mogelijk.","") -> Alleen de antwoordmogelijkheden 1, 2, 3 of 4 zijn mogelijk.
C79: 6. De groepsleden houden ervan te experimenteren met andere werkwijzen. | O79: =IF(OR(E79<1, E79>4), "Alleen de antwoordmogelijkheden 1, 2, 3 of 4 zijn mogelijk.","") -> Alleen de antwoordmogelijkheden 1, 2, 3 of 4 zijn mogelijk.
C80: 7. Als groep komen we telkens op geheel nieuwe ideeën. | O80: =IF(OR(E80<1, E80>4), "Alleen de antwoordmogelijkheden 1, 2, 3 of 4 zijn mogelijk.","") -> Alleen de antwoordmogelijkheden 1, 2, 3 of 4 zijn mogelijk.
B88: Copyright 2023 Inge Audenaerde en Miranda de Hei

Sheet Eindscore
B1: De Haagse Hogeschool
B5: Quick scan co-creatie in het hoger onderwijs
B8: Op dit tabblad vind je de resultaten van jullie co-creatiegroep. In de tabel links vind je per schaal de items en de
B9: gemiddelde score van jullie groep per schaal. Rechtsboven staat een tabel met de individuele scores. Rechtsonder staat
B10: de tabel waar het om gaat. Hierin kun je zien welke aspecten van jullie samenwerking goed ervaren worden en welke
B11: eventueel minder goed. Deze score is de input voor een gesprek hierover:
B12: Waar kun je als groep meer aandacht aanbestenden?
B14: Heb je vragen over de Quick Scan of resultaten? Mail dan naar: m.s.a.dehei@hhs.nl
C19: Eindscore alle respondenten | D19: Gemiddelde score
B21: Positieve wederzijdse afhankelijkheid | D21: =G27 -> #DIV/0!
C22: 1. Voor informatie en advies zijn we van elkaar afhankelijk.
C23: 2. Als mijn groepsleden hun taken succesvol uitvoeren, heeft dat een positieve invloed op het werk van de groep.
C24: 3. In onze groep hebben we elkaar nodig om aan onze doelen te werken. | F24: Eindscore - gemiddeld | G24: Groep | H24: Resp. 1 | I24: Resp. 2 | J24: Resp. 3 | K24: Resp. 4 | L24: Resp. 5 | M24: Resp. 6 | N24: Resp. 7 | O24: Resp. 8 | P24: Resp. 9 | Q24: Resp. 10
C25: 4. In onze groep zijn we afhankelijk van elkaar om succesvol te kunnen zijn. | G25: abs.
B27: Individuele verantwoordelijkheid | D27: =G28 -> #DIV/0! | F27: Positieve wederzijdse afhankelijkheid | G27: =AVERAGE(H27:Q27) -> #DIV/0! | H27: =IF('Respondent 1'!$I36<>0,'Respondent 1'!$I36," ") | I27: =IF('Respondent 2'!$I36<>0,'Respondent 2'!$I36," ") | J27: =IF('Respondent 3'!$I36<>0,'Respondent 3'!$I36," ") | K27: =IF('Respondent 4'!$I36<>0,'Respondent 4'!$I36," ") | L27: =IF('Respondent 5'!$I36<>0,'Respondent 5'!$I36," ") | M27: =IF('Respondent 6'!$I36<>0,'Respondent 6'!$I36," ") | N27: =IF('Respondent 7'!$I36<>0,'Respondent 7'!$I36," ") | O27: =IF('Respondent 8'!$I36<>0,'Respondent 8'!$I36," ") | P27: =IF('Respondent 9'!$I36<>0,'Respondent 9'!$I36," ") | Q27: =IF('Respondent 10'!$I36<>0,'Respondent 10'!$I36," ")
C28: 1. In onze groep draagt iedereen evenveel bij aan het project. | F28: Individuele verantwoordelijkheid | G28: =AVERAGE(H28:Q28) -> #DIV/0! | H28: =IF('Respondent 1'!$I37<>0,'Respondent 1'!$I37," ") | I28: =IF('Respondent 2'!$I37<>0,'Respondent 2'!$I37," ") | J28: =IF('Respondent 3'!$I37<>0,'Respondent 3'!$I37," ") | K28: =IF('Respondent 4'!$I37<>0,'Respondent 4'!$I37," ") | L28: =IF('Respondent 5'!$I37<>0,'Respondent 5'!$I37," ") | M28: =IF('Respondent 6'!$I37<>0,'Respondent 6'!$I37," ") | N28: =IF('Respondent 7'!$I37<>0,'Respondent 7'!$I37," ") | O28: =IF('Respondent 8'!$I37<>0,'Respondent 8'!$I37," ") | P28: =IF('Respondent 9'!$I37<>0,'Respondent 9'!$I37," ") | Q28: =IF('Respondent 10'!$I37<>0,'Respondent 10'!$I37," ")
C29: 2. In onze groep is er tenminste een groepslid dat meestal het werk aan anderen overlaat | F29: Interactie | G29: =AVERAGE(H29:Q29) -> #DIV/0! | H29: =IF('Respondent 1'!$I38<>0,'Respondent 1'!$I38," ") | I29: =IF('Respondent 2'!$I38<>0,'Respondent 2'!$I38," ") | J29: =IF('Respondent 3'!$I38<>0,'Respondent 3'!$I38," ") | K29: =IF('Respondent 4'!$I38<>0,'Respondent 4'!$I38," ") | L29: =IF('Respondent 5'!$I38<>0,'Respondent 5'!$I38," ") | M29: =IF('Respondent 6'!$I38<>0,'Respondent 6'!$I38," ") | N29: =IF('Respondent 7'!$I38<>0,'Respondent 7'!$I38," ") | O29: =IF('Respondent 8'!$I38<>0,'Respondent 8'!$I38," ") | P29: =IF('Respondent 9'!$I38<>0,'Respondent 9'!$I38," ") | Q29: =IF('Respondent 10'!$I38<>0,'Respondent 10'!$I38," ")
C30: 3. Iedereen in de groep wil graag bijdragen aan het project. | F30: Groepsevaluatie | G30: =AVERAGE(H30:Q30) -> #DIV/0! | H30: =IF('Respondent 1'!$I39<>0,'Respondent 1'!$I39," ") | I30: =IF('Respondent 2'!$I39<>0,'Respondent 2'!$I39," ") | J30: =IF('Respondent 3'!$I39<>0,'Respondent 3'!$I39," ") | K30: =IF('Respondent 4'!$I39<>0,'Respondent 4'!$I39," ") | L30: =IF('Respondent 5'!$I39<>0,'Respondent 5'!$I39," ") | M30: =IF('Respondent 6'!$I39<>0,'Respondent 6'!$I39," ") | N30: =IF('Respondent 7'!$I39<>0,'Respondent 7'!$I39," ") | O30: =IF('Respondent 8'!$I39<>0,'Respondent 8'!$I39," ") | P30: =IF('Respondent 9'!$I39<>0,'Respondent 9'!$I39," ") | Q30: =IF('Respondent 10'!$I39<>0,'Respondent 10'!$I39," ")
F31: Gedeelde mentale modellen | G31: =AVERAGE(H31:Q31) -> #DIV/0! | H31: =IF('Respondent 1'!$I40<>0,'Respondent 1'!$I40," ") | I31: =IF('Respondent 2'!$I40<>0,'Respondent 2'!$I40," ") | J31: =IF('Respondent 3'!$I40<>0,'Respondent 3'!$I40," ") | K31: =IF('Respondent 4'!$I40<>0,'Respondent 4'!$I40," ") | L31: =IF('Respondent 5'!$I40<>0,'Respondent 5'!$I40," ") | M31: =IF('Respondent 6'!$I40<>0,'Respondent 6'!$I40," ") | N31: =IF('Respondent 7'!$I40<>0,'Respondent 7'!$I40," ") | O31: =IF('Respondent 8'!$I40<>0,'Respondent 8'!$I40," ") | P31: =IF('Respondent 9'!$I40<>0,'Respondent 9'!$I40," ") | Q31: =IF('Respondent 10'!$I40<>0,'Respondent 10'!$I40," ")
B32: Interactie | D32: =G29 -> #DIV/0! | F32: Een veilige en ondersteunende omgeving | G32: =AVERAGE(H32:Q32) -> #DIV/0! | H32: =IF('Respondent 1'!$I41<>0,'Respondent 1'!$I41," ") | I32: =IF('Respondent 2'!$I41<>0,'Respondent 2'!$I41," ") | J32: =IF('Respondent 3'!$I41<>0,'Respondent 3'!$I41," ") | K32: =IF('Respondent 4'!$I41<>0,'Respondent 4'!$I41," ") | L32: =IF('Respondent 5'!$I41<>0,'Respondent 5'!$I41," ") | M32: =IF('Respondent 6'!$I41<>0,'Respondent 6'!$I41," ") | N32: =IF('Respondent 7'!$I41<>0,'Respondent 7'!$I41," ") | O32: =IF('Respondent 8'!$I41<>0,'Respondent 8'!$I41," ") | P32: =IF('Respondent 9'!$I41<>0,'Respondent 9'!$I41," ") | Q32: =IF('Respondent 10'!$I41<>0,'Respondent 10'!$I41," ")
C33: 1. In onze groep is er ruimte voor de mening van elk groepslid. | F33: Creatieve community | G33: =AVERAGE(H33:Q33) -> #DIV/0! | H33: =IF('Respondent 1'!$I42<>0,'Respondent 1'!$I42," ") | I33: =IF('Respondent 2'!$I42<>0,'Respondent 2'!$I42," ") | J33: =IF('Respondent 3'!$I42<>0,'Respondent 3'!$I42," ") | K33: =IF('Respondent 4'!$I42<>0,'Respondent 4'!$I42," ") | L33: =IF('Respondent 5'!$I42<>0,'Respondent 5'!$I42," ") | M33: =IF('Respondent 6'!$I42<>0,'Respondent 6'!$I42," ") | N33: =IF('Respondent 7'!$I42<>0,'Respondent 7'!$I42," ") | O33: =IF('Respondent 8'!$I42<>0,'Respondent 8'!$I42," ") | P33: =IF('Respondent 9'!$I42<>0,'Respondent 9'!$I42," ") | Q33: =IF('Respondent 10'!$I42<>0,'Respondent 10'!$I42," ")
C34: 2. Problemen en lastige onderwerpen worden besproken en niet vermeden in onze gesprekken.
C35: 3. In het werken met deze groep worden mijn unieke kennis, vaardigheden en talenten gewaardeerd en gebruikt.
B37: Groepsevaluatie | D37: =G30 -> #DIV/0!
C38: 1. We nemen regelmatig de tijd om uit te zoeken hoe we het groepsproces kunnen verbeteren.
C39: 2. In deze groep is er telkens iemand die ervoor zorgt dat we even de tijd nemen om te reflecteren op het groepsproces.
C40: 3. We zijn het er als groep over eens dat het belangrijk is om het groepsproces te evalueren.
B42: Gedeelde mentale modellen | D42: =G31 -> #DIV/0!
C43: 1. Vanaf het begin was het duidelijk wat we als groep wilden bereiken.
C44: 2. Groepsleden begrijpen wat van hen verwacht wordt in hun rol als groepslid.
C45: 3. Kort na de start had de groep een gezamenlijk idee over welke taak we moesten volbrengen.
C46: 4. Kort na de start had de groep een gezamenlijk idee over hoe we die taak zouden gaan uitvoeren.
C47: 5. De groepsleden zijn gericht op het bereiken van de doelen die we gezamenlijk hebben.
B49: Een veilige en ondersteunende omgeving | D49: =G32 -> #DIV/0!
C50: 1. Het voelt veilig om successen te delen in deze groep.
C51: 2. Het is voelt veilig om aan te geven wat je nodig hebt in deze groep.
C52: 3. We voelen ons veilig om anderen in deze groep om hulp te vragen.
C53: 4. We kunnen vrijelijk ons enthousiasme over het werk met anderen in de groep delen.
C54: 5. Het is veilig om persoonlijke onzekerheden te delen met anderen in deze groep.
C55: 6. Verschillen tussen mensen in deze groep worden gerespecteerd.
C56: 7. Er is veel respect voor anderen in de groep.
C57: 8. Gevoelens van groepsleden worden geaccepteerd, net als gedachten en ideeën.
C58: 9. Als er meningsverschillen en conflicten zijn, wordt hiermee op respectvolle wijze omgegaan.
B60: Creatieve community | D60: =G33 -> #DIV/0!
C61: 1. Er is een goede sfeer in deze groep.
C62: 2. We voelen ons een hechte groep.
C63: 3. We zijn er trots op dat we een onderdeel van deze groep zijn.
C64: 4. Mensen voelen zich loyaal naar andere groepsleden. | F64: Er zijn drie mogelijke profielen. Deze worden hieronder beschreven met daarbij een suggestie voor de verdere samenwerking.
C65: 5. De meeste groepsleden houden ervan nieuwe dingen te proberen, zelfs als het soms nergens toe leidt.
C66: 6. De groepsleden houden ervan te experimenteren met andere werkwijzen. | F66: 1. Disharmonisch profiel
C67: 7. Als groep komen we telkens op geheel nieuwe ideeën. | F67: Voor een of enkele schalen is de gemiddelde score van de groep aanmerkelijk lager dan de score van andere schalen.
F68: Hierbij is het van belang om met elkaar te bespreken waarom juist die schalen lager scoren. Met elkaar maak je een plan
F69: hoe je dit kunt verbeteren.
F71: 2. Harmonisch laag profiel
F72: Alle schalen hebben een lage gemiddelde score bij dit profiel. Dit betekent dat de samenwerking nog niet goed verloopt.
F73: Het is dan belangrijk om als eerste te werken aan een veilige en ondersteunende omgeving. Je kunt activiteiten plannen
F74: om elkaar beter te leren kennen, de samenwerkingsvoorwaarden bespreken en vastleggen, en werken aan het gezamenlijk
F75: verantwoordelijkheid nemen voor het groepsproces.
F77: 3. Harmonisch hoog profiel
F78: Dit kan duiden op een heel goede samenwerking. Er is een klein risico dat deelnemers vooral sociaal wenselijk hebben
F79: geantwoord. Daarom is het goed om met elkaar te bespreken waarom het zo goed gaat zodat je deze werkwijze als groep
F80: kunt vasthouden.
B85: Copyright 2023 Inge Audenaerde en Miranda de Hei
